{"text_format":"1","workbook":"xlsx","n_sheets":6,"sheets":["WINDOM","ペア戦","100","200","300","400"],"not_rendered":{"charts":0,"images":25,"macros":1,"external_links":0,"defined_names":60,"comments":0,"pivot_tables":0},"unopened":[],"bounds":{"document_bytes":16777216,"sheet_cells":100000,"rows_first":2000,"rows_last":500,"rows_between":2000,"halvings":0,"cell_chars":16384,"cell_head_chars":4096},"cells_cut":0,"cells_raw":0,"read":"whole","date_system":"1900"}

{"sheet":"WINDOM","index":0,"n_rows":328,"n_cols":16,"rows_kept":328,"cut":false,"hidden":false,"merged":[[4,0,4,2],[4,3,4,11],[4,12,4,14]]}
[]
[null,"卓",5]
[null,"回",1,null,null,{"$f":"F327","v":0},null,{"$f":"H327","v":0},null,null,{"$f":"K327","v":0},null,null,{"$f":"N327","v":0},null,"←1回戦ごとの合計が表示される。"]
[null,null,"↓編集中","↓編集中",null,"↓編集中",null,"↓編集中",null,null,"↓編集中",null,null,"↓編集中",null,"←全てのデータが入力完了した/データを再修正したい時はここをダブルクリック"]
[{"$f":"TODAY()","v":"2017-06-20"},null,null,"（大会名）"]
["順位","№","氏　　　名","名　　称","卓番","１回戦","Ｒ","２回戦","小計","Ｒ","３回戦","小計","Ｒ","４回戦","合計"]
[{"$f":"DBCS(IF(O7=\"\",\"\",RANK(O7,O$7:O$326,0)))","v":""},null,null,null,null,null,{"$f":"IF(F7=\"\",\"\",RANK(F7,F$7:F$326,0))","v":""},null,{"$f":"IF(H7=\"\",\"\",F7+H7)","v":""},{"$f":"IF(I7=\"\",\"\",RANK(I7,I$7:I$326,0))","v":""},null,{"$f":"IF(K7=\"\",\"\",K7+I7)","v":""},{"$f":"IF(L7=\"\",\"\",RANK(L7,L$7:L$326,0))","v":""},null,{"$f":"IF(AND(F7=\"\",H7=\"\",K7=\"\",N7=\"\"),\"\",F7+H7+K7+N7)","v":""},1]
[{"$f":"DBCS(IF(O8=\"\",\"\",RANK(O8,O$7:O$326,0)))","v":""},null,null,null,null,null,"",null,"","",null,"","",null,"",1]
[{"$f":"DBCS(IF(O9=\"\",\"\",RANK(O9,O$7:O$326,0)))","v":""},null,null,null,null,null,"",null,"","",null,"","",null,"",1]
["",null,null,null,null,null,"",null,"","",null,"","",null,"",1]
["",null,null,null,null,null,"",null,"","",null,"","",null,"",2]
["",null,null,null,null,null,"",null,"","",null,"","",null,"",2]
["",null,null,null,null,null,"",null,"","",null,"","",null,"",2]
["",null,null,null,null,null,"",null,"","",null,"","",null,"",2]
["",null,null,null,null,null,"",null,"","",null,"","",null,"",3]
["",null,null,null,null,null,"",null,"","",null,"","",null,"",3]
["",null,null,null,null,null,"",null,"","",null,"","",null,"",3]
["",null,null,null,null,null,"",null,"","",null,"","",null,"",3]
["",null,null,null,null,null,"",null,"","",null,"","",null,"",4]
["",null,null,null,null,null,"",null,"","",null,"","",null,"",4]
["",null,null,null,null,null,"",null,"","",null,"","",null,"",4]
["",null,null,null,null,null,"",null,"","",null,"","",null,"",4]
["",null,null,null,null,null,"",null,"","",null,"","",null,"",5]
["",null,null,null,null,null,"",null,"","",null,"","",null,"",5]
["",null,null,null,null,null,"",null,"","",null,"","",null,"",5]
["",null,null,null,null,null,"",null,"","",null,"","",null,"",5]
["",null,null,null,null,null,"",null,"","",null,"","",null,"",6]
["",null,null,null,null,null,"",null,"","",null,"","",null,"",6]
["",null,null,null,null,null,"",null,"","",null,"","",null,"",6]
["",null,null,null,null,null,"",null,"","",null,"","",null,"",6]
["",null,null,null,null,null,"",null,"","",null,"","",null,"",7]
["",null,null,null,null,null,"",null,"","",null,"","",null,"",7]
["",null,null,null,null,null,"",null,"","",null,"","",null,"",7]
["",null,null,null,null,null,"",null,"","",null,"","",null,"",7]
["",null,null,null,null,null,"",null,"","",null,"","",null,"",8]
["",null,null,null,null,null,"",null,"","",null,"","",null,"",8]
["",null,null,null,null,null,"",null,"","",null,"","",null,"",8]
["",null,null,null,null,null,"",null,"","",null,"","",null,"",8]
["",null,null,null,null,null,{"$f":"IF(F39=\"\",\"\",RANK(F39,F$7:F$326,0))","v":""},null,{"$f":"IF(H39=\"\",\"\",F39+H39)","v":""},{"$f":"IF(I39=\"\",\"\",RANK(I39,I$7:I$326,0))","v":""},null,{"$f":"IF(K39=\"\",\"\",K39+I39)","v":""},{"$f":"IF(L39=\"\",\"\",RANK(L39,L$7:L$326,0))","v":""},null,{"$f":"IF(AND(F39=\"\",H39=\"\",K39=\"\",N39=\"\"),\"\",F39+H39+K39+N39)","v":""},9]
["",null,null,null,null,null,"",null,"","",null,"","",null,"",9]
["",null,null,null,null,null,"",null,"","",null,"","",null,"",9]
["",null,null,null,null,null,"",null,"","",null,"","",null,"",9]
["",null,null,null,null,null,"",null,"","",null,"","",null,"",10]
["",null,null,null,null,null,"",null,"","",null,"","",null,"",10]
["",null,null,null,null,null,"",null,"","",null,"","",null,"",10]
["",null,null,null,null,null,"",null,"","",null,"","",null,"",10]
["",null,null,null,null,null,"",null,"","",null,"","",null,"",11]
["",null,null,null,null,null,"",null,"","",null,"","",null,"",11]
["",null,null,null,null,null,"",null,"","",null,"","",null,"",11]
["",null,null,null,null,null,"",null,"","",null,"","",null,"",11]
["",null,null,null,null,null,"",null,"","",null,"","",null,"",12]
["",null,null,null,null,null,"",null,"","",null,"","",null,"",12]
["",null,null,null,null,null,"",null,"","",null,"","",null,"",12]
["",null,null,null,null,null,"",null,"","",null,"","",null,"",12]
["",null,null,null,null,null,"",null,"","",null,"","",null,"",13]
["",null,null,null,null,null,"",null,"","",null,"","",null,"",13]
["",null,null,null,null,null,"",null,"","",null,"","",null,"",13]
["",null,null,null,null,null,"",null,"","",null,"","",null,"",13]
["",null,null,null,null,null,"",null,"","",null,"","",null,"",14]
["",null,null,null,null,null,"",null,"","",null,"","",null,"",14]
["",null,null,null,null,null,"",null,"","",null,"","",null,"",14]
["",null,null,null,null,null,"",null,"","",null,"","",null,"",14]
["",null,null,null,null,null,"",null,"","",null,"","",null,"",15]
["",null,null,null,null,null,"",null,"","",null,"","",null,"",15]
["",null,null,null,null,null,"",null,"","",null,"","",null,"",15]
["",null,null,null,null,null,"",null,"","",null,"","",null,"",15]
["",null,null,null,null,null,"",null,"","",null,"","",null,"",16]
["",null,null,null,null,null,"",null,"","",null,"","",null,"",16]
["",null,null,null,null,null,"",null,"","",null,"","",null,"",16]
["",null,null,null,null,null,"",null,"","",null,"","",null,"",16]
["",null,null,null,null,null,{"$f":"IF(F71=\"\",\"\",RANK(F71,F$7:F$326,0))","v":""},null,{"$f":"IF(H71=\"\",\"\",F71+H71)","v":""},{"$f":"IF(I71=\"\",\"\",RANK(I71,I$7:I$326,0))","v":""},null,{"$f":"IF(K71=\"\",\"\",K71+I71)","v":""},{"$f":"IF(L71=\"\",\"\",RANK(L71,L$7:L$326,0))","v":""},null,{"$f":"IF(AND(F71=\"\",H71=\"\",K71=\"\",N71=\"\"),\"\",F71+H71+K71+N71)","v":""},17]
["",null,null,null,null,null,"",null,"","",null,"","",null,"",17]
[{"$f":"DBCS(IF(O73=\"\",\"\",RANK(O73,O$7:O$326,0)))","v":""},null,null,null,null,null,"",null,"","",null,"","",null,"",17]
["",null,null,null,null,null,"",null,"","",null,"","",null,"",17]
["",null,null,null,null,null,"",null,"","",null,"","",null,"",18]
["",null,null,null,null,null,"",null,"","",null,"","",null,"",18]
["",null,null,null,null,null,"",null,"","",null,"","",null,"",18]
["",null,null,null,null,null,"",null,"","",null,"","",null,"",18]
["",null,null,null,null,null,"",null,"","",null,"","",null,"",19]
["",null,null,null,null,null,"",null,"","",null,"","",null,"",19]
["",null,null,null,null,null,"",null,"","",null,"","",null,"",19]
["",null,null,null,null,null,"",null,"","",null,"","",null,"",19]
["",null,null,null,null,null,"",null,"","",null,"","",null,"",20]
["",null,null,null,null,null,"",null,"","",null,"","",null,"",20]
["",null,null,null,null,null,"",null,"","",null,"","",null,"",20]
["",null,null,null,null,null,"",null,"","",null,"","",null,"",20]
["",null,null,null,null,null,"",null,"","",null,"","",null,"",21]
["",null,null,null,null,null,"",null,"","",null,"","",null,"",21]
["",null,null,null,null,null,"",null,"","",null,"","",null,"",21]
["",null,null,null,null,null,"",null,"","",null,"","",null,"",21]
["",null,null,null,null,null,"",null,"","",null,"","",null,"",22]
["",null,null,null,null,null,"",null,"","",null,"","",null,"",22]
["",null,null,null,null,null,"",null,"","",null,"","",null,"",22]
["",null,null,null,null,null,"",null,"","",null,"","",null,"",22]
["",null,null,null,null,null,"",null,"","",null,"","",null,"",23]
["",null,null,null,null,null,"",null,"","",null,"","",null,"",23]
["",null,null,null,null,null,"",null,"","",null,"","",null,"",23]
["",null,null,null,null,null,"",null,"","",null,"","",null,"",23]
["",null,null,null,null,null,"",null,"","",null,"","",null,"",24]
["",null,null,null,null,null,"",null,"","",null,"","",null,"",24]
["",null,null,null,null,null,"",null,"","",null,"","",null,"",24]
["",null,null,null,null,null,"",null,"","",null,"","",null,"",24]
["",null,null,null,null,null,{"$f":"IF(F103=\"\",\"\",RANK(F103,F$7:F$326,0))","v":""},null,{"$f":"IF(H103=\"\",\"\",F103+H103)","v":""},{"$f":"IF(I103=\"\",\"\",RANK(I103,I$7:I$326,0))","v":""},null,{"$f":"IF(K103=\"\",\"\",K103+I103)","v":""},{"$f":"IF(L103=\"\",\"\",RANK(L103,L$7:L$326,0))","v":""},null,{"$f":"IF(AND(F103=\"\",H103=\"\",K103=\"\",N103=\"\"),\"\",F103+H103+K103+N103)","v":""},25]
["",null,null,null,null,null,"",null,"","",null,"","",null,"",25]
["",null,null,null,null,null,"",null,"","",null,"","",null,"",25]
["",null,null,null,null,null,"",null,"","",null,"","",null,"",25]
["",null,null,null,null,null,"",null,"","",null,"","",null,"",26]
["",null,null,null,null,null,"",null,"","",null,"","",null,"",26]
["",null,null,null,null,null,"",null,"","",null,"","",null,"",26]
["",null,null,null,null,null,"",null,"","",null,"","",null,"",26]
["",null,null,null,null,null,"",null,"","",null,"","",null,"",27]
["",null,null,null,null,null,"",null,"","",null,"","",null,"",27]
["",null,null,null,null,null,"",null,"","",null,"","",null,"",27]
["",null,null,null,null,null,"",null,"","",null,"","",null,"",27]
["",null,null,null,null,null,"",null,"","",null,"","",null,"",28]
["",null,null,null,null,null,"",null,"","",null,"","",null,"",28]
["",null,null,null,null,null,"",null,"","",null,"","",null,"",28]
["",null,null,null,null,null,"",null,"","",null,"","",null,"",28]
["",null,null,null,null,null,"",null,"","",null,"","",null,"",29]
["",null,null,null,null,null,"",null,"","",null,"","",null,"",29]
["",null,null,null,null,null,"",null,"","",null,"","",null,"",29]
["",null,null,null,null,null,"",null,"","",null,"","",null,"",29]
["",null,null,null,null,null,"",null,"","",null,"","",null,"",30]
["",null,null,null,null,null,"",null,"","",null,"","",null,"",30]
["",null,null,null,null,null,"",null,"","",null,"","",null,"",30]
["",null,null,null,null,null,"",null,"","",null,"","",null,"",30]
["",null,null,null,null,null,"",null,"","",null,"","",null,"",31]
["",null,null,null,null,null,"",null,"","",null,"","",null,"",31]
["",null,null,null,null,null,"",null,"","",null,"","",null,"",31]
["",null,null,null,null,null,"",null,"","",null,"","",null,"",31]
["",null,null,null,null,null,"",null,"","",null,"","",null,"",32]
["",null,null,null,null,null,"",null,"","",null,"","",null,"",32]
["",null,null,null,null,null,"",null,"","",null,"","",null,"",32]
["",null,null,null,null,null,"",null,"","",null,"","",null,"",32]
["",null,null,null,null,null,{"$f":"IF(F135=\"\",\"\",RANK(F135,F$7:F$326,0))","v":""},null,{"$f":"IF(H135=\"\",\"\",F135+H135)","v":""},{"$f":"IF(I135=\"\",\"\",RANK(I135,I$7:I$326,0))","v":""},null,{"$f":"IF(K135=\"\",\"\",K135+I135)","v":""},{"$f":"IF(L135=\"\",\"\",RANK(L135,L$7:L$326,0))","v":""},null,{"$f":"IF(AND(F135=\"\",H135=\"\",K135=\"\",N135=\"\"),\"\",F135+H135+K135+N135)","v":""},33]
["",null,null,null,null,null,"",null,"","",null,"","",null,"",33]
[{"$f":"DBCS(IF(O137=\"\",\"\",RANK(O137,O$7:O$326,0)))","v":""},null,null,null,null,null,"",null,"","",null,"","",null,"",33]
["",null,null,null,null,null,"",null,"","",null,"","",null,"",33]
["",null,null,null,null,null,"",null,"","",null,"","",null,"",34]
["",null,null,null,null,null,"",null,"","",null,"","",null,"",34]
["",null,null,null,null,null,"",null,"","",null,"","",null,"",34]
["",null,null,null,null,null,"",null,"","",null,"","",null,"",34]
["",null,null,null,null,null,{"$f":"IF(F143=\"\",\"\",RANK(F143,F$7:F$326,0))","v":""},null,{"$f":"IF(H143=\"\",\"\",F143+H143)","v":""},{"$f":"IF(I143=\"\",\"\",RANK(I143,I$7:I$326,0))","v":""},null,{"$f":"IF(K143=\"\",\"\",K143+I143)","v":""},{"$f":"IF(L143=\"\",\"\",RANK(L143,L$7:L$326,0))","v":""},null,{"$f":"IF(AND(F143=\"\",H143=\"\",K143=\"\",N143=\"\"),\"\",F143+H143+K143+N143)","v":""},35]
["",null,null,null,null,null,"",null,"","",null,"","",null,"",35]
["",null,null,null,null,null,"",null,"","",null,"","",null,"",35]
["",null,null,null,null,null,"",null,"","",null,"","",null,"",35]
["",null,null,null,null,null,"",null,"","",null,"","",null,"",36]
["",null,null,null,null,null,"",null,"","",null,"","",null,"",36]
["",null,null,null,null,null,"",null,"","",null,"","",null,"",36]
["",null,null,null,null,null,"",null,"","",null,"","",null,"",36]
["",null,null,null,null,null,"",null,"","",null,"","",null,"",37]
["",null,null,null,null,null,"",null,"","",null,"","",null,"",37]
["",null,null,null,null,null,"",null,"","",null,"","",null,"",37]
["",null,null,null,null,null,"",null,"","",null,"","",null,"",37]
["",null,null,null,null,null,"",null,"","",null,"","",null,"",38]
["",null,null,null,null,null,"",null,"","",null,"","",null,"",38]
["",null,null,null,null,null,"",null,"","",null,"","",null,"",38]
["",null,null,null,null,null,"",null,"","",null,"","",null,"",38]
["",null,null,null,null,null,"",null,"","",null,"","",null,"",39]
["",null,null,null,null,null,"",null,"","",null,"","",null,"",39]
["",null,null,null,null,null,"",null,"","",null,"","",null,"",39]
["",null,null,null,null,null,"",null,"","",null,"","",null,"",39]
["",null,null,null,null,null,"",null,"","",null,"","",null,"",40]
["",null,null,null,null,null,"",null,"","",null,"","",null,"",40]
["",null,null,null,null,null,"",null,"","",null,"","",null,"",40]
["",null,null,null,null,null,"",null,"","",null,"","",null,"",40]
["",null,null,null,null,null,{"$f":"IF(F167=\"\",\"\",RANK(F167,F$7:F$326,0))","v":""},null,{"$f":"IF(H167=\"\",\"\",F167+H167)","v":""},{"$f":"IF(I167=\"\",\"\",RANK(I167,I$7:I$326,0))","v":""},null,{"$f":"IF(K167=\"\",\"\",K167+I167)","v":""},{"$f":"IF(L167=\"\",\"\",RANK(L167,L$7:L$326,0))","v":""},null,{"$f":"IF(AND(F167=\"\",H167=\"\",K167=\"\",N167=\"\"),\"\",F167+H167+K167+N167)","v":""},41]
["",null,null,null,null,null,{"$f":"IF(F168=\"\",\"\",RANK(F168,F$7:F$326,0))","v":""},null,{"$f":"IF(H168=\"\",\"\",F168+H168)","v":""},{"$f":"IF(I168=\"\",\"\",RANK(I168,I$7:I$326,0))","v":""},null,{"$f":"IF(K168=\"\",\"\",K168+I168)","v":""},{"$f":"IF(L168=\"\",\"\",RANK(L168,L$7:L$326,0))","v":""},null,{"$f":"IF(AND(F168=\"\",H168=\"\",K168=\"\",N168=\"\"),\"\",F168+H168+K168+N168)","v":""},41]
["",null,null,null,null,null,{"$f":"IF(F169=\"\",\"\",RANK(F169,F$7:F$326,0))","v":""},null,{"$f":"IF(H169=\"\",\"\",F169+H169)","v":""},{"$f":"IF(I169=\"\",\"\",RANK(I169,I$7:I$326,0))","v":""},null,{"$f":"IF(K169=\"\",\"\",K169+I169)","v":""},{"$f":"IF(L169=\"\",\"\",RANK(L169,L$7:L$326,0))","v":""},null,{"$f":"IF(AND(F169=\"\",H169=\"\",K169=\"\",N169=\"\"),\"\",F169+H169+K169+N169)","v":""},41]
["",null,null,null,null,null,{"$f":"IF(F170=\"\",\"\",RANK(F170,F$7:F$326,0))","v":""},null,{"$f":"IF(H170=\"\",\"\",F170+H170)","v":""},{"$f":"IF(I170=\"\",\"\",RANK(I170,I$7:I$326,0))","v":""},null,{"$f":"IF(K170=\"\",\"\",K170+I170)","v":""},{"$f":"IF(L170=\"\",\"\",RANK(L170,L$7:L$326,0))","v":""},null,{"$f":"IF(AND(F170=\"\",H170=\"\",K170=\"\",N170=\"\"),\"\",F170+H170+K170+N170)","v":""},41]
["",null,null,null,null,null,{"$f":"IF(F171=\"\",\"\",RANK(F171,F$7:F$326,0))","v":""},null,{"$f":"IF(H171=\"\",\"\",F171+H171)","v":""},{"$f":"IF(I171=\"\",\"\",RANK(I171,I$7:I$326,0))","v":""},null,{"$f":"IF(K171=\"\",\"\",K171+I171)","v":""},{"$f":"IF(L171=\"\",\"\",RANK(L171,L$7:L$326,0))","v":""},null,{"$f":"IF(AND(F171=\"\",H171=\"\",K171=\"\",N171=\"\"),\"\",F171+H171+K171+N171)","v":""},42]
["",null,null,null,null,null,"",null,"","",null,"","",null,"",42]
["",null,null,null,null,null,"",null,"","",null,"","",null,"",42]
["",null,null,null,null,null,"",null,"","",null,"","",null,"",42]
["",null,null,null,null,null,"",null,"","",null,"","",null,"",43]
["",null,null,null,null,null,"",null,"","",null,"","",null,"",43]
["",null,null,null,null,null,"",null,"","",null,"","",null,"",43]
["",null,null,null,null,null,"",null,"","",null,"","",null,"",43]
["",null,null,null,null,null,"",null,"","",null,"","",null,"",44]
["",null,null,null,null,null,"",null,"","",null,"","",null,"",44]
["",null,null,null,null,null,"",null,"","",null,"","",null,"",44]
["",null,null,null,null,null,"",null,"","",null,"","",null,"",44]
["",null,null,null,null,null,"",null,"","",null,"","",null,"",45]
["",null,null,null,null,null,"",null,"","",null,"","",null,"",45]
["",null,null,null,null,null,"",null,"","",null,"","",null,"",45]
["",null,null,null,null,null,"",null,"","",null,"","",null,"",45]
["",null,null,null,null,null,"",null,"","",null,"","",null,"",46]
["",null,null,null,null,null,"",null,"","",null,"","",null,"",46]
["",null,null,null,null,null,"",null,"","",null,"","",null,"",46]
["",null,null,null,null,null,"",null,"","",null,"","",null,"",46]
["",null,null,null,null,null,"",null,"","",null,"","",null,"",47]
["",null,null,null,null,null,"",null,"","",null,"","",null,"",47]
["",null,null,null,null,null,"",null,"","",null,"","",null,"",47]
["",null,null,null,null,null,"",null,"","",null,"","",null,"",47]
["",null,null,null,null,null,"",null,"","",null,"","",null,"",48]
["",null,null,null,null,null,"",null,"","",null,"","",null,"",48]
["",null,null,null,null,null,"",null,"","",null,"","",null,"",48]
["",null,null,null,null,null,"",null,"","",null,"","",null,"",48]
["",null,null,null,null,null,{"$f":"IF(F199=\"\",\"\",RANK(F199,F$7:F$326,0))","v":""},null,{"$f":"IF(H199=\"\",\"\",F199+H199)","v":""},{"$f":"IF(I199=\"\",\"\",RANK(I199,I$7:I$326,0))","v":""},null,{"$f":"IF(K199=\"\",\"\",K199+I199)","v":""},{"$f":"IF(L199=\"\",\"\",RANK(L199,L$7:L$326,0))","v":""},null,{"$f":"IF(AND(F199=\"\",H199=\"\",K199=\"\",N199=\"\"),\"\",F199+H199+K199+N199)","v":""},49]
["",null,null,null,null,null,"",null,{"$f":"IF(H200=\"\",\"\",F200+H200)","v":""},"",null,{"$f":"IF(K200=\"\",\"\",K200+I200)","v":""},"",null,{"$f":"IF(AND(F200=\"\",H200=\"\",K200=\"\",N200=\"\"),\"\",F200+H200+K200+N200)","v":""},49]
[{"$f":"DBCS(IF(O201=\"\",\"\",RANK(O201,O$7:O$326,0)))","v":""},null,null,null,null,null,"",null,{"$f":"IF(H201=\"\",\"\",F201+H201)","v":""},"",null,{"$f":"IF(K201=\"\",\"\",K201+I201)","v":""},"",null,{"$f":"IF(AND(F201=\"\",H201=\"\",K201=\"\",N201=\"\"),\"\",F201+H201+K201+N201)","v":""},49]
["",null,null,null,null,null,"",null,"","",null,"","",null,"",49]
["",null,null,null,null,null,"",null,"","",null,"","",null,"",50]
["",null,null,null,null,null,"",null,"","",null,"","",null,"",50]
["",null,null,null,null,null,"",null,"","",null,"","",null,"",50]
["",null,null,null,null,null,"",null,"","",null,"","",null,"",50]
["",null,null,null,null,null,"",null,"","",null,"","",null,"",51]
["",null,null,null,null,null,"",null,"","",null,"","",null,"",51]
["",null,null,null,null,null,"",null,"","",null,"","",null,"",51]
["",null,null,null,null,null,"",null,"","",null,"","",null,"",51]
["",null,null,null,null,null,"",null,"","",null,"","",null,"",52]
["",null,null,null,null,null,"",null,"","",null,"","",null,"",52]
["",null,null,null,null,null,"",null,"","",null,"","",null,"",52]
["",null,null,null,null,null,"",null,"","",null,"","",null,"",52]
["",null,null,null,null,null,"",null,"","",null,"","",null,"",53]
["",null,null,null,null,null,"",null,"","",null,"","",null,"",53]
["",null,null,null,null,null,"",null,"","",null,"","",null,"",53]
["",null,null,null,null,null,"",null,"","",null,"","",null,"",53]
["",null,null,null,null,null,"",null,"","",null,"","",null,"",54]
["",null,null,null,null,null,"",null,"","",null,"","",null,"",54]
["",null,null,null,null,null,"",null,"","",null,"","",null,"",54]
["",null,null,null,null,null,"",null,"","",null,"","",null,"",54]
["",null,null,null,null,null,"",null,"","",null,"","",null,"",55]
["",null,null,null,null,null,"",null,"","",null,"","",null,"",55]
["",null,null,null,null,null,"",null,"","",null,"","",null,"",55]
["",null,null,null,null,null,"",null,"","",null,"","",null,"",55]
["",null,null,null,null,null,"",null,"","",null,"","",null,"",56]
["",null,null,null,null,null,"",null,"","",null,"","",null,"",56]
["",null,null,null,null,null,"",null,"","",null,"","",null,"",56]
["",null,null,null,null,null,"",null,"","",null,"","",null,"",56]
["",null,null,null,null,null,"",null,"","",null,"","",null,"",57]
["",null,null,null,null,null,"",null,"","",null,"","",null,"",57]
["",null,null,null,null,null,"",null,"","",null,"","",null,"",57]
["",null,null,null,null,null,"",null,"","",null,"","",null,"",57]
["",null,null,null,null,null,"",null,"","",null,"","",null,"",58]
["",null,null,null,null,null,"",null,"","",null,"","",null,"",58]
["",null,null,null,null,null,"",null,"","",null,"","",null,"",58]
["",null,null,null,null,null,"",null,"","",null,"","",null,"",58]
["",null,null,null,null,null,"",null,"","",null,"","",null,"",59]
["",null,null,null,null,null,"",null,"","",null,"","",null,"",59]
["",null,null,null,null,null,"",null,"","",null,"","",null,"",59]
["",null,null,null,null,null,"",null,"","",null,"","",null,"",59]
["",null,null,null,null,null,"",null,"","",null,"","",null,"",60]
["",null,null,null,null,null,"",null,"","",null,"","",null,"",60]
["",null,null,null,null,null,"",null,"","",null,"","",null,"",60]
["",null,null,null,null,null,"",null,"","",null,"","",null,"",60]
["",null,null,null,null,null,"",null,"","",null,"","",null,"",61]
["",null,null,null,null,null,"",null,"","",null,"","",null,"",61]
["",null,null,null,null,null,"",null,"","",null,"","",null,"",61]
["",null,null,null,null,null,"",null,"","",null,"","",null,"",61]
["",null,null,null,null,null,"",null,"","",null,"","",null,"",62]
["",null,null,null,null,null,"",null,"","",null,"","",null,"",62]
["",null,null,null,null,null,"",null,"","",null,"","",null,"",62]
["",null,null,null,null,null,"",null,"","",null,"","",null,"",62]
["",null,null,null,null,null,"",null,"","",null,"","",null,"",63]
["",null,null,null,null,null,"",null,"","",null,"","",null,"",63]
["",null,null,null,null,null,"",null,"","",null,"","",null,"",63]
["",null,null,null,null,null,"",null,"","",null,"","",null,"",63]
["",null,null,null,null,null,"",null,"","",null,"","",null,"",64]
["",null,null,null,null,null,"",null,"","",null,"","",null,"",64]
["",null,null,null,null,null,"",null,"","",null,"","",null,"",64]
["",null,null,null,null,null,"",null,"","",null,"","",null,"",64]
["",null,null,null,null,null,{"$f":"IF(F263=\"\",\"\",RANK(F263,F$7:F$326,0))","v":""},null,"",{"$f":"IF(I263=\"\",\"\",RANK(I263,I$7:I$326,0))","v":""},null,"",{"$f":"IF(L263=\"\",\"\",RANK(L263,L$7:L$326,0))","v":""},null,"",65]
["",null,null,null,null,null,"",null,"","",null,"","",null,"",65]
[{"$f":"DBCS(IF(O265=\"\",\"\",RANK(O265,O$7:O$326,0)))","v":""},null,null,null,null,null,"",null,{"$f":"IF(H265=\"\",\"\",F265+H265)","v":""},"",null,{"$f":"IF(K265=\"\",\"\",K265+I265)","v":""},"",null,{"$f":"IF(AND(F265=\"\",H265=\"\",K265=\"\",N265=\"\"),\"\",F265+H265+K265+N265)","v":""},65]
["",null,null,null,null,null,"",null,"","",null,"","",null,"",65]
["",null,null,null,null,null,"",null,"","",null,"","",null,"",66]
["",null,null,null,null,null,"",null,"","",null,"","",null,"",66]
["",null,null,null,null,null,"",null,"","",null,"","",null,"",66]
["",null,null,null,null,null,"",null,"","",null,"","",null,"",66]
["",null,null,null,null,null,"",null,"","",null,"","",null,"",67]
["",null,null,null,null,null,"",null,"","",null,"","",null,"",67]
["",null,null,null,null,null,"",null,"","",null,"","",null,"",67]
["",null,null,null,null,null,"",null,"","",null,"","",null,"",67]
["",null,null,null,null,null,"",null,"","",null,"","",null,"",68]
["",null,null,null,null,null,"",null,"","",null,"","",null,"",68]
["",null,null,null,null,null,"",null,"","",null,"","",null,"",68]
["",null,null,null,null,null,"",null,"","",null,"","",null,"",68]
["",null,null,null,null,null,"",null,"","",null,"","",null,"",69]
["",null,null,null,null,null,"",null,"","",null,"","",null,"",69]
["",null,null,null,null,null,"",null,"","",null,"","",null,"",69]
["",null,null,null,null,null,"",null,"","",null,"","",null,"",69]
["",null,null,null,null,null,"",null,"","",null,"","",null,"",70]
["",null,null,null,null,null,"",null,"","",null,"","",null,"",70]
["",null,null,null,null,null,"",null,"","",null,"","",null,"",70]
["",null,null,null,null,null,"",null,"","",null,"","",null,"",70]
["",null,null,null,null,null,"",null,"","",null,"","",null,"",71]
["",null,null,null,null,null,"",null,"","",null,"","",null,"",71]
["",null,null,null,null,null,"",null,"","",null,"","",null,"",71]
["",null,null,null,null,null,"",null,"","",null,"","",null,"",71]
["",null,null,null,null,null,"",null,"","",null,"","",null,"",72]
["",null,null,null,null,null,"",null,"","",null,"","",null,"",72]
["",null,null,null,null,null,"",null,"","",null,"","",null,"",72]
["",null,null,null,null,null,"",null,"","",null,"","",null,"",72]
["",null,null,null,null,null,"",null,"","",null,"","",null,"",73]
["",null,null,null,null,null,"",null,"","",null,"","",null,"",73]
["",null,null,null,null,null,"",null,"","",null,"","",null,"",73]
["",null,null,null,null,null,"",null,"","",null,"","",null,"",73]
["",null,null,null,null,null,"",null,"","",null,"","",null,"",74]
["",null,null,null,null,null,"",null,"","",null,"","",null,"",74]
["",null,null,null,null,null,"",null,"","",null,"","",null,"",74]
["",null,null,null,null,null,"",null,"","",null,"","",null,"",74]
["",null,null,null,null,null,"",null,"","",null,"","",null,"",75]
["",null,null,null,null,null,"",null,"","",null,"","",null,"",75]
["",null,null,null,null,null,"",null,"","",null,"","",null,"",75]
["",null,null,null,null,null,"",null,"","",null,"","",null,"",75]
["",null,null,null,null,null,"",null,"","",null,"","",null,"",76]
["",null,null,null,null,null,"",null,"","",null,"","",null,"",76]
["",null,null,null,null,null,"",null,"","",null,"","",null,"",76]
["",null,null,null,null,null,"",null,"","",null,"","",null,"",76]
["",null,null,null,null,null,"",null,"","",null,"","",null,"",77]
["",null,null,null,null,null,"",null,"","",null,"","",null,"",77]
["",null,null,null,null,null,"",null,"","",null,"","",null,"",77]
["",null,null,null,null,null,"",null,"","",null,"","",null,"",77]
["",null,null,null,null,null,"",null,"","",null,"","",null,"",78]
["",null,null,null,null,null,"",null,"","",null,"","",null,"",78]
["",null,null,null,null,null,"",null,"","",null,"","",null,"",78]
["",null,null,null,null,null,"",null,"","",null,"","",null,"",78]
["",null,null,null,null,null,"",null,"","",null,"","",null,"",79]
["",null,null,null,null,null,"",null,"","",null,"","",null,"",79]
["",null,null,null,null,null,"",null,"","",null,"","",null,"",79]
["",null,null,null,null,null,"",null,"","",null,"","",null,"",79]
["",null,null,null,null,null,"",null,"","",null,"","",null,"",80]
["",null,null,null,null,null,"",null,"","",null,"","",null,"",80]
["",null,null,null,null,null,"",null,"","",null,"","",null,"",80]
["",null,null,null,null,null,"",null,"","",null,"","",null,"",80]
[null,null,null,null,null,{"$f":"SUM(F7:F326)","v":0},null,{"$f":"SUM(H7:H326)","v":0},null,null,{"$f":"SUM(K7:K326)","v":0},null,null,{"$f":"SUM(N7:N326)","v":0},{"$f":"SUM(O7:O326)","v":0}]
[null,null,null,null,null,{"$f":"MOD(COUNT(F7:F326), 4)","v":0},null,{"$f":"MOD(COUNT(H7:H326), 4)","v":0},null,null,{"$f":"MOD(COUNT(K7:K326), 4)","v":0},null,null,{"$f":"MOD(COUNT(N7:N326), 4)","v":0}]

{"sheet":"ペア戦","index":1,"n_rows":89,"n_cols":15,"rows_kept":89,"cut":false,"hidden":false,"merged":[[4,0,4,2],[4,3,4,10],[4,11,4,13]]}
[]
[]
[null,null,null,null,{"$f":"E88","v":0},null,{"$f":"G88","v":0},null,null,{"$f":"J88","v":0},null,null,{"$f":"M88","v":0},null,"←1回戦ごとの合計が表示される。"]
[null,null,"↓編集中","↓編集中","↓編集中",null,"↓編集中",null,null,"↓編集中",null,null,"↓編集中",null,"←全てのデータが入力完了した/データを再修正したい時はここをダブルクリック"]
[{"$f":"WINDOM!A5","v":"2017-06-20"},null,null,{"$f":"WINDOM!D5","v":"（大会名）"},null,null,null,null,null,null,null,{"$f":"WINDOM!M5","v":0}]
["順位","学校名","メンバー1","メンバー2","１回戦","Ｒ","２回戦","小計","Ｒ","３回戦","小計","Ｒ","４回戦","合計"]
[null,null,null,null,{"$f":"SUMIF(WINDOM!$D$7:$D$326,\"※*\",WINDOM!F$7:F$326)","v":0},null,{"$f":"SUMIF(WINDOM!$D$7:$D$326,\"※*\",WINDOM!H$7:H$326)","v":0},null,null,{"$f":"SUMIF(WINDOM!$D$7:$D$326,\"※*\",WINDOM!K$7:K$326)","v":0},null,null,{"$f":"SUMIF(WINDOM!$D$7:$D$326,\"※*\",WINDOM!N$7:N$326)","v":0},{"$f":"IF(AND(E7=\"\",G7=\"\",J7=\"\",M7=\"\"),\"\",E7+G7+J7+M7)","v":0}]
[{"$f":"DBCS(IF(N8=\"\",\"\",RANK(N8,N$8:N$87,0)))","v":""},null,null,null,{"$f":"IF(OR(B8=\"\",WINDOM!F$7=\"\"),\"\",SUMIF(WINDOM!$D$7:$D$326,B8,WINDOM!F$7:F$326))","v":""},{"$f":"IF(E8=\"\",\"\",RANK(E8,E$8:E$87,0))","v":""},{"$f":"IF(OR(B8=\"\",WINDOM!H$7=\"\"),\"\",SUMIF(WINDOM!$D$7:$D$326,B8,WINDOM!H$7:H$326))","v":""},{"$f":"IF(G8=\"\",\"\",E8+G8)","v":""},{"$f":"IF(H8=\"\",\"\",RANK(H8,H$8:H$87,0))","v":""},{"$f":"IF(OR(B8=\"\",WINDOM!K$7=\"\"),\"\",SUMIF(WINDOM!$D$7:$D$326,B8,WINDOM!K$7:K$326))","v":""},{"$f":"IF(J8=\"\",\"\",J8+H8)","v":""},{"$f":"IF(K8=\"\",\"\",RANK(K8,K$8:K$87,0))","v":""},{"$f":"IF(OR(B8=\"\",WINDOM!N$7=\"\"),\"\",SUMIF(WINDOM!$D$7:$D$326,B8,WINDOM!N$7:N$326))","v":""},{"$f":"IF(AND(E8=\"\",G8=\"\",J8=\"\",M8=\"\"),\"\",SUM(E8,G8,J8,M8))","v":""},1]
[{"$f":"DBCS(IF(N9=\"\",\"\",RANK(N9,N$8:N$87,0)))","v":""},null,null,null,{"$f":"IF(OR(B9=\"\",WINDOM!F$7=\"\"),\"\",SUMIF(WINDOM!$D$7:$D$326,B9,WINDOM!F$7:F$326))","v":""},"",{"$f":"IF(OR(B9=\"\",WINDOM!H$7=\"\"),\"\",SUMIF(WINDOM!$D$7:$D$326,B9,WINDOM!H$7:H$326))","v":""},"","",{"$f":"IF(OR(B9=\"\",WINDOM!K$7=\"\"),\"\",SUMIF(WINDOM!$D$7:$D$326,B9,WINDOM!K$7:K$326))","v":""},"","",{"$f":"IF(OR(B9=\"\",WINDOM!N$7=\"\"),\"\",SUMIF(WINDOM!$D$7:$D$326,B9,WINDOM!N$7:N$326))","v":""},"",1]
["",null,null,null,{"$f":"IF(OR(B10=\"\",WINDOM!F$7=\"\"),\"\",SUMIF(WINDOM!$D$7:$D$326,B10,WINDOM!F$7:F$326))","v":""},"",{"$f":"IF(OR(B10=\"\",WINDOM!H$7=\"\"),\"\",SUMIF(WINDOM!$D$7:$D$326,B10,WINDOM!H$7:H$326))","v":""},"","",{"$f":"IF(OR(B10=\"\",WINDOM!K$7=\"\"),\"\",SUMIF(WINDOM!$D$7:$D$326,B10,WINDOM!K$7:K$326))","v":""},"","",{"$f":"IF(OR(B10=\"\",WINDOM!N$7=\"\"),\"\",SUMIF(WINDOM!$D$7:$D$326,B10,WINDOM!N$7:N$326))","v":""},"",1]
["",null,null,null,{"$f":"IF(OR(B11=\"\",WINDOM!F$7=\"\"),\"\",SUMIF(WINDOM!$D$7:$D$326,B11,WINDOM!F$7:F$326))","v":""},"",{"$f":"IF(OR(B11=\"\",WINDOM!H$7=\"\"),\"\",SUMIF(WINDOM!$D$7:$D$326,B11,WINDOM!H$7:H$326))","v":""},"","",{"$f":"IF(OR(B11=\"\",WINDOM!K$7=\"\"),\"\",SUMIF(WINDOM!$D$7:$D$326,B11,WINDOM!K$7:K$326))","v":""},"","",{"$f":"IF(OR(B11=\"\",WINDOM!N$7=\"\"),\"\",SUMIF(WINDOM!$D$7:$D$326,B11,WINDOM!N$7:N$326))","v":""},"",1]
["",null,null,null,{"$f":"IF(OR(B12=\"\",WINDOM!F$7=\"\"),\"\",SUMIF(WINDOM!$D$7:$D$326,B12,WINDOM!F$7:F$326))","v":""},"",{"$f":"IF(OR(B12=\"\",WINDOM!H$7=\"\"),\"\",SUMIF(WINDOM!$D$7:$D$326,B12,WINDOM!H$7:H$326))","v":""},"","",{"$f":"IF(OR(B12=\"\",WINDOM!K$7=\"\"),\"\",SUMIF(WINDOM!$D$7:$D$326,B12,WINDOM!K$7:K$326))","v":""},"","",{"$f":"IF(OR(B12=\"\",WINDOM!N$7=\"\"),\"\",SUMIF(WINDOM!$D$7:$D$326,B12,WINDOM!N$7:N$326))","v":""},"",2]
["",null,null,null,{"$f":"IF(OR(B13=\"\",WINDOM!F$7=\"\"),\"\",SUMIF(WINDOM!$D$7:$D$326,B13,WINDOM!F$7:F$326))","v":""},"",{"$f":"IF(OR(B13=\"\",WINDOM!H$7=\"\"),\"\",SUMIF(WINDOM!$D$7:$D$326,B13,WINDOM!H$7:H$326))","v":""},"","",{"$f":"IF(OR(B13=\"\",WINDOM!K$7=\"\"),\"\",SUMIF(WINDOM!$D$7:$D$326,B13,WINDOM!K$7:K$326))","v":""},"","",{"$f":"IF(OR(B13=\"\",WINDOM!N$7=\"\"),\"\",SUMIF(WINDOM!$D$7:$D$326,B13,WINDOM!N$7:N$326))","v":""},"",2]
["",null,null,null,{"$f":"IF(OR(B14=\"\",WINDOM!F$7=\"\"),\"\",SUMIF(WINDOM!$D$7:$D$326,B14,WINDOM!F$7:F$326))","v":""},"",{"$f":"IF(OR(B14=\"\",WINDOM!H$7=\"\"),\"\",SUMIF(WINDOM!$D$7:$D$326,B14,WINDOM!H$7:H$326))","v":""},"","",{"$f":"IF(OR(B14=\"\",WINDOM!K$7=\"\"),\"\",SUMIF(WINDOM!$D$7:$D$326,B14,WINDOM!K$7:K$326))","v":""},"","",{"$f":"IF(OR(B14=\"\",WINDOM!N$7=\"\"),\"\",SUMIF(WINDOM!$D$7:$D$326,B14,WINDOM!N$7:N$326))","v":""},"",2]
["",null,null,null,{"$f":"IF(OR(B15=\"\",WINDOM!F$7=\"\"),\"\",SUMIF(WINDOM!$D$7:$D$326,B15,WINDOM!F$7:F$326))","v":""},"",{"$f":"IF(OR(B15=\"\",WINDOM!H$7=\"\"),\"\",SUMIF(WINDOM!$D$7:$D$326,B15,WINDOM!H$7:H$326))","v":""},"","",{"$f":"IF(OR(B15=\"\",WINDOM!K$7=\"\"),\"\",SUMIF(WINDOM!$D$7:$D$326,B15,WINDOM!K$7:K$326))","v":""},"","",{"$f":"IF(OR(B15=\"\",WINDOM!N$7=\"\"),\"\",SUMIF(WINDOM!$D$7:$D$326,B15,WINDOM!N$7:N$326))","v":""},"",2]
["",null,null,null,{"$f":"IF(OR(B16=\"\",WINDOM!F$7=\"\"),\"\",SUMIF(WINDOM!$D$7:$D$326,B16,WINDOM!F$7:F$326))","v":""},"",{"$f":"IF(OR(B16=\"\",WINDOM!H$7=\"\"),\"\",SUMIF(WINDOM!$D$7:$D$326,B16,WINDOM!H$7:H$326))","v":""},"","",{"$f":"IF(OR(B16=\"\",WINDOM!K$7=\"\"),\"\",SUMIF(WINDOM!$D$7:$D$326,B16,WINDOM!K$7:K$326))","v":""},"","",{"$f":"IF(OR(B16=\"\",WINDOM!N$7=\"\"),\"\",SUMIF(WINDOM!$D$7:$D$326,B16,WINDOM!N$7:N$326))","v":""},"",3]
["",null,null,null,{"$f":"IF(OR(B17=\"\",WINDOM!F$7=\"\"),\"\",SUMIF(WINDOM!$D$7:$D$326,B17,WINDOM!F$7:F$326))","v":""},"",{"$f":"IF(OR(B17=\"\",WINDOM!H$7=\"\"),\"\",SUMIF(WINDOM!$D$7:$D$326,B17,WINDOM!H$7:H$326))","v":""},"","",{"$f":"IF(OR(B17=\"\",WINDOM!K$7=\"\"),\"\",SUMIF(WINDOM!$D$7:$D$326,B17,WINDOM!K$7:K$326))","v":""},"","",{"$f":"IF(OR(B17=\"\",WINDOM!N$7=\"\"),\"\",SUMIF(WINDOM!$D$7:$D$326,B17,WINDOM!N$7:N$326))","v":""},"",3]
["",null,null,null,{"$f":"IF(OR(B18=\"\",WINDOM!F$7=\"\"),\"\",SUMIF(WINDOM!$D$7:$D$326,B18,WINDOM!F$7:F$326))","v":""},"",{"$f":"IF(OR(B18=\"\",WINDOM!H$7=\"\"),\"\",SUMIF(WINDOM!$D$7:$D$326,B18,WINDOM!H$7:H$326))","v":""},"","",{"$f":"IF(OR(B18=\"\",WINDOM!K$7=\"\"),\"\",SUMIF(WINDOM!$D$7:$D$326,B18,WINDOM!K$7:K$326))","v":""},"","",{"$f":"IF(OR(B18=\"\",WINDOM!N$7=\"\"),\"\",SUMIF(WINDOM!$D$7:$D$326,B18,WINDOM!N$7:N$326))","v":""},"",3]
["",null,null,null,{"$f":"IF(OR(B19=\"\",WINDOM!F$7=\"\"),\"\",SUMIF(WINDOM!$D$7:$D$326,B19,WINDOM!F$7:F$326))","v":""},"",{"$f":"IF(OR(B19=\"\",WINDOM!H$7=\"\"),\"\",SUMIF(WINDOM!$D$7:$D$326,B19,WINDOM!H$7:H$326))","v":""},"","",{"$f":"IF(OR(B19=\"\",WINDOM!K$7=\"\"),\"\",SUMIF(WINDOM!$D$7:$D$326,B19,WINDOM!K$7:K$326))","v":""},"","",{"$f":"IF(OR(B19=\"\",WINDOM!N$7=\"\"),\"\",SUMIF(WINDOM!$D$7:$D$326,B19,WINDOM!N$7:N$326))","v":""},"",3]
["",null,null,null,{"$f":"IF(OR(B20=\"\",WINDOM!F$7=\"\"),\"\",SUMIF(WINDOM!$D$7:$D$326,B20,WINDOM!F$7:F$326))","v":""},"",{"$f":"IF(OR(B20=\"\",WINDOM!H$7=\"\"),\"\",SUMIF(WINDOM!$D$7:$D$326,B20,WINDOM!H$7:H$326))","v":""},"","",{"$f":"IF(OR(B20=\"\",WINDOM!K$7=\"\"),\"\",SUMIF(WINDOM!$D$7:$D$326,B20,WINDOM!K$7:K$326))","v":""},"","",{"$f":"IF(OR(B20=\"\",WINDOM!N$7=\"\"),\"\",SUMIF(WINDOM!$D$7:$D$326,B20,WINDOM!N$7:N$326))","v":""},"",4]
["",null,null,null,{"$f":"IF(OR(B21=\"\",WINDOM!F$7=\"\"),\"\",SUMIF(WINDOM!$D$7:$D$326,B21,WINDOM!F$7:F$326))","v":""},"",{"$f":"IF(OR(B21=\"\",WINDOM!H$7=\"\"),\"\",SUMIF(WINDOM!$D$7:$D$326,B21,WINDOM!H$7:H$326))","v":""},"","",{"$f":"IF(OR(B21=\"\",WINDOM!K$7=\"\"),\"\",SUMIF(WINDOM!$D$7:$D$326,B21,WINDOM!K$7:K$326))","v":""},"","",{"$f":"IF(OR(B21=\"\",WINDOM!N$7=\"\"),\"\",SUMIF(WINDOM!$D$7:$D$326,B21,WINDOM!N$7:N$326))","v":""},"",4]
["",null,null,null,{"$f":"IF(OR(B22=\"\",WINDOM!F$7=\"\"),\"\",SUMIF(WINDOM!$D$7:$D$326,B22,WINDOM!F$7:F$326))","v":""},"",{"$f":"IF(OR(B22=\"\",WINDOM!H$7=\"\"),\"\",SUMIF(WINDOM!$D$7:$D$326,B22,WINDOM!H$7:H$326))","v":""},"","",{"$f":"IF(OR(B22=\"\",WINDOM!K$7=\"\"),\"\",SUMIF(WINDOM!$D$7:$D$326,B22,WINDOM!K$7:K$326))","v":""},"","",{"$f":"IF(OR(B22=\"\",WINDOM!N$7=\"\"),\"\",SUMIF(WINDOM!$D$7:$D$326,B22,WINDOM!N$7:N$326))","v":""},"",4]
["",null,null,null,{"$f":"IF(OR(B23=\"\",WINDOM!F$7=\"\"),\"\",SUMIF(WINDOM!$D$7:$D$326,B23,WINDOM!F$7:F$326))","v":""},"",{"$f":"IF(OR(B23=\"\",WINDOM!H$7=\"\"),\"\",SUMIF(WINDOM!$D$7:$D$326,B23,WINDOM!H$7:H$326))","v":""},"","",{"$f":"IF(OR(B23=\"\",WINDOM!K$7=\"\"),\"\",SUMIF(WINDOM!$D$7:$D$326,B23,WINDOM!K$7:K$326))","v":""},"","",{"$f":"IF(OR(B23=\"\",WINDOM!N$7=\"\"),\"\",SUMIF(WINDOM!$D$7:$D$326,B23,WINDOM!N$7:N$326))","v":""},"",4]
["",null,null,null,{"$f":"IF(OR(B24=\"\",WINDOM!F$7=\"\"),\"\",SUMIF(WINDOM!$D$7:$D$326,B24,WINDOM!F$7:F$326))","v":""},"",{"$f":"IF(OR(B24=\"\",WINDOM!H$7=\"\"),\"\",SUMIF(WINDOM!$D$7:$D$326,B24,WINDOM!H$7:H$326))","v":""},"","",{"$f":"IF(OR(B24=\"\",WINDOM!K$7=\"\"),\"\",SUMIF(WINDOM!$D$7:$D$326,B24,WINDOM!K$7:K$326))","v":""},"","",{"$f":"IF(OR(B24=\"\",WINDOM!N$7=\"\"),\"\",SUMIF(WINDOM!$D$7:$D$326,B24,WINDOM!N$7:N$326))","v":""},"",5]
["",null,null,null,{"$f":"IF(OR(B25=\"\",WINDOM!F$7=\"\"),\"\",SUMIF(WINDOM!$D$7:$D$326,B25,WINDOM!F$7:F$326))","v":""},"",{"$f":"IF(OR(B25=\"\",WINDOM!H$7=\"\"),\"\",SUMIF(WINDOM!$D$7:$D$326,B25,WINDOM!H$7:H$326))","v":""},"","",{"$f":"IF(OR(B25=\"\",WINDOM!K$7=\"\"),\"\",SUMIF(WINDOM!$D$7:$D$326,B25,WINDOM!K$7:K$326))","v":""},"","",{"$f":"IF(OR(B25=\"\",WINDOM!N$7=\"\"),\"\",SUMIF(WINDOM!$D$7:$D$326,B25,WINDOM!N$7:N$326))","v":""},"",5]
["",null,null,null,{"$f":"IF(OR(B26=\"\",WINDOM!F$7=\"\"),\"\",SUMIF(WINDOM!$D$7:$D$326,B26,WINDOM!F$7:F$326))","v":""},"",{"$f":"IF(OR(B26=\"\",WINDOM!H$7=\"\"),\"\",SUMIF(WINDOM!$D$7:$D$326,B26,WINDOM!H$7:H$326))","v":""},"","",{"$f":"IF(OR(B26=\"\",WINDOM!K$7=\"\"),\"\",SUMIF(WINDOM!$D$7:$D$326,B26,WINDOM!K$7:K$326))","v":""},"","",{"$f":"IF(OR(B26=\"\",WINDOM!N$7=\"\"),\"\",SUMIF(WINDOM!$D$7:$D$326,B26,WINDOM!N$7:N$326))","v":""},"",5]
["",null,null,null,{"$f":"IF(OR(B27=\"\",WINDOM!F$7=\"\"),\"\",SUMIF(WINDOM!$D$7:$D$326,B27,WINDOM!F$7:F$326))","v":""},"",{"$f":"IF(OR(B27=\"\",WINDOM!H$7=\"\"),\"\",SUMIF(WINDOM!$D$7:$D$326,B27,WINDOM!H$7:H$326))","v":""},"","",{"$f":"IF(OR(B27=\"\",WINDOM!K$7=\"\"),\"\",SUMIF(WINDOM!$D$7:$D$326,B27,WINDOM!K$7:K$326))","v":""},"","",{"$f":"IF(OR(B27=\"\",WINDOM!N$7=\"\"),\"\",SUMIF(WINDOM!$D$7:$D$326,B27,WINDOM!N$7:N$326))","v":""},"",5]
["",null,null,null,{"$f":"IF(OR(B28=\"\",WINDOM!F$7=\"\"),\"\",SUMIF(WINDOM!$D$7:$D$326,B28,WINDOM!F$7:F$326))","v":""},"",{"$f":"IF(OR(B28=\"\",WINDOM!H$7=\"\"),\"\",SUMIF(WINDOM!$D$7:$D$326,B28,WINDOM!H$7:H$326))","v":""},"","",{"$f":"IF(OR(B28=\"\",WINDOM!K$7=\"\"),\"\",SUMIF(WINDOM!$D$7:$D$326,B28,WINDOM!K$7:K$326))","v":""},"","",{"$f":"IF(OR(B28=\"\",WINDOM!N$7=\"\"),\"\",SUMIF(WINDOM!$D$7:$D$326,B28,WINDOM!N$7:N$326))","v":""},"",6]
["",null,null,null,{"$f":"IF(OR(B29=\"\",WINDOM!F$7=\"\"),\"\",SUMIF(WINDOM!$D$7:$D$326,B29,WINDOM!F$7:F$326))","v":""},"",{"$f":"IF(OR(B29=\"\",WINDOM!H$7=\"\"),\"\",SUMIF(WINDOM!$D$7:$D$326,B29,WINDOM!H$7:H$326))","v":""},"","",{"$f":"IF(OR(B29=\"\",WINDOM!K$7=\"\"),\"\",SUMIF(WINDOM!$D$7:$D$326,B29,WINDOM!K$7:K$326))","v":""},"","",{"$f":"IF(OR(B29=\"\",WINDOM!N$7=\"\"),\"\",SUMIF(WINDOM!$D$7:$D$326,B29,WINDOM!N$7:N$326))","v":""},"",6]
["",null,null,null,{"$f":"IF(OR(B30=\"\",WINDOM!F$7=\"\"),\"\",SUMIF(WINDOM!$D$7:$D$326,B30,WINDOM!F$7:F$326))","v":""},"",{"$f":"IF(OR(B30=\"\",WINDOM!H$7=\"\"),\"\",SUMIF(WINDOM!$D$7:$D$326,B30,WINDOM!H$7:H$326))","v":""},"","",{"$f":"IF(OR(B30=\"\",WINDOM!K$7=\"\"),\"\",SUMIF(WINDOM!$D$7:$D$326,B30,WINDOM!K$7:K$326))","v":""},"","",{"$f":"IF(OR(B30=\"\",WINDOM!N$7=\"\"),\"\",SUMIF(WINDOM!$D$7:$D$326,B30,WINDOM!N$7:N$326))","v":""},"",6]
["",null,null,null,{"$f":"IF(OR(B31=\"\",WINDOM!F$7=\"\"),\"\",SUMIF(WINDOM!$D$7:$D$326,B31,WINDOM!F$7:F$326))","v":""},"",{"$f":"IF(OR(B31=\"\",WINDOM!H$7=\"\"),\"\",SUMIF(WINDOM!$D$7:$D$326,B31,WINDOM!H$7:H$326))","v":""},"","",{"$f":"IF(OR(B31=\"\",WINDOM!K$7=\"\"),\"\",SUMIF(WINDOM!$D$7:$D$326,B31,WINDOM!K$7:K$326))","v":""},"","",{"$f":"IF(OR(B31=\"\",WINDOM!N$7=\"\"),\"\",SUMIF(WINDOM!$D$7:$D$326,B31,WINDOM!N$7:N$326))","v":""},"",6]
["",null,null,null,{"$f":"IF(OR(B32=\"\",WINDOM!F$7=\"\"),\"\",SUMIF(WINDOM!$D$7:$D$326,B32,WINDOM!F$7:F$326))","v":""},"",{"$f":"IF(OR(B32=\"\",WINDOM!H$7=\"\"),\"\",SUMIF(WINDOM!$D$7:$D$326,B32,WINDOM!H$7:H$326))","v":""},"","",{"$f":"IF(OR(B32=\"\",WINDOM!K$7=\"\"),\"\",SUMIF(WINDOM!$D$7:$D$326,B32,WINDOM!K$7:K$326))","v":""},"","",{"$f":"IF(OR(B32=\"\",WINDOM!N$7=\"\"),\"\",SUMIF(WINDOM!$D$7:$D$326,B32,WINDOM!N$7:N$326))","v":""},"",7]
["",null,null,null,{"$f":"IF(OR(B33=\"\",WINDOM!F$7=\"\"),\"\",SUMIF(WINDOM!$D$7:$D$326,B33,WINDOM!F$7:F$326))","v":""},"",{"$f":"IF(OR(B33=\"\",WINDOM!H$7=\"\"),\"\",SUMIF(WINDOM!$D$7:$D$326,B33,WINDOM!H$7:H$326))","v":""},"","",{"$f":"IF(OR(B33=\"\",WINDOM!K$7=\"\"),\"\",SUMIF(WINDOM!$D$7:$D$326,B33,WINDOM!K$7:K$326))","v":""},"","",{"$f":"IF(OR(B33=\"\",WINDOM!N$7=\"\"),\"\",SUMIF(WINDOM!$D$7:$D$326,B33,WINDOM!N$7:N$326))","v":""},"",7]
["",null,null,null,{"$f":"IF(OR(B34=\"\",WINDOM!F$7=\"\"),\"\",SUMIF(WINDOM!$D$7:$D$326,B34,WINDOM!F$7:F$326))","v":""},"",{"$f":"IF(OR(B34=\"\",WINDOM!H$7=\"\"),\"\",SUMIF(WINDOM!$D$7:$D$326,B34,WINDOM!H$7:H$326))","v":""},"","",{"$f":"IF(OR(B34=\"\",WINDOM!K$7=\"\"),\"\",SUMIF(WINDOM!$D$7:$D$326,B34,WINDOM!K$7:K$326))","v":""},"","",{"$f":"IF(OR(B34=\"\",WINDOM!N$7=\"\"),\"\",SUMIF(WINDOM!$D$7:$D$326,B34,WINDOM!N$7:N$326))","v":""},"",7]
["",null,null,null,{"$f":"IF(OR(B35=\"\",WINDOM!F$7=\"\"),\"\",SUMIF(WINDOM!$D$7:$D$326,B35,WINDOM!F$7:F$326))","v":""},"",{"$f":"IF(OR(B35=\"\",WINDOM!H$7=\"\"),\"\",SUMIF(WINDOM!$D$7:$D$326,B35,WINDOM!H$7:H$326))","v":""},"","",{"$f":"IF(OR(B35=\"\",WINDOM!K$7=\"\"),\"\",SUMIF(WINDOM!$D$7:$D$326,B35,WINDOM!K$7:K$326))","v":""},"","",{"$f":"IF(OR(B35=\"\",WINDOM!N$7=\"\"),\"\",SUMIF(WINDOM!$D$7:$D$326,B35,WINDOM!N$7:N$326))","v":""},"",7]
["",null,null,null,{"$f":"IF(OR(B36=\"\",WINDOM!F$7=\"\"),\"\",SUMIF(WINDOM!$D$7:$D$326,B36,WINDOM!F$7:F$326))","v":""},"",{"$f":"IF(OR(B36=\"\",WINDOM!H$7=\"\"),\"\",SUMIF(WINDOM!$D$7:$D$326,B36,WINDOM!H$7:H$326))","v":""},"","",{"$f":"IF(OR(B36=\"\",WINDOM!K$7=\"\"),\"\",SUMIF(WINDOM!$D$7:$D$326,B36,WINDOM!K$7:K$326))","v":""},"","",{"$f":"IF(OR(B36=\"\",WINDOM!N$7=\"\"),\"\",SUMIF(WINDOM!$D$7:$D$326,B36,WINDOM!N$7:N$326))","v":""},"",8]
["",null,null,null,{"$f":"IF(OR(B37=\"\",WINDOM!F$7=\"\"),\"\",SUMIF(WINDOM!$D$7:$D$326,B37,WINDOM!F$7:F$326))","v":""},"",{"$f":"IF(OR(B37=\"\",WINDOM!H$7=\"\"),\"\",SUMIF(WINDOM!$D$7:$D$326,B37,WINDOM!H$7:H$326))","v":""},"","",{"$f":"IF(OR(B37=\"\",WINDOM!K$7=\"\"),\"\",SUMIF(WINDOM!$D$7:$D$326,B37,WINDOM!K$7:K$326))","v":""},"","",{"$f":"IF(OR(B37=\"\",WINDOM!N$7=\"\"),\"\",SUMIF(WINDOM!$D$7:$D$326,B37,WINDOM!N$7:N$326))","v":""},"",8]
["",null,null,null,{"$f":"IF(OR(B38=\"\",WINDOM!F$7=\"\"),\"\",SUMIF(WINDOM!$D$7:$D$326,B38,WINDOM!F$7:F$326))","v":""},"",{"$f":"IF(OR(B38=\"\",WINDOM!H$7=\"\"),\"\",SUMIF(WINDOM!$D$7:$D$326,B38,WINDOM!H$7:H$326))","v":""},"","",{"$f":"IF(OR(B38=\"\",WINDOM!K$7=\"\"),\"\",SUMIF(WINDOM!$D$7:$D$326,B38,WINDOM!K$7:K$326))","v":""},"","",{"$f":"IF(OR(B38=\"\",WINDOM!N$7=\"\"),\"\",SUMIF(WINDOM!$D$7:$D$326,B38,WINDOM!N$7:N$326))","v":""},"",8]
["",null,null,null,{"$f":"IF(OR(B39=\"\",WINDOM!F$7=\"\"),\"\",SUMIF(WINDOM!$D$7:$D$326,B39,WINDOM!F$7:F$326))","v":""},"",{"$f":"IF(OR(B39=\"\",WINDOM!H$7=\"\"),\"\",SUMIF(WINDOM!$D$7:$D$326,B39,WINDOM!H$7:H$326))","v":""},"","",{"$f":"IF(OR(B39=\"\",WINDOM!K$7=\"\"),\"\",SUMIF(WINDOM!$D$7:$D$326,B39,WINDOM!K$7:K$326))","v":""},"","",{"$f":"IF(OR(B39=\"\",WINDOM!N$7=\"\"),\"\",SUMIF(WINDOM!$D$7:$D$326,B39,WINDOM!N$7:N$326))","v":""},"",8]
["",null,null,null,{"$f":"IF(OR(B40=\"\",WINDOM!F$7=\"\"),\"\",SUMIF(WINDOM!$D$7:$D$326,B40,WINDOM!F$7:F$326))","v":""},{"$f":"IF(E40=\"\",\"\",RANK(E40,E$8:E$87,0))","v":""},{"$f":"IF(OR(B40=\"\",WINDOM!H$7=\"\"),\"\",SUMIF(WINDOM!$D$7:$D$326,B40,WINDOM!H$7:H$326))","v":""},{"$f":"IF(G40=\"\",\"\",E40+G40)","v":""},{"$f":"IF(H40=\"\",\"\",RANK(H40,H$8:H$87,0))","v":""},{"$f":"IF(OR(B40=\"\",WINDOM!K$7=\"\"),\"\",SUMIF(WINDOM!$D$7:$D$326,B40,WINDOM!K$7:K$326))","v":""},{"$f":"IF(J40=\"\",\"\",J40+H40)","v":""},{"$f":"IF(K40=\"\",\"\",RANK(K40,K$8:K$87,0))","v":""},{"$f":"IF(OR(B40=\"\",WINDOM!N$7=\"\"),\"\",SUMIF(WINDOM!$D$7:$D$326,B40,WINDOM!N$7:N$326))","v":""},{"$f":"IF(AND(E40=\"\",G40=\"\",J40=\"\",M40=\"\"),\"\",SUM(E40,G40,J40,M40))","v":""},9]
["",null,null,null,{"$f":"IF(OR(B41=\"\",WINDOM!F$7=\"\"),\"\",SUMIF(WINDOM!$D$7:$D$326,B41,WINDOM!F$7:F$326))","v":""},"",{"$f":"IF(OR(B41=\"\",WINDOM!H$7=\"\"),\"\",SUMIF(WINDOM!$D$7:$D$326,B41,WINDOM!H$7:H$326))","v":""},"","",{"$f":"IF(OR(B41=\"\",WINDOM!K$7=\"\"),\"\",SUMIF(WINDOM!$D$7:$D$326,B41,WINDOM!K$7:K$326))","v":""},"","",{"$f":"IF(OR(B41=\"\",WINDOM!N$7=\"\"),\"\",SUMIF(WINDOM!$D$7:$D$326,B41,WINDOM!N$7:N$326))","v":""},"",9]
["",null,null,null,{"$f":"IF(OR(B42=\"\",WINDOM!F$7=\"\"),\"\",SUMIF(WINDOM!$D$7:$D$326,B42,WINDOM!F$7:F$326))","v":""},"",{"$f":"IF(OR(B42=\"\",WINDOM!H$7=\"\"),\"\",SUMIF(WINDOM!$D$7:$D$326,B42,WINDOM!H$7:H$326))","v":""},"","",{"$f":"IF(OR(B42=\"\",WINDOM!K$7=\"\"),\"\",SUMIF(WINDOM!$D$7:$D$326,B42,WINDOM!K$7:K$326))","v":""},"","",{"$f":"IF(OR(B42=\"\",WINDOM!N$7=\"\"),\"\",SUMIF(WINDOM!$D$7:$D$326,B42,WINDOM!N$7:N$326))","v":""},"",9]
["",null,null,null,{"$f":"IF(OR(B43=\"\",WINDOM!F$7=\"\"),\"\",SUMIF(WINDOM!$D$7:$D$326,B43,WINDOM!F$7:F$326))","v":""},"",{"$f":"IF(OR(B43=\"\",WINDOM!H$7=\"\"),\"\",SUMIF(WINDOM!$D$7:$D$326,B43,WINDOM!H$7:H$326))","v":""},"","",{"$f":"IF(OR(B43=\"\",WINDOM!K$7=\"\"),\"\",SUMIF(WINDOM!$D$7:$D$326,B43,WINDOM!K$7:K$326))","v":""},"","",{"$f":"IF(OR(B43=\"\",WINDOM!N$7=\"\"),\"\",SUMIF(WINDOM!$D$7:$D$326,B43,WINDOM!N$7:N$326))","v":""},"",9]
["",null,null,null,{"$f":"IF(OR(B44=\"\",WINDOM!F$7=\"\"),\"\",SUMIF(WINDOM!$D$7:$D$326,B44,WINDOM!F$7:F$326))","v":""},"",{"$f":"IF(OR(B44=\"\",WINDOM!H$7=\"\"),\"\",SUMIF(WINDOM!$D$7:$D$326,B44,WINDOM!H$7:H$326))","v":""},"","",{"$f":"IF(OR(B44=\"\",WINDOM!K$7=\"\"),\"\",SUMIF(WINDOM!$D$7:$D$326,B44,WINDOM!K$7:K$326))","v":""},"","",{"$f":"IF(OR(B44=\"\",WINDOM!N$7=\"\"),\"\",SUMIF(WINDOM!$D$7:$D$326,B44,WINDOM!N$7:N$326))","v":""},"",10]
["",null,null,null,{"$f":"IF(OR(B45=\"\",WINDOM!F$7=\"\"),\"\",SUMIF(WINDOM!$D$7:$D$326,B45,WINDOM!F$7:F$326))","v":""},"",{"$f":"IF(OR(B45=\"\",WINDOM!H$7=\"\"),\"\",SUMIF(WINDOM!$D$7:$D$326,B45,WINDOM!H$7:H$326))","v":""},"","",{"$f":"IF(OR(B45=\"\",WINDOM!K$7=\"\"),\"\",SUMIF(WINDOM!$D$7:$D$326,B45,WINDOM!K$7:K$326))","v":""},"","",{"$f":"IF(OR(B45=\"\",WINDOM!N$7=\"\"),\"\",SUMIF(WINDOM!$D$7:$D$326,B45,WINDOM!N$7:N$326))","v":""},"",10]
["",null,null,null,{"$f":"IF(OR(B46=\"\",WINDOM!F$7=\"\"),\"\",SUMIF(WINDOM!$D$7:$D$326,B46,WINDOM!F$7:F$326))","v":""},"",{"$f":"IF(OR(B46=\"\",WINDOM!H$7=\"\"),\"\",SUMIF(WINDOM!$D$7:$D$326,B46,WINDOM!H$7:H$326))","v":""},"","",{"$f":"IF(OR(B46=\"\",WINDOM!K$7=\"\"),\"\",SUMIF(WINDOM!$D$7:$D$326,B46,WINDOM!K$7:K$326))","v":""},"","",{"$f":"IF(OR(B46=\"\",WINDOM!N$7=\"\"),\"\",SUMIF(WINDOM!$D$7:$D$326,B46,WINDOM!N$7:N$326))","v":""},"",10]
["",null,null,null,{"$f":"IF(OR(B47=\"\",WINDOM!F$7=\"\"),\"\",SUMIF(WINDOM!$D$7:$D$326,B47,WINDOM!F$7:F$326))","v":""},"",{"$f":"IF(OR(B47=\"\",WINDOM!H$7=\"\"),\"\",SUMIF(WINDOM!$D$7:$D$326,B47,WINDOM!H$7:H$326))","v":""},"","",{"$f":"IF(OR(B47=\"\",WINDOM!K$7=\"\"),\"\",SUMIF(WINDOM!$D$7:$D$326,B47,WINDOM!K$7:K$326))","v":""},"","",{"$f":"IF(OR(B47=\"\",WINDOM!N$7=\"\"),\"\",SUMIF(WINDOM!$D$7:$D$326,B47,WINDOM!N$7:N$326))","v":""},"",10]
["",null,null,null,{"$f":"IF(OR(B48=\"\",WINDOM!F$7=\"\"),\"\",SUMIF(WINDOM!$D$7:$D$326,B48,WINDOM!F$7:F$326))","v":""},"",{"$f":"IF(OR(B48=\"\",WINDOM!H$7=\"\"),\"\",SUMIF(WINDOM!$D$7:$D$326,B48,WINDOM!H$7:H$326))","v":""},"","",{"$f":"IF(OR(B48=\"\",WINDOM!K$7=\"\"),\"\",SUMIF(WINDOM!$D$7:$D$326,B48,WINDOM!K$7:K$326))","v":""},"","",{"$f":"IF(OR(B48=\"\",WINDOM!N$7=\"\"),\"\",SUMIF(WINDOM!$D$7:$D$326,B48,WINDOM!N$7:N$326))","v":""},"",11]
["",null,null,null,{"$f":"IF(OR(B49=\"\",WINDOM!F$7=\"\"),\"\",SUMIF(WINDOM!$D$7:$D$326,B49,WINDOM!F$7:F$326))","v":""},"",{"$f":"IF(OR(B49=\"\",WINDOM!H$7=\"\"),\"\",SUMIF(WINDOM!$D$7:$D$326,B49,WINDOM!H$7:H$326))","v":""},"","",{"$f":"IF(OR(B49=\"\",WINDOM!K$7=\"\"),\"\",SUMIF(WINDOM!$D$7:$D$326,B49,WINDOM!K$7:K$326))","v":""},"","",{"$f":"IF(OR(B49=\"\",WINDOM!N$7=\"\"),\"\",SUMIF(WINDOM!$D$7:$D$326,B49,WINDOM!N$7:N$326))","v":""},"",11]
["",null,null,null,{"$f":"IF(OR(B50=\"\",WINDOM!F$7=\"\"),\"\",SUMIF(WINDOM!$D$7:$D$326,B50,WINDOM!F$7:F$326))","v":""},"",{"$f":"IF(OR(B50=\"\",WINDOM!H$7=\"\"),\"\",SUMIF(WINDOM!$D$7:$D$326,B50,WINDOM!H$7:H$326))","v":""},"","",{"$f":"IF(OR(B50=\"\",WINDOM!K$7=\"\"),\"\",SUMIF(WINDOM!$D$7:$D$326,B50,WINDOM!K$7:K$326))","v":""},"","",{"$f":"IF(OR(B50=\"\",WINDOM!N$7=\"\"),\"\",SUMIF(WINDOM!$D$7:$D$326,B50,WINDOM!N$7:N$326))","v":""},"",11]
["",null,null,null,{"$f":"IF(OR(B51=\"\",WINDOM!F$7=\"\"),\"\",SUMIF(WINDOM!$D$7:$D$326,B51,WINDOM!F$7:F$326))","v":""},"",{"$f":"IF(OR(B51=\"\",WINDOM!H$7=\"\"),\"\",SUMIF(WINDOM!$D$7:$D$326,B51,WINDOM!H$7:H$326))","v":""},"","",{"$f":"IF(OR(B51=\"\",WINDOM!K$7=\"\"),\"\",SUMIF(WINDOM!$D$7:$D$326,B51,WINDOM!K$7:K$326))","v":""},"","",{"$f":"IF(OR(B51=\"\",WINDOM!N$7=\"\"),\"\",SUMIF(WINDOM!$D$7:$D$326,B51,WINDOM!N$7:N$326))","v":""},"",11]
["",null,null,null,{"$f":"IF(OR(B52=\"\",WINDOM!F$7=\"\"),\"\",SUMIF(WINDOM!$D$7:$D$326,B52,WINDOM!F$7:F$326))","v":""},"",{"$f":"IF(OR(B52=\"\",WINDOM!H$7=\"\"),\"\",SUMIF(WINDOM!$D$7:$D$326,B52,WINDOM!H$7:H$326))","v":""},"","",{"$f":"IF(OR(B52=\"\",WINDOM!K$7=\"\"),\"\",SUMIF(WINDOM!$D$7:$D$326,B52,WINDOM!K$7:K$326))","v":""},"","",{"$f":"IF(OR(B52=\"\",WINDOM!N$7=\"\"),\"\",SUMIF(WINDOM!$D$7:$D$326,B52,WINDOM!N$7:N$326))","v":""},"",12]
["",null,null,null,{"$f":"IF(OR(B53=\"\",WINDOM!F$7=\"\"),\"\",SUMIF(WINDOM!$D$7:$D$326,B53,WINDOM!F$7:F$326))","v":""},"",{"$f":"IF(OR(B53=\"\",WINDOM!H$7=\"\"),\"\",SUMIF(WINDOM!$D$7:$D$326,B53,WINDOM!H$7:H$326))","v":""},"","",{"$f":"IF(OR(B53=\"\",WINDOM!K$7=\"\"),\"\",SUMIF(WINDOM!$D$7:$D$326,B53,WINDOM!K$7:K$326))","v":""},"","",{"$f":"IF(OR(B53=\"\",WINDOM!N$7=\"\"),\"\",SUMIF(WINDOM!$D$7:$D$326,B53,WINDOM!N$7:N$326))","v":""},"",12]
["",null,null,null,{"$f":"IF(OR(B54=\"\",WINDOM!F$7=\"\"),\"\",SUMIF(WINDOM!$D$7:$D$326,B54,WINDOM!F$7:F$326))","v":""},"",{"$f":"IF(OR(B54=\"\",WINDOM!H$7=\"\"),\"\",SUMIF(WINDOM!$D$7:$D$326,B54,WINDOM!H$7:H$326))","v":""},"","",{"$f":"IF(OR(B54=\"\",WINDOM!K$7=\"\"),\"\",SUMIF(WINDOM!$D$7:$D$326,B54,WINDOM!K$7:K$326))","v":""},"","",{"$f":"IF(OR(B54=\"\",WINDOM!N$7=\"\"),\"\",SUMIF(WINDOM!$D$7:$D$326,B54,WINDOM!N$7:N$326))","v":""},"",12]
["",null,null,null,{"$f":"IF(OR(B55=\"\",WINDOM!F$7=\"\"),\"\",SUMIF(WINDOM!$D$7:$D$326,B55,WINDOM!F$7:F$326))","v":""},"",{"$f":"IF(OR(B55=\"\",WINDOM!H$7=\"\"),\"\",SUMIF(WINDOM!$D$7:$D$326,B55,WINDOM!H$7:H$326))","v":""},"","",{"$f":"IF(OR(B55=\"\",WINDOM!K$7=\"\"),\"\",SUMIF(WINDOM!$D$7:$D$326,B55,WINDOM!K$7:K$326))","v":""},"","",{"$f":"IF(OR(B55=\"\",WINDOM!N$7=\"\"),\"\",SUMIF(WINDOM!$D$7:$D$326,B55,WINDOM!N$7:N$326))","v":""},"",12]
["",null,null,null,{"$f":"IF(OR(B56=\"\",WINDOM!F$7=\"\"),\"\",SUMIF(WINDOM!$D$7:$D$326,B56,WINDOM!F$7:F$326))","v":""},"",{"$f":"IF(OR(B56=\"\",WINDOM!H$7=\"\"),\"\",SUMIF(WINDOM!$D$7:$D$326,B56,WINDOM!H$7:H$326))","v":""},"","",{"$f":"IF(OR(B56=\"\",WINDOM!K$7=\"\"),\"\",SUMIF(WINDOM!$D$7:$D$326,B56,WINDOM!K$7:K$326))","v":""},"","",{"$f":"IF(OR(B56=\"\",WINDOM!N$7=\"\"),\"\",SUMIF(WINDOM!$D$7:$D$326,B56,WINDOM!N$7:N$326))","v":""},"",13]
["",null,null,null,{"$f":"IF(OR(B57=\"\",WINDOM!F$7=\"\"),\"\",SUMIF(WINDOM!$D$7:$D$326,B57,WINDOM!F$7:F$326))","v":""},"",{"$f":"IF(OR(B57=\"\",WINDOM!H$7=\"\"),\"\",SUMIF(WINDOM!$D$7:$D$326,B57,WINDOM!H$7:H$326))","v":""},"","",{"$f":"IF(OR(B57=\"\",WINDOM!K$7=\"\"),\"\",SUMIF(WINDOM!$D$7:$D$326,B57,WINDOM!K$7:K$326))","v":""},"","",{"$f":"IF(OR(B57=\"\",WINDOM!N$7=\"\"),\"\",SUMIF(WINDOM!$D$7:$D$326,B57,WINDOM!N$7:N$326))","v":""},"",13]
["",null,null,null,{"$f":"IF(OR(B58=\"\",WINDOM!F$7=\"\"),\"\",SUMIF(WINDOM!$D$7:$D$326,B58,WINDOM!F$7:F$326))","v":""},"",{"$f":"IF(OR(B58=\"\",WINDOM!H$7=\"\"),\"\",SUMIF(WINDOM!$D$7:$D$326,B58,WINDOM!H$7:H$326))","v":""},"","",{"$f":"IF(OR(B58=\"\",WINDOM!K$7=\"\"),\"\",SUMIF(WINDOM!$D$7:$D$326,B58,WINDOM!K$7:K$326))","v":""},"","",{"$f":"IF(OR(B58=\"\",WINDOM!N$7=\"\"),\"\",SUMIF(WINDOM!$D$7:$D$326,B58,WINDOM!N$7:N$326))","v":""},"",13]
["",null,null,null,{"$f":"IF(OR(B59=\"\",WINDOM!F$7=\"\"),\"\",SUMIF(WINDOM!$D$7:$D$326,B59,WINDOM!F$7:F$326))","v":""},"",{"$f":"IF(OR(B59=\"\",WINDOM!H$7=\"\"),\"\",SUMIF(WINDOM!$D$7:$D$326,B59,WINDOM!H$7:H$326))","v":""},"","",{"$f":"IF(OR(B59=\"\",WINDOM!K$7=\"\"),\"\",SUMIF(WINDOM!$D$7:$D$326,B59,WINDOM!K$7:K$326))","v":""},"","",{"$f":"IF(OR(B59=\"\",WINDOM!N$7=\"\"),\"\",SUMIF(WINDOM!$D$7:$D$326,B59,WINDOM!N$7:N$326))","v":""},"",13]
["",null,null,null,{"$f":"IF(OR(B60=\"\",WINDOM!F$7=\"\"),\"\",SUMIF(WINDOM!$D$7:$D$326,B60,WINDOM!F$7:F$326))","v":""},"",{"$f":"IF(OR(B60=\"\",WINDOM!H$7=\"\"),\"\",SUMIF(WINDOM!$D$7:$D$326,B60,WINDOM!H$7:H$326))","v":""},"","",{"$f":"IF(OR(B60=\"\",WINDOM!K$7=\"\"),\"\",SUMIF(WINDOM!$D$7:$D$326,B60,WINDOM!K$7:K$326))","v":""},"","",{"$f":"IF(OR(B60=\"\",WINDOM!N$7=\"\"),\"\",SUMIF(WINDOM!$D$7:$D$326,B60,WINDOM!N$7:N$326))","v":""},"",14]
["",null,null,null,{"$f":"IF(OR(B61=\"\",WINDOM!F$7=\"\"),\"\",SUMIF(WINDOM!$D$7:$D$326,B61,WINDOM!F$7:F$326))","v":""},"",{"$f":"IF(OR(B61=\"\",WINDOM!H$7=\"\"),\"\",SUMIF(WINDOM!$D$7:$D$326,B61,WINDOM!H$7:H$326))","v":""},"","",{"$f":"IF(OR(B61=\"\",WINDOM!K$7=\"\"),\"\",SUMIF(WINDOM!$D$7:$D$326,B61,WINDOM!K$7:K$326))","v":""},"","",{"$f":"IF(OR(B61=\"\",WINDOM!N$7=\"\"),\"\",SUMIF(WINDOM!$D$7:$D$326,B61,WINDOM!N$7:N$326))","v":""},"",14]
["",null,null,null,{"$f":"IF(OR(B62=\"\",WINDOM!F$7=\"\"),\"\",SUMIF(WINDOM!$D$7:$D$326,B62,WINDOM!F$7:F$326))","v":""},"",{"$f":"IF(OR(B62=\"\",WINDOM!H$7=\"\"),\"\",SUMIF(WINDOM!$D$7:$D$326,B62,WINDOM!H$7:H$326))","v":""},"","",{"$f":"IF(OR(B62=\"\",WINDOM!K$7=\"\"),\"\",SUMIF(WINDOM!$D$7:$D$326,B62,WINDOM!K$7:K$326))","v":""},"","",{"$f":"IF(OR(B62=\"\",WINDOM!N$7=\"\"),\"\",SUMIF(WINDOM!$D$7:$D$326,B62,WINDOM!N$7:N$326))","v":""},"",14]
["",null,null,null,{"$f":"IF(OR(B63=\"\",WINDOM!F$7=\"\"),\"\",SUMIF(WINDOM!$D$7:$D$326,B63,WINDOM!F$7:F$326))","v":""},"",{"$f":"IF(OR(B63=\"\",WINDOM!H$7=\"\"),\"\",SUMIF(WINDOM!$D$7:$D$326,B63,WINDOM!H$7:H$326))","v":""},"","",{"$f":"IF(OR(B63=\"\",WINDOM!K$7=\"\"),\"\",SUMIF(WINDOM!$D$7:$D$326,B63,WINDOM!K$7:K$326))","v":""},"","",{"$f":"IF(OR(B63=\"\",WINDOM!N$7=\"\"),\"\",SUMIF(WINDOM!$D$7:$D$326,B63,WINDOM!N$7:N$326))","v":""},"",14]
["",null,null,null,{"$f":"IF(OR(B64=\"\",WINDOM!F$7=\"\"),\"\",SUMIF(WINDOM!$D$7:$D$326,B64,WINDOM!F$7:F$326))","v":""},"",{"$f":"IF(OR(B64=\"\",WINDOM!H$7=\"\"),\"\",SUMIF(WINDOM!$D$7:$D$326,B64,WINDOM!H$7:H$326))","v":""},"","",{"$f":"IF(OR(B64=\"\",WINDOM!K$7=\"\"),\"\",SUMIF(WINDOM!$D$7:$D$326,B64,WINDOM!K$7:K$326))","v":""},"","",{"$f":"IF(OR(B64=\"\",WINDOM!N$7=\"\"),\"\",SUMIF(WINDOM!$D$7:$D$326,B64,WINDOM!N$7:N$326))","v":""},"",15]
["",null,null,null,{"$f":"IF(OR(B65=\"\",WINDOM!F$7=\"\"),\"\",SUMIF(WINDOM!$D$7:$D$326,B65,WINDOM!F$7:F$326))","v":""},"",{"$f":"IF(OR(B65=\"\",WINDOM!H$7=\"\"),\"\",SUMIF(WINDOM!$D$7:$D$326,B65,WINDOM!H$7:H$326))","v":""},"","",{"$f":"IF(OR(B65=\"\",WINDOM!K$7=\"\"),\"\",SUMIF(WINDOM!$D$7:$D$326,B65,WINDOM!K$7:K$326))","v":""},"","",{"$f":"IF(OR(B65=\"\",WINDOM!N$7=\"\"),\"\",SUMIF(WINDOM!$D$7:$D$326,B65,WINDOM!N$7:N$326))","v":""},"",15]
["",null,null,null,{"$f":"IF(OR(B66=\"\",WINDOM!F$7=\"\"),\"\",SUMIF(WINDOM!$D$7:$D$326,B66,WINDOM!F$7:F$326))","v":""},"",{"$f":"IF(OR(B66=\"\",WINDOM!H$7=\"\"),\"\",SUMIF(WINDOM!$D$7:$D$326,B66,WINDOM!H$7:H$326))","v":""},"","",{"$f":"IF(OR(B66=\"\",WINDOM!K$7=\"\"),\"\",SUMIF(WINDOM!$D$7:$D$326,B66,WINDOM!K$7:K$326))","v":""},"","",{"$f":"IF(OR(B66=\"\",WINDOM!N$7=\"\"),\"\",SUMIF(WINDOM!$D$7:$D$326,B66,WINDOM!N$7:N$326))","v":""},"",15]
["",null,null,null,{"$f":"IF(OR(B67=\"\",WINDOM!F$7=\"\"),\"\",SUMIF(WINDOM!$D$7:$D$326,B67,WINDOM!F$7:F$326))","v":""},"",{"$f":"IF(OR(B67=\"\",WINDOM!H$7=\"\"),\"\",SUMIF(WINDOM!$D$7:$D$326,B67,WINDOM!H$7:H$326))","v":""},"","",{"$f":"IF(OR(B67=\"\",WINDOM!K$7=\"\"),\"\",SUMIF(WINDOM!$D$7:$D$326,B67,WINDOM!K$7:K$326))","v":""},"","",{"$f":"IF(OR(B67=\"\",WINDOM!N$7=\"\"),\"\",SUMIF(WINDOM!$D$7:$D$326,B67,WINDOM!N$7:N$326))","v":""},"",15]
["",null,null,null,{"$f":"IF(OR(B68=\"\",WINDOM!F$7=\"\"),\"\",SUMIF(WINDOM!$D$7:$D$326,B68,WINDOM!F$7:F$326))","v":""},"",{"$f":"IF(OR(B68=\"\",WINDOM!H$7=\"\"),\"\",SUMIF(WINDOM!$D$7:$D$326,B68,WINDOM!H$7:H$326))","v":""},"","",{"$f":"IF(OR(B68=\"\",WINDOM!K$7=\"\"),\"\",SUMIF(WINDOM!$D$7:$D$326,B68,WINDOM!K$7:K$326))","v":""},"","",{"$f":"IF(OR(B68=\"\",WINDOM!N$7=\"\"),\"\",SUMIF(WINDOM!$D$7:$D$326,B68,WINDOM!N$7:N$326))","v":""},"",16]
["",null,null,null,{"$f":"IF(OR(B69=\"\",WINDOM!F$7=\"\"),\"\",SUMIF(WINDOM!$D$7:$D$326,B69,WINDOM!F$7:F$326))","v":""},"",{"$f":"IF(OR(B69=\"\",WINDOM!H$7=\"\"),\"\",SUMIF(WINDOM!$D$7:$D$326,B69,WINDOM!H$7:H$326))","v":""},"","",{"$f":"IF(OR(B69=\"\",WINDOM!K$7=\"\"),\"\",SUMIF(WINDOM!$D$7:$D$326,B69,WINDOM!K$7:K$326))","v":""},"","",{"$f":"IF(OR(B69=\"\",WINDOM!N$7=\"\"),\"\",SUMIF(WINDOM!$D$7:$D$326,B69,WINDOM!N$7:N$326))","v":""},"",16]
["",null,null,null,{"$f":"IF(OR(B70=\"\",WINDOM!F$7=\"\"),\"\",SUMIF(WINDOM!$D$7:$D$326,B70,WINDOM!F$7:F$326))","v":""},"",{"$f":"IF(OR(B70=\"\",WINDOM!H$7=\"\"),\"\",SUMIF(WINDOM!$D$7:$D$326,B70,WINDOM!H$7:H$326))","v":""},"","",{"$f":"IF(OR(B70=\"\",WINDOM!K$7=\"\"),\"\",SUMIF(WINDOM!$D$7:$D$326,B70,WINDOM!K$7:K$326))","v":""},"","",{"$f":"IF(OR(B70=\"\",WINDOM!N$7=\"\"),\"\",SUMIF(WINDOM!$D$7:$D$326,B70,WINDOM!N$7:N$326))","v":""},"",16]
["",null,null,null,{"$f":"IF(OR(B71=\"\",WINDOM!F$7=\"\"),\"\",SUMIF(WINDOM!$D$7:$D$326,B71,WINDOM!F$7:F$326))","v":""},"",{"$f":"IF(OR(B71=\"\",WINDOM!H$7=\"\"),\"\",SUMIF(WINDOM!$D$7:$D$326,B71,WINDOM!H$7:H$326))","v":""},"","",{"$f":"IF(OR(B71=\"\",WINDOM!K$7=\"\"),\"\",SUMIF(WINDOM!$D$7:$D$326,B71,WINDOM!K$7:K$326))","v":""},"","",{"$f":"IF(OR(B71=\"\",WINDOM!N$7=\"\"),\"\",SUMIF(WINDOM!$D$7:$D$326,B71,WINDOM!N$7:N$326))","v":""},"",16]
["",null,null,null,{"$f":"IF(OR(B72=\"\",WINDOM!F$7=\"\"),\"\",SUMIF(WINDOM!$D$7:$D$326,B72,WINDOM!F$7:F$326))","v":""},{"$f":"IF(E72=\"\",\"\",RANK(E72,E$8:E$87,0))","v":""},{"$f":"IF(OR(B72=\"\",WINDOM!H$7=\"\"),\"\",SUMIF(WINDOM!$D$7:$D$326,B72,WINDOM!H$7:H$326))","v":""},{"$f":"IF(G72=\"\",\"\",E72+G72)","v":""},{"$f":"IF(H72=\"\",\"\",RANK(H72,H$8:H$87,0))","v":""},{"$f":"IF(OR(B72=\"\",WINDOM!K$7=\"\"),\"\",SUMIF(WINDOM!$D$7:$D$326,B72,WINDOM!K$7:K$326))","v":""},{"$f":"IF(J72=\"\",\"\",J72+H72)","v":""},{"$f":"IF(K72=\"\",\"\",RANK(K72,K$8:K$87,0))","v":""},{"$f":"IF(OR(B72=\"\",WINDOM!N$7=\"\"),\"\",SUMIF(WINDOM!$D$7:$D$326,B72,WINDOM!N$7:N$326))","v":""},{"$f":"IF(AND(E72=\"\",G72=\"\",J72=\"\",M72=\"\"),\"\",SUM(E72,G72,J72,M72))","v":""},17]
[{"$f":"DBCS(IF(N73=\"\",\"\",RANK(N73,N$8:N$87,0)))","v":""},null,null,null,{"$f":"IF(OR(B73=\"\",WINDOM!F$7=\"\"),\"\",SUMIF(WINDOM!$D$7:$D$326,B73,WINDOM!F$7:F$326))","v":""},{"$f":"IF(E73=\"\",\"\",RANK(E73,E$8:E$87,0))","v":""},{"$f":"IF(OR(B73=\"\",WINDOM!H$7=\"\"),\"\",SUMIF(WINDOM!$D$7:$D$326,B73,WINDOM!H$7:H$326))","v":""},{"$f":"IF(G73=\"\",\"\",E73+G73)","v":""},{"$f":"IF(H73=\"\",\"\",RANK(H73,H$8:H$87,0))","v":""},{"$f":"IF(OR(B73=\"\",WINDOM!K$7=\"\"),\"\",SUMIF(WINDOM!$D$7:$D$326,B73,WINDOM!K$7:K$326))","v":""},{"$f":"IF(J73=\"\",\"\",J73+H73)","v":""},{"$f":"IF(K73=\"\",\"\",RANK(K73,K$8:K$87,0))","v":""},{"$f":"IF(OR(B73=\"\",WINDOM!N$7=\"\"),\"\",SUMIF(WINDOM!$D$7:$D$326,B73,WINDOM!N$7:N$326))","v":""},{"$f":"IF(AND(E73=\"\",G73=\"\",J73=\"\",M73=\"\"),\"\",SUM(E73,G73,J73,M73))","v":""},17]
["",null,null,null,{"$f":"IF(OR(B74=\"\",WINDOM!F$7=\"\"),\"\",SUMIF(WINDOM!$D$7:$D$326,B74,WINDOM!F$7:F$326))","v":""},{"$f":"IF(E74=\"\",\"\",RANK(E74,E$8:E$87,0))","v":""},{"$f":"IF(OR(B74=\"\",WINDOM!H$7=\"\"),\"\",SUMIF(WINDOM!$D$7:$D$326,B74,WINDOM!H$7:H$326))","v":""},{"$f":"IF(G74=\"\",\"\",E74+G74)","v":""},{"$f":"IF(H74=\"\",\"\",RANK(H74,H$8:H$87,0))","v":""},{"$f":"IF(OR(B74=\"\",WINDOM!K$7=\"\"),\"\",SUMIF(WINDOM!$D$7:$D$326,B74,WINDOM!K$7:K$326))","v":""},{"$f":"IF(J74=\"\",\"\",J74+H74)","v":""},{"$f":"IF(K74=\"\",\"\",RANK(K74,K$8:K$87,0))","v":""},{"$f":"IF(OR(B74=\"\",WINDOM!N$7=\"\"),\"\",SUMIF(WINDOM!$D$7:$D$326,B74,WINDOM!N$7:N$326))","v":""},{"$f":"IF(AND(E74=\"\",G74=\"\",J74=\"\",M74=\"\"),\"\",SUM(E74,G74,J74,M74))","v":""},17]
["",null,null,null,{"$f":"IF(OR(B75=\"\",WINDOM!F$7=\"\"),\"\",SUMIF(WINDOM!$D$7:$D$326,B75,WINDOM!F$7:F$326))","v":""},"",{"$f":"IF(OR(B75=\"\",WINDOM!H$7=\"\"),\"\",SUMIF(WINDOM!$D$7:$D$326,B75,WINDOM!H$7:H$326))","v":""},"","",{"$f":"IF(OR(B75=\"\",WINDOM!K$7=\"\"),\"\",SUMIF(WINDOM!$D$7:$D$326,B75,WINDOM!K$7:K$326))","v":""},"","",{"$f":"IF(OR(B75=\"\",WINDOM!N$7=\"\"),\"\",SUMIF(WINDOM!$D$7:$D$326,B75,WINDOM!N$7:N$326))","v":""},"",17]
["",null,null,null,{"$f":"IF(OR(B76=\"\",WINDOM!F$7=\"\"),\"\",SUMIF(WINDOM!$D$7:$D$326,B76,WINDOM!F$7:F$326))","v":""},"",{"$f":"IF(OR(B76=\"\",WINDOM!H$7=\"\"),\"\",SUMIF(WINDOM!$D$7:$D$326,B76,WINDOM!H$7:H$326))","v":""},"","",{"$f":"IF(OR(B76=\"\",WINDOM!K$7=\"\"),\"\",SUMIF(WINDOM!$D$7:$D$326,B76,WINDOM!K$7:K$326))","v":""},"","",{"$f":"IF(OR(B76=\"\",WINDOM!N$7=\"\"),\"\",SUMIF(WINDOM!$D$7:$D$326,B76,WINDOM!N$7:N$326))","v":""},"",18]
["",null,null,null,{"$f":"IF(OR(B77=\"\",WINDOM!F$7=\"\"),\"\",SUMIF(WINDOM!$D$7:$D$326,B77,WINDOM!F$7:F$326))","v":""},"",{"$f":"IF(OR(B77=\"\",WINDOM!H$7=\"\"),\"\",SUMIF(WINDOM!$D$7:$D$326,B77,WINDOM!H$7:H$326))","v":""},"","",{"$f":"IF(OR(B77=\"\",WINDOM!K$7=\"\"),\"\",SUMIF(WINDOM!$D$7:$D$326,B77,WINDOM!K$7:K$326))","v":""},"","",{"$f":"IF(OR(B77=\"\",WINDOM!N$7=\"\"),\"\",SUMIF(WINDOM!$D$7:$D$326,B77,WINDOM!N$7:N$326))","v":""},"",18]
["",null,null,null,{"$f":"IF(OR(B78=\"\",WINDOM!F$7=\"\"),\"\",SUMIF(WINDOM!$D$7:$D$326,B78,WINDOM!F$7:F$326))","v":""},"",{"$f":"IF(OR(B78=\"\",WINDOM!H$7=\"\"),\"\",SUMIF(WINDOM!$D$7:$D$326,B78,WINDOM!H$7:H$326))","v":""},"","",{"$f":"IF(OR(B78=\"\",WINDOM!K$7=\"\"),\"\",SUMIF(WINDOM!$D$7:$D$326,B78,WINDOM!K$7:K$326))","v":""},"","",{"$f":"IF(OR(B78=\"\",WINDOM!N$7=\"\"),\"\",SUMIF(WINDOM!$D$7:$D$326,B78,WINDOM!N$7:N$326))","v":""},"",18]
["",null,null,null,{"$f":"IF(OR(B79=\"\",WINDOM!F$7=\"\"),\"\",SUMIF(WINDOM!$D$7:$D$326,B79,WINDOM!F$7:F$326))","v":""},"",{"$f":"IF(OR(B79=\"\",WINDOM!H$7=\"\"),\"\",SUMIF(WINDOM!$D$7:$D$326,B79,WINDOM!H$7:H$326))","v":""},"","",{"$f":"IF(OR(B79=\"\",WINDOM!K$7=\"\"),\"\",SUMIF(WINDOM!$D$7:$D$326,B79,WINDOM!K$7:K$326))","v":""},"","",{"$f":"IF(OR(B79=\"\",WINDOM!N$7=\"\"),\"\",SUMIF(WINDOM!$D$7:$D$326,B79,WINDOM!N$7:N$326))","v":""},"",18]
["",null,null,null,{"$f":"IF(OR(B80=\"\",WINDOM!F$7=\"\"),\"\",SUMIF(WINDOM!$D$7:$D$326,B80,WINDOM!F$7:F$326))","v":""},"",{"$f":"IF(OR(B80=\"\",WINDOM!H$7=\"\"),\"\",SUMIF(WINDOM!$D$7:$D$326,B80,WINDOM!H$7:H$326))","v":""},"","",{"$f":"IF(OR(B80=\"\",WINDOM!K$7=\"\"),\"\",SUMIF(WINDOM!$D$7:$D$326,B80,WINDOM!K$7:K$326))","v":""},"","",{"$f":"IF(OR(B80=\"\",WINDOM!N$7=\"\"),\"\",SUMIF(WINDOM!$D$7:$D$326,B80,WINDOM!N$7:N$326))","v":""},"",19]
["",null,null,null,{"$f":"IF(OR(B81=\"\",WINDOM!F$7=\"\"),\"\",SUMIF(WINDOM!$D$7:$D$326,B81,WINDOM!F$7:F$326))","v":""},"",{"$f":"IF(OR(B81=\"\",WINDOM!H$7=\"\"),\"\",SUMIF(WINDOM!$D$7:$D$326,B81,WINDOM!H$7:H$326))","v":""},"","",{"$f":"IF(OR(B81=\"\",WINDOM!K$7=\"\"),\"\",SUMIF(WINDOM!$D$7:$D$326,B81,WINDOM!K$7:K$326))","v":""},"","",{"$f":"IF(OR(B81=\"\",WINDOM!N$7=\"\"),\"\",SUMIF(WINDOM!$D$7:$D$326,B81,WINDOM!N$7:N$326))","v":""},"",19]
["",null,null,null,{"$f":"IF(OR(B82=\"\",WINDOM!F$7=\"\"),\"\",SUMIF(WINDOM!$D$7:$D$326,B82,WINDOM!F$7:F$326))","v":""},"",{"$f":"IF(OR(B82=\"\",WINDOM!H$7=\"\"),\"\",SUMIF(WINDOM!$D$7:$D$326,B82,WINDOM!H$7:H$326))","v":""},"","",{"$f":"IF(OR(B82=\"\",WINDOM!K$7=\"\"),\"\",SUMIF(WINDOM!$D$7:$D$326,B82,WINDOM!K$7:K$326))","v":""},"","",{"$f":"IF(OR(B82=\"\",WINDOM!N$7=\"\"),\"\",SUMIF(WINDOM!$D$7:$D$326,B82,WINDOM!N$7:N$326))","v":""},"",19]
["",null,null,null,{"$f":"IF(OR(B83=\"\",WINDOM!F$7=\"\"),\"\",SUMIF(WINDOM!$D$7:$D$326,B83,WINDOM!F$7:F$326))","v":""},"",{"$f":"IF(OR(B83=\"\",WINDOM!H$7=\"\"),\"\",SUMIF(WINDOM!$D$7:$D$326,B83,WINDOM!H$7:H$326))","v":""},"","",{"$f":"IF(OR(B83=\"\",WINDOM!K$7=\"\"),\"\",SUMIF(WINDOM!$D$7:$D$326,B83,WINDOM!K$7:K$326))","v":""},"","",{"$f":"IF(OR(B83=\"\",WINDOM!N$7=\"\"),\"\",SUMIF(WINDOM!$D$7:$D$326,B83,WINDOM!N$7:N$326))","v":""},"",19]
["",null,null,null,{"$f":"IF(OR(B84=\"\",WINDOM!F$7=\"\"),\"\",SUMIF(WINDOM!$D$7:$D$326,B84,WINDOM!F$7:F$326))","v":""},"",{"$f":"IF(OR(B84=\"\",WINDOM!H$7=\"\"),\"\",SUMIF(WINDOM!$D$7:$D$326,B84,WINDOM!H$7:H$326))","v":""},"","",{"$f":"IF(OR(B84=\"\",WINDOM!K$7=\"\"),\"\",SUMIF(WINDOM!$D$7:$D$326,B84,WINDOM!K$7:K$326))","v":""},"","",{"$f":"IF(OR(B84=\"\",WINDOM!N$7=\"\"),\"\",SUMIF(WINDOM!$D$7:$D$326,B84,WINDOM!N$7:N$326))","v":""},"",20]
["",null,null,null,{"$f":"IF(OR(B85=\"\",WINDOM!F$7=\"\"),\"\",SUMIF(WINDOM!$D$7:$D$326,B85,WINDOM!F$7:F$326))","v":""},"",{"$f":"IF(OR(B85=\"\",WINDOM!H$7=\"\"),\"\",SUMIF(WINDOM!$D$7:$D$326,B85,WINDOM!H$7:H$326))","v":""},"","",{"$f":"IF(OR(B85=\"\",WINDOM!K$7=\"\"),\"\",SUMIF(WINDOM!$D$7:$D$326,B85,WINDOM!K$7:K$326))","v":""},"","",{"$f":"IF(OR(B85=\"\",WINDOM!N$7=\"\"),\"\",SUMIF(WINDOM!$D$7:$D$326,B85,WINDOM!N$7:N$326))","v":""},"",20]
["",null,null,null,{"$f":"IF(OR(B86=\"\",WINDOM!F$7=\"\"),\"\",SUMIF(WINDOM!$D$7:$D$326,B86,WINDOM!F$7:F$326))","v":""},"",{"$f":"IF(OR(B86=\"\",WINDOM!H$7=\"\"),\"\",SUMIF(WINDOM!$D$7:$D$326,B86,WINDOM!H$7:H$326))","v":""},"","",{"$f":"IF(OR(B86=\"\",WINDOM!K$7=\"\"),\"\",SUMIF(WINDOM!$D$7:$D$326,B86,WINDOM!K$7:K$326))","v":""},"","",{"$f":"IF(OR(B86=\"\",WINDOM!N$7=\"\"),\"\",SUMIF(WINDOM!$D$7:$D$326,B86,WINDOM!N$7:N$326))","v":""},"",20]
["",null,null,null,{"$f":"IF(OR(B87=\"\",WINDOM!F$7=\"\"),\"\",SUMIF(WINDOM!$D$7:$D$326,B87,WINDOM!F$7:F$326))","v":""},"",{"$f":"IF(OR(B87=\"\",WINDOM!H$7=\"\"),\"\",SUMIF(WINDOM!$D$7:$D$326,B87,WINDOM!H$7:H$326))","v":""},"","",{"$f":"IF(OR(B87=\"\",WINDOM!K$7=\"\"),\"\",SUMIF(WINDOM!$D$7:$D$326,B87,WINDOM!K$7:K$326))","v":""},"","",{"$f":"IF(OR(B87=\"\",WINDOM!N$7=\"\"),\"\",SUMIF(WINDOM!$D$7:$D$326,B87,WINDOM!N$7:N$326))","v":""},"",20]
[null,null,null,null,{"$f":"SUM(E7:E87)","v":0},null,{"$f":"SUM(G7:G87)","v":0},null,null,{"$f":"SUM(J7:J87)","v":0},null,null,{"$f":"SUM(M7:M87)","v":0},{"$f":"SUM(N7:N87)","v":0}]
[null,null,null,null,{"$f":"MOD(COUNT(E7:E87), 4)","v":1},null,{"$f":"MOD(COUNT(G7:G87), 4)","v":1},null,null,{"$f":"MOD(COUNT(J7:J87), 4)","v":1},null,null,{"$f":"MOD(COUNT(M7:M87), 4)","v":1}]

{"sheet":"100","index":2,"n_rows":88,"n_cols":16,"rows_kept":88,"cut":false,"hidden":false,"merged":[[4,0,4,2],[4,3,4,11],[4,12,4,14]]}
[]
[null,"卓",0]
[null,"回",1,null,null,{"$f":"F87","v":0},null,{"$f":"H87","v":0},null,null,{"$f":"K87","v":0},null,null,{"$f":"N87","v":0},null,"←1回戦ごとの合計が表示される。"]
[null,null,"↓編集中","↓編集中",null,"↓編集中",null,"↓編集中",null,null,"↓編集中",null,null,"↓編集中",null,"←全てのデータが入力完了した/データを再修正したい時はここをダブルクリック"]
[{"$f":"WINDOM!A5","v":"2017-06-20"},null,null,{"$f":"WINDOM!D5","v":"（大会名）"},null,null,null,null,null,null,null,null,{"$f":"WINDOM!M5","v":0}]
["順位","№","氏　　　名","学校名","卓番","１回戦","Ｒ","２回戦","小計","Ｒ","３回戦","小計","Ｒ","４回戦","合計"]
[{"$f":"DBCS(IF(O7=\"\",\"\",RANK(O7,O$7:O$86,0)))","v":""},null,null,null,null,null,{"$f":"IF(F7=\"\",\"\",RANK(F7,F$7:F$86,0))","v":""},null,{"$f":"IF(H7=\"\",\"\",F7+H7)","v":""},{"$f":"IF(I7=\"\",\"\",RANK(I7,I$7:I$86,0))","v":""},null,{"$f":"IF(K7=\"\",\"\",K7+I7)","v":""},{"$f":"IF(L7=\"\",\"\",RANK(L7,L$7:L$86,0))","v":""},null,{"$f":"IF(AND(F7=\"\",H7=\"\",K7=\"\",N7=\"\"),\"\",F7+H7+K7+N7)","v":""},1]
["",null,null,null,null,null,"",null,"","",null,"","",null,"",1]
["",null,null,null,null,null,"",null,"","",null,"","",null,"",1]
["",null,null,null,null,null,"",null,"","",null,"","",null,"",1]
["",null,null,null,null,null,"",null,"","",null,"","",null,"",2]
["",null,null,null,null,null,"",null,"","",null,"","",null,"",2]
["",null,null,null,null,null,"",null,"","",null,"","",null,"",2]
["",null,null,null,null,null,"",null,"","",null,"","",null,"",2]
["",null,null,null,null,null,"",null,"","",null,"","",null,"",3]
["",null,null,null,null,null,"",null,"","",null,"","",null,"",3]
["",null,null,null,null,null,"",null,"","",null,"","",null,"",3]
["",null,null,null,null,null,"",null,"","",null,"","",null,"",3]
["",null,null,null,null,null,"",null,"","",null,"","",null,"",4]
["",null,null,null,null,null,"",null,"","",null,"","",null,"",4]
["",null,null,null,null,null,"",null,"","",null,"","",null,"",4]
["",null,null,null,null,null,"",null,"","",null,"","",null,"",4]
["",null,null,null,null,null,"",null,"","",null,"","",null,"",5]
["",null,null,null,null,null,"",null,"","",null,"","",null,"",5]
["",null,null,null,null,null,"",null,"","",null,"","",null,"",5]
["",null,null,null,null,null,"",null,"","",null,"","",null,"",5]
["",null,null,null,null,null,"",null,"","",null,"","",null,"",6]
["",null,null,null,null,null,"",null,"","",null,"","",null,"",6]
["",null,null,null,null,null,"",null,"","",null,"","",null,"",6]
["",null,null,null,null,null,"",null,"","",null,"","",null,"",6]
["",null,null,null,null,null,"",null,"","",null,"","",null,"",7]
["",null,null,null,null,null,"",null,"","",null,"","",null,"",7]
["",null,null,null,null,null,"",null,"","",null,"","",null,"",7]
["",null,null,null,null,null,"",null,"","",null,"","",null,"",7]
["",null,null,null,null,null,"",null,"","",null,"","",null,"",8]
["",null,null,null,null,null,"",null,"","",null,"","",null,"",8]
["",null,null,null,null,null,"",null,"","",null,"","",null,"",8]
["",null,null,null,null,null,"",null,"","",null,"","",null,"",8]
[{"$f":"DBCS(IF(O39=\"\",\"\",RANK(O39,O$7:O$86,0)))","v":""},null,null,null,null,null,"",null,"","",null,"","",null,"",9]
["",null,null,null,null,null,"",null,"","",null,"","",null,"",9]
["",null,null,null,null,null,"",null,"","",null,"","",null,"",9]
["",null,null,null,null,null,"",null,"","",null,"","",null,"",9]
["",null,null,null,null,null,"",null,"","",null,"","",null,"",10]
["",null,null,null,null,null,"",null,"","",null,"","",null,"",10]
["",null,null,null,null,null,"",null,"","",null,"","",null,"",10]
["",null,null,null,null,null,"",null,"","",null,"","",null,"",10]
["",null,null,null,null,null,"",null,"","",null,"","",null,"",11]
["",null,null,null,null,null,"",null,"","",null,"","",null,"",11]
["",null,null,null,null,null,"",null,"","",null,"","",null,"",11]
["",null,null,null,null,null,"",null,"","",null,"","",null,"",11]
["",null,null,null,null,null,{"$f":"IF(F51=\"\",\"\",RANK(F51,F$7:F$86,0))","v":""},null,"",{"$f":"IF(I51=\"\",\"\",RANK(I51,I$7:I$86,0))","v":""},null,"",{"$f":"IF(L51=\"\",\"\",RANK(L51,L$7:L$86,0))","v":""},null,"",12]
["",null,null,null,null,null,"",null,{"$f":"IF(H52=\"\",\"\",F52+H52)","v":""},"",null,{"$f":"IF(K52=\"\",\"\",K52+I52)","v":""},"",null,{"$f":"IF(AND(F52=\"\",H52=\"\",K52=\"\",N52=\"\"),\"\",F52+H52+K52+N52)","v":""},12]
["",null,null,null,null,null,"",null,"","",null,"","",null,"",12]
["",null,null,null,null,null,"",null,"","",null,"","",null,"",12]
["",null,null,null,null,null,"",null,"","",null,"","",null,"",13]
["",null,null,null,{"$f":"IF(C56=\"\",\"\",IF(ISNUMBER(E52),IF(E52<$C$2,E52+1,E52+1-$C$2),1))","v":""},null,"",null,"","",null,"","",null,"",13]
["",null,null,null,"",null,"",null,"","",null,"","",null,"",13]
["",null,null,null,"",null,"",null,"","",null,"","",null,"",13]
["",null,null,null,"",null,"",null,"","",null,"","",null,"",14]
["",null,null,null,"",null,"",null,"","",null,"","",null,"",14]
["",null,null,null,"",null,"",null,"","",null,"","",null,"",14]
["",null,null,null,"",null,"",null,"","",null,"","",null,"",14]
["",null,null,null,"",null,"",null,"","",null,"","",null,"",15]
["",null,null,null,"",null,"",null,"","",null,"","",null,"",15]
["",null,null,null,"",null,"",null,"","",null,"","",null,"",15]
["",null,null,null,"",null,"",null,"","",null,"","",null,"",15]
["",null,null,null,"",null,"",null,"","",null,"","",null,"",16]
["",null,null,null,"",null,"",null,"","",null,"","",null,"",16]
["",null,null,null,"",null,"",null,"","",null,"","",null,"",16]
["",null,null,null,"",null,"",null,"","",null,"","",null,"",16]
[{"$f":"DBCS(IF(O71=\"\",\"\",RANK(O71,O$7:O$86,0)))","v":""},null,null,null,{"$f":"IF(C71=\"\",\"\",IF(ISNUMBER(E67),IF(E67<$C$2,E67+1,E67+1-$C$2),1))","v":""},null,{"$f":"IF(F71=\"\",\"\",RANK(F71,F$7:F$86,0))","v":""},null,"",{"$f":"IF(I71=\"\",\"\",RANK(I71,I$7:I$86,0))","v":""},null,"",{"$f":"IF(L71=\"\",\"\",RANK(L71,L$7:L$86,0))","v":""},null,"",17]
["",null,null,null,"",null,"",null,"","",null,"","",null,"",17]
["",null,null,null,"",null,"",null,"","",null,"","",null,"",17]
["",null,null,null,"",null,"",null,"","",null,"","",null,"",17]
["",null,null,null,"",null,"",null,"","",null,"","",null,"",18]
["",null,null,null,"",null,"",null,"","",null,"","",null,"",18]
["",null,null,null,"",null,"",null,"","",null,"","",null,"",18]
["",null,null,null,"",null,"",null,"","",null,"","",null,"",18]
["",null,null,null,"",null,"",null,"","",null,"","",null,"",19]
["",null,null,null,"",null,"",null,"","",null,"","",null,"",19]
["",null,null,null,"",null,"",null,"","",null,"","",null,"",19]
["",null,null,null,"",null,"",null,"","",null,"","",null,"",19]
["",null,null,null,"",null,"",null,"","",null,"","",null,"",20]
["",null,null,null,"",null,"",null,"","",null,"","",null,"",20]
["",null,null,null,"",null,"",null,"","",null,"","",null,"",20]
["",null,null,null,"",null,"",null,"","",null,"","",null,"",20]
[null,null,null,null,null,{"$f":"SUM(F7:F86)","v":0},null,{"$f":"SUM(H7:H86)","v":0},null,null,{"$f":"SUM(K7:K86)","v":0},null,null,{"$f":"SUM(N7:N86)","v":0},{"$f":"SUM(O7:O86)","v":0}]
[null,null,null,null,null,{"$f":"MOD(COUNT(F7:F86), 4)","v":0},null,{"$f":"MOD(COUNT(H7:H86), 4)","v":0},null,null,{"$f":"MOD(COUNT(K7:K86), 4)","v":0},null,null,{"$f":"MOD(COUNT(N7:N86), 4)","v":0}]

{"sheet":"200","index":3,"n_rows":88,"n_cols":16,"rows_kept":88,"cut":false,"hidden":false,"merged":[[4,0,4,2],[4,3,4,11],[4,12,4,14]]}
[]
[null,"卓",0]
[null,"回",1,null,null,{"$f":"F87","v":0},null,{"$f":"H87","v":0},null,null,{"$f":"K87","v":0},null,null,{"$f":"N87","v":0},null,"←1回戦ごとの合計が表示される。"]
[null,null,"↓編集中","↓編集中",null,"↓編集中",null,"↓編集中",null,null,"↓編集中",null,null,"↓編集中",null,"←全てのデータが入力完了した/データを再修正したい時はここをダブルクリック"]
[{"$f":"WINDOM!A5","v":"2017-06-20"},null,null,{"$f":"WINDOM!D5","v":"（大会名）"},null,null,null,null,null,null,null,null,{"$f":"WINDOM!M5","v":0}]
["順位","№","氏　　　名","学校名","卓番","１回戦","Ｒ","２回戦","小計","Ｒ","３回戦","小計","Ｒ","４回戦","合計"]
[{"$f":"DBCS(IF(O7=\"\",\"\",RANK(O7,O$7:O$86,0)))","v":""},null,null,null,null,null,{"$f":"IF(F7=\"\",\"\",RANK(F7,F$7:F$86,0))","v":""},null,{"$f":"IF(H7=\"\",\"\",F7+H7)","v":""},{"$f":"IF(I7=\"\",\"\",RANK(I7,I$7:I$86,0))","v":""},null,{"$f":"IF(K7=\"\",\"\",K7+I7)","v":""},{"$f":"IF(L7=\"\",\"\",RANK(L7,L$7:L$86,0))","v":""},null,{"$f":"IF(AND(F7=\"\",H7=\"\",K7=\"\",N7=\"\"),\"\",F7+H7+K7+N7)","v":""},1]
["",null,null,null,null,null,"",null,"","",null,"","",null,"",1]
["",null,null,null,null,null,"",null,"","",null,"","",null,"",1]
["",null,null,null,null,null,"",null,"","",null,"","",null,"",1]
["",null,null,null,null,null,"",null,"","",null,"","",null,"",2]
["",null,null,null,null,null,"",null,"","",null,"","",null,"",2]
["",null,null,null,null,null,"",null,"","",null,"","",null,"",2]
["",null,null,null,null,null,"",null,"","",null,"","",null,"",2]
["",null,null,null,null,null,"",null,"","",null,"","",null,"",3]
["",null,null,null,null,null,"",null,"","",null,"","",null,"",3]
["",null,null,null,null,null,"",null,"","",null,"","",null,"",3]
["",null,null,null,null,null,"",null,"","",null,"","",null,"",3]
["",null,null,null,null,null,"",null,"","",null,"","",null,"",4]
["",null,null,null,null,null,"",null,"","",null,"","",null,"",4]
["",null,null,null,null,null,"",null,"","",null,"","",null,"",4]
["",null,null,null,null,null,"",null,"","",null,"","",null,"",4]
["",null,null,null,null,null,"",null,"","",null,"","",null,"",5]
["",null,null,null,null,null,"",null,"","",null,"","",null,"",5]
["",null,null,null,null,null,"",null,"","",null,"","",null,"",5]
["",null,null,null,null,null,"",null,"","",null,"","",null,"",5]
["",null,null,null,null,null,"",null,"","",null,"","",null,"",6]
["",null,null,null,null,null,"",null,"","",null,"","",null,"",6]
["",null,null,null,null,null,"",null,"","",null,"","",null,"",6]
["",null,null,null,null,null,"",null,"","",null,"","",null,"",6]
["",null,null,null,null,null,"",null,"","",null,"","",null,"",7]
["",null,null,null,null,null,"",null,"","",null,"","",null,"",7]
["",null,null,null,null,null,"",null,"","",null,"","",null,"",7]
["",null,null,null,null,null,"",null,"","",null,"","",null,"",7]
["",null,null,null,null,null,"",null,"","",null,"","",null,"",8]
["",null,null,null,null,null,"",null,"","",null,"","",null,"",8]
["",null,null,null,null,null,"",null,"","",null,"","",null,"",8]
["",null,null,null,null,null,"",null,"","",null,"","",null,"",8]
[{"$f":"DBCS(IF(O39=\"\",\"\",RANK(O39,O$7:O$86,0)))","v":""},null,null,null,null,null,"",null,"","",null,"","",null,"",9]
["",null,null,null,null,null,"",null,"","",null,"","",null,"",9]
["",null,null,null,null,null,"",null,"","",null,"","",null,"",9]
["",null,null,null,null,null,"",null,"","",null,"","",null,"",9]
["",null,null,null,null,null,"",null,"","",null,"","",null,"",10]
["",null,null,null,null,null,"",null,"","",null,"","",null,"",10]
["",null,null,null,null,null,"",null,"","",null,"","",null,"",10]
["",null,null,null,null,null,"",null,"","",null,"","",null,"",10]
["",null,null,null,null,null,"",null,"","",null,"","",null,"",11]
["",null,null,null,null,null,"",null,"","",null,"","",null,"",11]
["",null,null,null,null,null,"",null,"","",null,"","",null,"",11]
["",null,null,null,null,null,"",null,"","",null,"","",null,"",11]
["",null,null,null,null,null,"",null,"","",null,"","",null,"",12]
["",null,null,null,null,null,"",null,"","",null,"","",null,"",12]
["",null,null,null,null,null,"",null,"","",null,"","",null,"",12]
["",null,null,null,null,null,"",null,"","",null,"","",null,"",12]
["",null,null,null,null,null,{"$f":"IF(F55=\"\",\"\",RANK(F55,F$7:F$86,0))","v":""},null,{"$f":"IF(H55=\"\",\"\",F55+H55)","v":""},{"$f":"IF(I55=\"\",\"\",RANK(I55,I$7:I$86,0))","v":""},null,{"$f":"IF(K55=\"\",\"\",K55+I55)","v":""},{"$f":"IF(L55=\"\",\"\",RANK(L55,L$7:L$86,0))","v":""},null,{"$f":"IF(AND(F55=\"\",H55=\"\",K55=\"\",N55=\"\"),\"\",F55+H55+K55+N55)","v":""},13]
["",null,null,null,{"$f":"IF(C56=\"\",\"\",IF(ISNUMBER(E52),IF(E52<$C$2,E52+1,E52+1-$C$2),1))","v":""},null,"",null,"","",null,"","",null,"",13]
["",null,null,null,"",null,"",null,"","",null,"","",null,"",13]
["",null,null,null,"",null,"",null,"","",null,"","",null,"",13]
["",null,null,null,"",null,"",null,"","",null,"","",null,"",14]
["",null,null,null,"",null,"",null,"","",null,"","",null,"",14]
["",null,null,null,"",null,"",null,"","",null,"","",null,"",14]
["",null,null,null,"",null,"",null,"","",null,"","",null,"",14]
["",null,null,null,"",null,"",null,"","",null,"","",null,"",15]
["",null,null,null,"",null,"",null,"","",null,"","",null,"",15]
["",null,null,null,"",null,"",null,"","",null,"","",null,"",15]
["",null,null,null,"",null,"",null,"","",null,"","",null,"",15]
["",null,null,null,"",null,"",null,"","",null,"","",null,"",16]
["",null,null,null,"",null,"",null,"","",null,"","",null,"",16]
["",null,null,null,"",null,"",null,"","",null,"","",null,"",16]
["",null,null,null,"",null,"",null,"","",null,"","",null,"",16]
[{"$f":"DBCS(IF(O71=\"\",\"\",RANK(O71,O$7:O$86,0)))","v":""},null,null,null,{"$f":"IF(C71=\"\",\"\",IF(ISNUMBER(E67),IF(E67<$C$2,E67+1,E67+1-$C$2),1))","v":""},null,{"$f":"IF(F71=\"\",\"\",RANK(F71,F$7:F$86,0))","v":""},null,"",{"$f":"IF(I71=\"\",\"\",RANK(I71,I$7:I$86,0))","v":""},null,"",{"$f":"IF(L71=\"\",\"\",RANK(L71,L$7:L$86,0))","v":""},null,"",17]
["",null,null,null,"",null,"",null,"","",null,"","",null,"",17]
["",null,null,null,"",null,"",null,"","",null,"","",null,"",17]
["",null,null,null,"",null,"",null,"","",null,"","",null,"",17]
["",null,null,null,"",null,"",null,"","",null,"","",null,"",18]
["",null,null,null,"",null,"",null,"","",null,"","",null,"",18]
["",null,null,null,"",null,"",null,"","",null,"","",null,"",18]
["",null,null,null,"",null,"",null,"","",null,"","",null,"",18]
["",null,null,null,"",null,"",null,"","",null,"","",null,"",19]
["",null,null,null,"",null,"",null,"","",null,"","",null,"",19]
["",null,null,null,"",null,"",null,"","",null,"","",null,"",19]
["",null,null,null,"",null,"",null,"","",null,"","",null,"",19]
["",null,null,null,"",null,"",null,"","",null,"","",null,"",20]
["",null,null,null,"",null,"",null,"","",null,"","",null,"",20]
["",null,null,null,"",null,"",null,"","",null,"","",null,"",20]
["",null,null,null,"",null,"",null,"","",null,"","",null,"",20]
[null,null,null,null,null,{"$f":"SUM(F7:F86)","v":0},null,{"$f":"SUM(H7:H86)","v":0},null,null,{"$f":"SUM(K7:K86)","v":0},null,null,{"$f":"SUM(N7:N86)","v":0},{"$f":"SUM(O7:O86)","v":0}]
[null,null,null,null,null,{"$f":"MOD(COUNT(F7:F86), 4)","v":0},null,{"$f":"MOD(COUNT(H7:H86), 4)","v":0},null,null,{"$f":"MOD(COUNT(K7:K86), 4)","v":0},null,null,{"$f":"MOD(COUNT(N7:N86), 4)","v":0}]

{"sheet":"300","index":4,"n_rows":88,"n_cols":16,"rows_kept":88,"cut":false,"hidden":false,"merged":[[4,0,4,2],[4,3,4,11],[4,12,4,14]]}
[]
[null,"卓",0]
[null,"回",1,null,null,{"$f":"F87","v":0},null,{"$f":"H87","v":0},null,null,{"$f":"K87","v":0},null,null,{"$f":"N87","v":0},null,"←1回戦ごとの合計が表示される。"]
[null,null,"↓編集中","↓編集中",null,"↓編集中",null,"↓編集中",null,null,"↓編集中",null,null,"↓編集中",null,"←全てのデータが入力完了した/データを再修正したい時はここをダブルクリック"]
[{"$f":"WINDOM!A5","v":"2017-06-20"},null,null,{"$f":"WINDOM!D5","v":"（大会名）"},null,null,null,null,null,null,null,null,{"$f":"WINDOM!M5","v":0}]
["順位","№","氏　　　名","学校名","卓番","１回戦","Ｒ","２回戦","小計","Ｒ","３回戦","小計","Ｒ","４回戦","合計"]
[{"$f":"DBCS(IF(O7=\"\",\"\",RANK(O7,O$7:O$86,0)))","v":""},null,null,null,null,null,{"$f":"IF(F7=\"\",\"\",RANK(F7,F$7:F$86,0))","v":""},null,{"$f":"IF(H7=\"\",\"\",F7+H7)","v":""},{"$f":"IF(I7=\"\",\"\",RANK(I7,I$7:I$86,0))","v":""},null,{"$f":"IF(K7=\"\",\"\",K7+I7)","v":""},{"$f":"IF(L7=\"\",\"\",RANK(L7,L$7:L$86,0))","v":""},null,{"$f":"IF(AND(F7=\"\",H7=\"\",K7=\"\",N7=\"\"),\"\",F7+H7+K7+N7)","v":""},1]
["",null,null,null,null,null,"",null,"","",null,"","",null,"",1]
["",null,null,null,null,null,"",null,"","",null,"","",null,"",1]
["",null,null,null,null,null,"",null,"","",null,"","",null,"",1]
["",null,null,null,null,null,"",null,"","",null,"","",null,"",2]
["",null,null,null,null,null,"",null,"","",null,"","",null,"",2]
["",null,null,null,null,null,"",null,"","",null,"","",null,"",2]
["",null,null,null,null,null,"",null,"","",null,"","",null,"",2]
["",null,null,null,null,null,"",null,"","",null,"","",null,"",3]
["",null,null,null,null,null,"",null,"","",null,"","",null,"",3]
["",null,null,null,null,null,"",null,"","",null,"","",null,"",3]
["",null,null,null,null,null,"",null,"","",null,"","",null,"",3]
["",null,null,null,null,null,"",null,"","",null,"","",null,"",4]
["",null,null,null,null,null,"",null,"","",null,"","",null,"",4]
["",null,null,null,null,null,"",null,"","",null,"","",null,"",4]
["",null,null,null,null,null,"",null,"","",null,"","",null,"",4]
["",null,null,null,null,null,"",null,"","",null,"","",null,"",5]
["",null,null,null,null,null,"",null,"","",null,"","",null,"",5]
["",null,null,null,null,null,"",null,"","",null,"","",null,"",5]
["",null,null,null,null,null,"",null,"","",null,"","",null,"",5]
["",null,null,null,null,null,"",null,"","",null,"","",null,"",6]
["",null,null,null,null,null,"",null,"","",null,"","",null,"",6]
["",null,null,null,null,null,"",null,"","",null,"","",null,"",6]
["",null,null,null,null,null,"",null,"","",null,"","",null,"",6]
["",null,null,null,null,null,"",null,"","",null,"","",null,"",7]
["",null,null,null,null,null,"",null,"","",null,"","",null,"",7]
["",null,null,null,null,null,"",null,"","",null,"","",null,"",7]
["",null,null,null,null,null,"",null,"","",null,"","",null,"",7]
["",null,null,null,null,null,"",null,"","",null,"","",null,"",8]
["",null,null,null,null,null,"",null,"","",null,"","",null,"",8]
["",null,null,null,null,null,"",null,"","",null,"","",null,"",8]
["",null,null,null,null,null,"",null,"","",null,"","",null,"",8]
[{"$f":"DBCS(IF(O39=\"\",\"\",RANK(O39,O$7:O$86,0)))","v":""},null,null,null,null,null,"",null,"","",null,"","",null,"",9]
["",null,null,null,null,null,"",null,"","",null,"","",null,"",9]
["",null,null,null,null,null,"",null,"","",null,"","",null,"",9]
["",null,null,null,null,null,"",null,"","",null,"","",null,"",9]
["",null,null,null,null,null,"",null,"","",null,"","",null,"",10]
["",null,null,null,null,null,"",null,"","",null,"","",null,"",10]
["",null,null,null,null,null,"",null,"","",null,"","",null,"",10]
["",null,null,null,null,null,"",null,"","",null,"","",null,"",10]
["",null,null,null,null,null,"",null,"","",null,"","",null,"",11]
["",null,null,null,null,null,"",null,"","",null,"","",null,"",11]
["",null,null,null,null,null,"",null,"","",null,"","",null,"",11]
["",null,null,null,null,null,"",null,"","",null,"","",null,"",11]
["",null,null,null,null,null,{"$f":"IF(F51=\"\",\"\",RANK(F51,F$7:F$86,0))","v":""},null,{"$f":"IF(H51=\"\",\"\",F51+H51)","v":""},{"$f":"IF(I51=\"\",\"\",RANK(I51,I$7:I$86,0))","v":""},null,{"$f":"IF(K51=\"\",\"\",K51+I51)","v":""},{"$f":"IF(L51=\"\",\"\",RANK(L51,L$7:L$86,0))","v":""},null,{"$f":"IF(AND(F51=\"\",H51=\"\",K51=\"\",N51=\"\"),\"\",F51+H51+K51+N51)","v":""},12]
["",null,null,null,{"$f":"IF(C52=\"\",\"\",IF(ISNUMBER(E48),IF(E48<$C$2,E48+1,E48+1-$C$2),1))","v":""},null,"",null,"","",null,"","",null,"",12]
["",null,null,null,"",null,"",null,"","",null,"","",null,"",12]
["",null,null,null,"",null,"",null,"","",null,"","",null,"",12]
["",null,null,null,"",null,"",null,"","",null,"","",null,"",13]
["",null,null,null,"",null,"",null,"","",null,"","",null,"",13]
["",null,null,null,"",null,"",null,"","",null,"","",null,"",13]
["",null,null,null,"",null,"",null,"","",null,"","",null,"",13]
["",null,null,null,"",null,"",null,"","",null,"","",null,"",14]
["",null,null,null,"",null,"",null,"","",null,"","",null,"",14]
["",null,null,null,"",null,"",null,"","",null,"","",null,"",14]
["",null,null,null,"",null,"",null,"","",null,"","",null,"",14]
["",null,null,null,"",null,"",null,"","",null,"","",null,"",15]
["",null,null,null,"",null,"",null,"","",null,"","",null,"",15]
["",null,null,null,"",null,"",null,"","",null,"","",null,"",15]
["",null,null,null,"",null,"",null,"","",null,"","",null,"",15]
["",null,null,null,"",null,"",null,"","",null,"","",null,"",16]
["",null,null,null,"",null,"",null,"","",null,"","",null,"",16]
["",null,null,null,"",null,"",null,"","",null,"","",null,"",16]
["",null,null,null,"",null,"",null,"","",null,"","",null,"",16]
[{"$f":"DBCS(IF(O71=\"\",\"\",RANK(O71,O$7:O$86,0)))","v":""},null,null,null,{"$f":"IF(C71=\"\",\"\",IF(ISNUMBER(E67),IF(E67<$C$2,E67+1,E67+1-$C$2),1))","v":""},null,{"$f":"IF(F71=\"\",\"\",RANK(F71,F$7:F$86,0))","v":""},null,{"$f":"IF(H71=\"\",\"\",F71+H71)","v":""},{"$f":"IF(I71=\"\",\"\",RANK(I71,I$7:I$86,0))","v":""},null,{"$f":"IF(K71=\"\",\"\",K71+I71)","v":""},{"$f":"IF(L71=\"\",\"\",RANK(L71,L$7:L$86,0))","v":""},null,{"$f":"IF(AND(F71=\"\",H71=\"\",K71=\"\",N71=\"\"),\"\",F71+H71+K71+N71)","v":""},17]
["",null,null,null,"",null,"",null,"","",null,"","",null,"",17]
["",null,null,null,"",null,"",null,"","",null,"","",null,"",17]
["",null,null,null,"",null,"",null,"","",null,"","",null,"",17]
["",null,null,null,"",null,"",null,"","",null,"","",null,"",18]
["",null,null,null,"",null,"",null,"","",null,"","",null,"",18]
["",null,null,null,"",null,"",null,"","",null,"","",null,"",18]
["",null,null,null,"",null,"",null,"","",null,"","",null,"",18]
["",null,null,null,"",null,"",null,"","",null,"","",null,"",19]
["",null,null,null,"",null,"",null,"","",null,"","",null,"",19]
["",null,null,null,"",null,"",null,"","",null,"","",null,"",19]
["",null,null,null,"",null,"",null,"","",null,"","",null,"",19]
["",null,null,null,"",null,"",null,"","",null,"","",null,"",20]
["",null,null,null,"",null,"",null,"","",null,"","",null,"",20]
["",null,null,null,"",null,"",null,"","",null,"","",null,"",20]
["",null,null,null,"",null,"",null,"","",null,"","",null,"",20]
[null,null,null,null,null,{"$f":"SUM(F7:F86)","v":0},null,{"$f":"SUM(H7:H86)","v":0},null,null,{"$f":"SUM(K7:K86)","v":0},null,null,{"$f":"SUM(N7:N86)","v":0},{"$f":"SUM(O7:O86)","v":0}]
[null,null,null,null,null,{"$f":"MOD(COUNT(F7:F86), 4)","v":0},null,{"$f":"MOD(COUNT(H7:H86), 4)","v":0},null,null,{"$f":"MOD(COUNT(K7:K86), 4)","v":0},null,null,{"$f":"MOD(COUNT(N7:N86), 4)","v":0}]

{"sheet":"400","index":5,"n_rows":88,"n_cols":16,"rows_kept":88,"cut":false,"hidden":false,"merged":[[4,0,4,2],[4,3,4,11],[4,12,4,14]]}
[]
[null,"卓",10]
[null,"回",1,null,null,{"$f":"F87","v":0},null,{"$f":"H87","v":0},null,null,{"$f":"K87","v":0},null,null,{"$f":"N87","v":0},null,"←1回戦ごとの合計が表示される。"]
[null,null,"↓編集中","↓編集中",null,"↓編集中",null,"↓編集中",null,null,"↓編集中",null,null,"↓編集中",null,"←全てのデータが入力完了した/データを再修正したい時はここをダブルクリック"]
[{"$f":"WINDOM!A5","v":"2017-06-20"},null,null,{"$f":"WINDOM!D5","v":"（大会名）"},null,null,null,null,null,null,null,null,{"$f":"WINDOM!M5","v":0}]
["順位","№","氏　　　名","学校名","卓番","１回戦","Ｒ","２回戦","小計","Ｒ","３回戦","小計","Ｒ","４回戦","合計"]
[{"$f":"DBCS(IF(O7=\"\",\"\",RANK(O7,O$7:O$86,0)))","v":""},null,null,null,{"$f":"IF(C7=\"\",\"\",IF(ISNUMBER(E3),IF(E3<$C$2,E3+1,E3+1-$C$2),1))","v":""},null,{"$f":"IF(F7=\"\",\"\",RANK(F7,F$7:F$86,0))","v":""},null,{"$f":"IF(H7=\"\",\"\",F7+H7)","v":""},{"$f":"IF(I7=\"\",\"\",RANK(I7,I$7:I$86,0))","v":""},null,{"$f":"IF(K7=\"\",\"\",K7+I7)","v":""},{"$f":"IF(L7=\"\",\"\",RANK(L7,L$7:L$86,0))","v":""},null,{"$f":"IF(AND(F7=\"\",H7=\"\",K7=\"\",N7=\"\"),\"\",F7+H7+K7+N7)","v":""},1]
["",null,null,null,"",null,"",null,"","",null,"","",null,"",1]
["",null,null,null,"",null,"",null,"","",null,"","",null,"",1]
["",null,null,null,"",null,"",null,"","",null,"","",null,"",1]
["",null,null,null,"",null,"",null,"","",null,"","",null,"",2]
["",null,null,null,"",null,"",null,"","",null,"","",null,"",2]
["",null,null,null,"",null,"",null,"","",null,"","",null,"",2]
["",null,null,null,"",null,"",null,"","",null,"","",null,"",2]
["",null,null,null,{"$f":"IF($C$3=1,1,IF($C$3=2,5,IF($C$3=3,9,IF($C$3=4,3))))","v":1},null,"",null,"","",null,"","",null,"",3]
["",null,null,null,{"$f":"IF(C16=\"\",\"\",IF(ISNUMBER(E12),IF(E12<$C$2,E12+1,E12+1-$C$2),1))","v":""},null,"",null,"","",null,"","",null,"",3]
["",null,null,null,{"$f":"IF(C17=\"\",\"\",IF(ISNUMBER(E13),IF(E13<$C$2,E13+1,E13+1-$C$2),1))","v":""},null,"",null,"","",null,"","",null,"",3]
["",null,null,null,{"$f":"IF(C18=\"\",\"\",IF(ISNUMBER(E14),IF(E14<$C$2,E14+1,E14+1-$C$2),1))","v":""},null,"",null,"","",null,"","",null,"",3]
["",null,null,null,{"$f":"$C$3","v":1},null,"",null,"","",null,"","",null,"",4]
["",null,null,null,{"$f":"IF(C20=\"\",\"\",IF(ISNUMBER(E16),IF(E16<$C$2,E16+1,E16+1-$C$2),1))","v":""},null,"",null,"","",null,"","",null,"",4]
["",null,null,null,"",null,"",null,"","",null,"","",null,"",4]
["",null,null,null,"",null,"",null,"","",null,"","",null,"",4]
["",null,null,null,"",null,"",null,"","",null,"","",null,"",5]
["",null,null,null,"",null,"",null,"","",null,"","",null,"",5]
["",null,null,null,"",null,"",null,"","",null,"","",null,"",5]
["",null,null,null,"",null,"",null,"","",null,"","",null,"",5]
["",null,null,null,"",null,"",null,"","",null,"","",null,"",6]
["",null,null,null,"",null,"",null,"","",null,"","",null,"",6]
["",null,null,null,"",null,"",null,"","",null,"","",null,"",6]
["",null,null,null,"",null,"",null,"","",null,"","",null,"",6]
["",null,null,null,{"$f":"IF($C$3=1,1,IF($C$3=2,3,IF($C$3=3,5,IF($C$3=4,7))))","v":1},null,"",null,"","",null,"","",null,"",7]
["",null,null,null,{"$f":"IF(C32=\"\",\"\",IF(ISNUMBER(E28),IF(E28<$C$2,E28+1,E28+1-$C$2),1))","v":""},null,"",null,"","",null,"","",null,"",7]
["",null,null,null,"",null,"",null,"","",null,"","",null,"",7]
["",null,null,null,"",null,"",null,"","",null,"","",null,"",7]
["",null,null,null,"",null,"",null,"","",null,"","",null,"",8]
["",null,null,null,"",null,"",null,"","",null,"","",null,"",8]
["",null,null,null,"",null,"",null,"","",null,"","",null,"",8]
["",null,null,null,"",null,"",null,"","",null,"","",null,"",8]
[{"$f":"DBCS(IF(O39=\"\",\"\",RANK(O39,O$7:O$86,0)))","v":""},null,null,null,"",null,"",null,"","",null,"","",null,"",9]
["",null,null,null,"",null,"",null,"","",null,"","",null,"",9]
["",null,null,null,"",null,"",null,"","",null,"","",null,"",9]
["",null,null,null,"",null,"",null,"","",null,"","",null,"",9]
["",null,null,null,{"$f":"IF($C$3=1,1,IF($C$3=2,4,IF($C$3=3,7,IF($C$3=4,10))))","v":1},null,"",null,"","",null,"","",null,"",10]
["",null,null,null,{"$f":"IF(C44=\"\",\"\",IF(ISNUMBER(E40),IF(E40<$C$2,E40+1,E40+1-$C$2),1))","v":""},null,"",null,"","",null,"","",null,"",10]
["",null,null,null,{"$f":"IF(C45=\"\",\"\",IF(ISNUMBER(E41),IF(E41<$C$2,E41+1,E41+1-$C$2),1))","v":""},null,"",null,"","",null,"","",null,"",10]
["",null,null,null,{"$f":"IF(C46=\"\",\"\",IF(ISNUMBER(E42),IF(E42<$C$2,E42+1,E42+1-$C$2),1))","v":""},null,"",null,"","",null,"","",null,"",10]
["",null,null,null,{"$f":"IF(C47=\"\",\"\",IF(ISNUMBER(E43),IF(E43<$C$2,E43+1,E43+1-$C$2),1))","v":""},null,{"$f":"IF(F47=\"\",\"\",RANK(F47,F$7:F$86,0))","v":""},null,{"$f":"IF(H47=\"\",\"\",F47+H47)","v":""},{"$f":"IF(I47=\"\",\"\",RANK(I47,I$7:I$86,0))","v":""},null,{"$f":"IF(K47=\"\",\"\",K47+I47)","v":""},{"$f":"IF(L47=\"\",\"\",RANK(L47,L$7:L$86,0))","v":""},null,{"$f":"IF(AND(F47=\"\",H47=\"\",K47=\"\",N47=\"\"),\"\",F47+H47+K47+N47)","v":""},11]
["",null,null,null,"",null,"",null,"","",null,"","",null,"",11]
["",null,null,null,"",null,"",null,"","",null,"","",null,"",11]
["",null,null,null,"",null,"",null,"","",null,"","",null,"",11]
["",null,null,null,"",null,"",null,"","",null,"","",null,"",12]
["",null,null,null,"",null,"",null,"","",null,"","",null,"",12]
["",null,null,null,"",null,"",null,"","",null,"","",null,"",12]
["",null,null,null,"",null,"",null,"","",null,"","",null,"",12]
["",null,null,null,"",null,"",null,"","",null,"","",null,"",13]
["",null,null,null,"",null,"",null,"","",null,"","",null,"",13]
["",null,null,null,"",null,"",null,"","",null,"","",null,"",13]
["",null,null,null,"",null,"",null,"","",null,"","",null,"",13]
["",null,null,null,"",null,"",null,"","",null,"","",null,"",14]
["",null,null,null,"",null,"",null,"","",null,"","",null,"",14]
["",null,null,null,"",null,"",null,"","",null,"","",null,"",14]
["",null,null,null,"",null,"",null,"","",null,"","",null,"",14]
["",null,null,null,"",null,"",null,"","",null,"","",null,"",15]
["",null,null,null,"",null,"",null,"","",null,"","",null,"",15]
["",null,null,null,"",null,"",null,"","",null,"","",null,"",15]
["",null,null,null,"",null,"",null,"","",null,"","",null,"",15]
["",null,null,null,"",null,"",null,"","",null,"","",null,"",16]
["",null,null,null,"",null,"",null,"","",null,"","",null,"",16]
["",null,null,null,"",null,"",null,"","",null,"","",null,"",16]
["",null,null,null,"",null,"",null,"","",null,"","",null,"",16]
[{"$f":"DBCS(IF(O71=\"\",\"\",RANK(O71,O$7:O$86,0)))","v":""},null,null,null,{"$f":"IF(C71=\"\",\"\",IF(ISNUMBER(E67),IF(E67<$C$2,E67+1,E67+1-$C$2),1))","v":""},null,{"$f":"IF(F71=\"\",\"\",RANK(F71,F$7:F$86,0))","v":""},null,{"$f":"IF(H71=\"\",\"\",F71+H71)","v":""},{"$f":"IF(I71=\"\",\"\",RANK(I71,I$7:I$86,0))","v":""},null,{"$f":"IF(K71=\"\",\"\",K71+I71)","v":""},{"$f":"IF(L71=\"\",\"\",RANK(L71,L$7:L$86,0))","v":""},null,{"$f":"IF(AND(F71=\"\",H71=\"\",K71=\"\",N71=\"\"),\"\",F71+H71+K71+N71)","v":""},17]
["",null,null,null,"",null,"",null,"","",null,"","",null,"",17]
["",null,null,null,"",null,"",null,"","",null,"","",null,"",17]
["",null,null,null,"",null,"",null,"","",null,"","",null,"",17]
["",null,null,null,"",null,"",null,"","",null,"","",null,"",18]
["",null,null,null,"",null,"",null,"","",null,"","",null,"",18]
["",null,null,null,"",null,"",null,"","",null,"","",null,"",18]
["",null,null,null,"",null,"",null,"","",null,"","",null,"",18]
["",null,null,null,"",null,"",null,"","",null,"","",null,"",19]
["",null,null,null,"",null,"",null,"","",null,"","",null,"",19]
["",null,null,null,"",null,"",null,"","",null,"","",null,"",19]
["",null,null,null,"",null,"",null,"","",null,"","",null,"",19]
["",null,null,null,"",null,"",null,"","",null,"","",null,"",20]
["",null,null,null,"",null,"",null,"","",null,"","",null,"",20]
["",null,null,null,"",null,"",null,"","",null,"","",null,"",20]
["",null,null,null,"",null,"",null,"","",null,"","",null,"",20]
[null,null,null,null,null,{"$f":"SUM(F7:F86)","v":0},null,{"$f":"SUM(H7:H86)","v":0},null,null,{"$f":"SUM(K7:K86)","v":0},null,null,{"$f":"SUM(N7:N86)","v":0},{"$f":"SUM(O7:O86)","v":0}]
[null,null,null,null,null,{"$f":"MOD(COUNT(F7:F86), 4)","v":0},null,{"$f":"MOD(COUNT(H7:H86), 4)","v":0},null,null,{"$f":"MOD(COUNT(K7:K86), 4)","v":0},null,null,{"$f":"MOD(COUNT(N7:N86), 4)","v":0}]