{"text_format":"1","workbook":"xlsx","n_sheets":5,"sheets":["WINDOM","100","200","300","400"],"not_rendered":{"charts":0,"images":22,"macros":1,"external_links":0,"defined_names":50,"comments":0,"pivot_tables":0},"unopened":[],"bounds":{"document_bytes":16777216,"sheet_cells":100000,"rows_first":2000,"rows_last":500,"rows_between":2000,"halvings":0,"cell_chars":16384,"cell_head_chars":4096},"cells_cut":0,"cells_raw":0,"read":"whole","date_system":"1900"}

{"sheet":"WINDOM","index":0,"n_rows":328,"n_cols":16,"rows_kept":328,"cut":false,"hidden":false,"merged":[[4,0,4,2],[4,3,4,11],[4,12,4,14]]}
[]
[null,"卓",10]
[null,"回",1,null,null,{"$f":"F327","v":0},null,{"$f":"H327","v":0},null,null,{"$f":"K327","v":0},null,null,{"$f":"N327","v":0},null,"←1回戦ごとの合計が表示される。"]
[null,null,"↓編集中","↓編集中",null,"↓編集中",null,"↓編集中",null,null,"↓編集中",null,null,"↓編集中",null,"←全てのデータが入力完了した/データを再修正したい時はここをダブルクリック"]
[{"$f":"TODAY()","v":"2017-06-21"},null,null,"(大会タイトル）",null,null,null,null,null,null,null,null,"（会場名）"]
["順位","№","氏　　　名","段位","卓番","１回戦","Ｒ","２回戦","小計","Ｒ","３回戦","小計","Ｒ","４回戦","合計"]
[{"$f":"DBCS(IF(O7=\"\",\"\",RANK(O7,O$7:O$326,0)))","v":""},null,null,null,null,null,{"$f":"IF(F7=\"\",\"\",RANK(F7,F$7:F$326,0))","v":""},null,{"$f":"IF(H7=\"\",\"\",F7+H7)","v":""},{"$f":"IF(I7=\"\",\"\",RANK(I7,I$7:I$326,0))","v":""},null,{"$f":"IF(K7=\"\",\"\",K7+I7)","v":""},{"$f":"IF(L7=\"\",\"\",RANK(L7,L$7:L$326,0))","v":""},null,{"$f":"IF(AND(F7=\"\",H7=\"\",K7=\"\",N7=\"\"),\"\",F7+H7+K7+N7)","v":""},1]
[{"$f":"DBCS(IF(O8=\"\",\"\",RANK(O8,O$7:O$326,0)))","v":""},null,null,null,null,null,"",null,"","",null,"","",null,"",1]
[{"$f":"DBCS(IF(O9=\"\",\"\",RANK(O9,O$7:O$326,0)))","v":""},null,null,null,null,null,"",null,"","",null,"","",null,"",1]
["",null,null,null,null,null,"",null,"","",null,"","",null,"",1]
["",null,null,null,null,null,"",null,"","",null,"","",null,"",2]
["",null,null,null,null,null,"",null,"","",null,"","",null,"",2]
["",null,null,null,null,null,"",null,"","",null,"","",null,"",2]
["",null,null,null,null,null,"",null,"","",null,"","",null,"",2]
["",null,null,null,null,null,"",null,"","",null,"","",null,"",3]
["",null,null,null,null,null,"",null,"","",null,"","",null,"",3]
["",null,null,null,null,null,"",null,"","",null,"","",null,"",3]
["",null,null,null,null,null,"",null,"","",null,"","",null,"",3]
["",null,null,null,null,null,"",null,"","",null,"","",null,"",4]
["",null,null,null,null,null,"",null,"","",null,"","",null,"",4]
["",null,null,null,null,null,"",null,"","",null,"","",null,"",4]
["",null,null,null,null,null,"",null,"","",null,"","",null,"",4]
["",null,null,null,null,null,"",null,"","",null,"","",null,"",5]
["",null,null,null,null,null,"",null,"","",null,"","",null,"",5]
["",null,null,null,null,null,"",null,"","",null,"","",null,"",5]
["",null,null,null,null,null,"",null,"","",null,"","",null,"",5]
["",null,null,null,null,null,"",null,"","",null,"","",null,"",6]
["",null,null,null,null,null,"",null,"","",null,"","",null,"",6]
["",null,null,null,null,null,"",null,"","",null,"","",null,"",6]
["",null,null,null,null,null,"",null,"","",null,"","",null,"",6]
["",null,null,null,null,null,"",null,"","",null,"","",null,"",7]
["",null,null,null,null,null,"",null,"","",null,"","",null,"",7]
["",null,null,null,null,null,"",null,"","",null,"","",null,"",7]
["",null,null,null,null,null,"",null,"","",null,"","",null,"",7]
["",null,null,null,null,null,"",null,"","",null,"","",null,"",8]
["",null,null,null,null,null,"",null,"","",null,"","",null,"",8]
["",null,null,null,null,null,"",null,"","",null,"","",null,"",8]
["",null,null,null,null,null,"",null,"","",null,"","",null,"",8]
["",null,null,null,null,null,{"$f":"IF(F39=\"\",\"\",RANK(F39,F$7:F$326,0))","v":""},null,{"$f":"IF(H39=\"\",\"\",F39+H39)","v":""},{"$f":"IF(I39=\"\",\"\",RANK(I39,I$7:I$326,0))","v":""},null,{"$f":"IF(K39=\"\",\"\",K39+I39)","v":""},{"$f":"IF(L39=\"\",\"\",RANK(L39,L$7:L$326,0))","v":""},null,{"$f":"IF(AND(F39=\"\",H39=\"\",K39=\"\",N39=\"\"),\"\",F39+H39+K39+N39)","v":""},9]
["",null,null,null,null,null,"",null,"","",null,"","",null,"",9]
["",null,null,null,null,null,"",null,"","",null,"","",null,"",9]
["",null,null,null,null,null,"",null,"","",null,"","",null,"",9]
["",null,null,null,null,null,"",null,"","",null,"","",null,"",10]
["",null,null,null,null,null,"",null,"","",null,"","",null,"",10]
["",null,null,null,null,null,"",null,"","",null,"","",null,"",10]
["",null,null,null,null,null,"",null,"","",null,"","",null,"",10]
["",null,null,null,null,null,"",null,"","",null,"","",null,"",11]
["",null,null,null,null,null,"",null,"","",null,"","",null,"",11]
["",null,null,null,null,null,"",null,"","",null,"","",null,"",11]
["",null,null,null,null,null,"",null,"","",null,"","",null,"",11]
["",null,null,null,null,null,"",null,"","",null,"","",null,"",12]
["",null,null,null,null,null,"",null,"","",null,"","",null,"",12]
["",null,null,null,null,null,"",null,"","",null,"","",null,"",12]
["",null,null,null,null,null,"",null,"","",null,"","",null,"",12]
["",null,null,null,null,null,"",null,"","",null,"","",null,"",13]
["",null,null,null,null,null,"",null,"","",null,"","",null,"",13]
["",null,null,null,null,null,"",null,"","",null,"","",null,"",13]
["",null,null,null,null,null,"",null,"","",null,"","",null,"",13]
["",null,null,null,null,null,"",null,"","",null,"","",null,"",14]
["",null,null,null,null,null,"",null,"","",null,"","",null,"",14]
["",null,null,null,null,null,"",null,"","",null,"","",null,"",14]
["",null,null,null,null,null,"",null,"","",null,"","",null,"",14]
["",null,null,null,null,null,"",null,"","",null,"","",null,"",15]
["",null,null,null,null,null,"",null,"","",null,"","",null,"",15]
["",null,null,null,null,null,"",null,"","",null,"","",null,"",15]
["",null,null,null,null,null,"",null,"","",null,"","",null,"",15]
["",null,null,null,null,null,"",null,"","",null,"","",null,"",16]
["",null,null,null,null,null,"",null,"","",null,"","",null,"",16]
["",null,null,null,null,null,"",null,"","",null,"","",null,"",16]
["",null,null,null,null,null,"",null,"","",null,"","",null,"",16]
["",null,null,null,null,null,{"$f":"IF(F71=\"\",\"\",RANK(F71,F$7:F$326,0))","v":""},null,{"$f":"IF(H71=\"\",\"\",F71+H71)","v":""},{"$f":"IF(I71=\"\",\"\",RANK(I71,I$7:I$326,0))","v":""},null,{"$f":"IF(K71=\"\",\"\",K71+I71)","v":""},{"$f":"IF(L71=\"\",\"\",RANK(L71,L$7:L$326,0))","v":""},null,{"$f":"IF(AND(F71=\"\",H71=\"\",K71=\"\",N71=\"\"),\"\",F71+H71+K71+N71)","v":""},17]
["",null,null,null,null,null,"",null,"","",null,"","",null,"",17]
[{"$f":"DBCS(IF(O73=\"\",\"\",RANK(O73,O$7:O$326,0)))","v":""},null,null,null,null,null,"",null,"","",null,"","",null,"",17]
["",null,null,null,null,null,"",null,"","",null,"","",null,"",17]
["",null,null,null,null,null,"",null,"","",null,"","",null,"",18]
["",null,null,null,null,null,"",null,"","",null,"","",null,"",18]
["",null,null,null,null,null,"",null,"","",null,"","",null,"",18]
["",null,null,null,null,null,"",null,"","",null,"","",null,"",18]
["",null,null,null,null,null,{"$f":"IF(F79=\"\",\"\",RANK(F79,F$7:F$326,0))","v":""},null,{"$f":"IF(H79=\"\",\"\",F79+H79)","v":""},{"$f":"IF(I79=\"\",\"\",RANK(I79,I$7:I$326,0))","v":""},null,{"$f":"IF(K79=\"\",\"\",K79+I79)","v":""},{"$f":"IF(L79=\"\",\"\",RANK(L79,L$7:L$326,0))","v":""},null,{"$f":"IF(AND(F79=\"\",H79=\"\",K79=\"\",N79=\"\"),\"\",F79+H79+K79+N79)","v":""},19]
["",null,null,null,null,null,"",null,"","",null,"","",null,"",19]
["",null,null,null,null,null,"",null,"","",null,"","",null,"",19]
["",null,null,null,null,null,"",null,"","",null,"","",null,"",19]
["",null,null,null,null,null,"",null,"","",null,"","",null,"",20]
["",null,null,null,null,null,"",null,"","",null,"","",null,"",20]
["",null,null,null,null,null,"",null,"","",null,"","",null,"",20]
["",null,null,null,null,null,"",null,"","",null,"","",null,"",20]
["",null,null,null,null,null,"",null,"","",null,"","",null,"",21]
["",null,null,null,null,null,"",null,"","",null,"","",null,"",21]
["",null,null,null,null,null,"",null,"","",null,"","",null,"",21]
["",null,null,null,null,null,"",null,"","",null,"","",null,"",21]
["",null,null,null,null,null,"",null,"","",null,"","",null,"",22]
["",null,null,null,null,null,"",null,"","",null,"","",null,"",22]
["",null,null,null,null,null,"",null,"","",null,"","",null,"",22]
["",null,null,null,null,null,"",null,"","",null,"","",null,"",22]
["",null,null,null,null,null,"",null,"","",null,"","",null,"",23]
["",null,null,null,null,null,"",null,"","",null,"","",null,"",23]
["",null,null,null,null,null,"",null,"","",null,"","",null,"",23]
["",null,null,null,null,null,"",null,"","",null,"","",null,"",23]
["",null,null,null,null,null,"",null,"","",null,"","",null,"",24]
["",null,null,null,null,null,"",null,"","",null,"","",null,"",24]
["",null,null,null,null,null,"",null,"","",null,"","",null,"",24]
["",null,null,null,null,null,"",null,"","",null,"","",null,"",24]
["",null,null,null,null,null,"",null,"","",null,"","",null,"",25]
["",null,null,null,null,null,"",null,"","",null,"","",null,"",25]
["",null,null,null,null,null,"",null,"","",null,"","",null,"",25]
["",null,null,null,null,null,"",null,"","",null,"","",null,"",25]
["",null,null,null,null,null,"",null,"","",null,"","",null,"",26]
["",null,null,null,null,null,"",null,"","",null,"","",null,"",26]
["",null,null,null,null,null,"",null,"","",null,"","",null,"",26]
["",null,null,null,null,null,"",null,"","",null,"","",null,"",26]
["",null,null,null,null,null,"",null,"","",null,"","",null,"",27]
["",null,null,null,null,null,"",null,"","",null,"","",null,"",27]
["",null,null,null,null,null,"",null,"","",null,"","",null,"",27]
["",null,null,null,null,null,"",null,"","",null,"","",null,"",27]
["",null,null,null,null,null,"",null,"","",null,"","",null,"",28]
["",null,null,null,null,null,"",null,"","",null,"","",null,"",28]
["",null,null,null,null,null,"",null,"","",null,"","",null,"",28]
["",null,null,null,null,null,"",null,"","",null,"","",null,"",28]
["",null,null,null,null,null,"",null,"","",null,"","",null,"",29]
["",null,null,null,null,null,"",null,"","",null,"","",null,"",29]
["",null,null,null,null,null,"",null,"","",null,"","",null,"",29]
["",null,null,null,null,null,"",null,"","",null,"","",null,"",29]
["",null,null,null,null,null,"",null,"","",null,"","",null,"",30]
["",null,null,null,null,null,"",null,"","",null,"","",null,"",30]
["",null,null,null,null,null,"",null,"","",null,"","",null,"",30]
["",null,null,null,null,null,"",null,"","",null,"","",null,"",30]
["",null,null,null,null,null,"",null,"","",null,"","",null,"",31]
["",null,null,null,null,null,"",null,"","",null,"","",null,"",31]
["",null,null,null,null,null,"",null,"","",null,"","",null,"",31]
["",null,null,null,null,null,"",null,"","",null,"","",null,"",31]
["",null,null,null,null,null,"",null,"","",null,"","",null,"",32]
["",null,null,null,null,null,"",null,"","",null,"","",null,"",32]
["",null,null,null,null,null,"",null,"","",null,"","",null,"",32]
["",null,null,null,null,null,"",null,"","",null,"","",null,"",32]
["",null,null,null,null,null,{"$f":"IF(F135=\"\",\"\",RANK(F135,F$7:F$326,0))","v":""},null,"",{"$f":"IF(I135=\"\",\"\",RANK(I135,I$7:I$326,0))","v":""},null,"",{"$f":"IF(L135=\"\",\"\",RANK(L135,L$7:L$326,0))","v":""},null,"",33]
["",null,null,null,null,null,"",null,"","",null,"","",null,"",33]
[{"$f":"DBCS(IF(O137=\"\",\"\",RANK(O137,O$7:O$326,0)))","v":""},null,null,null,null,null,"",null,{"$f":"IF(H137=\"\",\"\",F137+H137)","v":""},"",null,{"$f":"IF(K137=\"\",\"\",K137+I137)","v":""},"",null,{"$f":"IF(AND(F137=\"\",H137=\"\",K137=\"\",N137=\"\"),\"\",F137+H137+K137+N137)","v":""},33]
["",null,null,null,null,null,"",null,"","",null,"","",null,"",33]
["",null,null,null,null,null,"",null,"","",null,"","",null,"",34]
["",null,null,null,null,null,"",null,"","",null,"","",null,"",34]
["",null,null,null,null,null,"",null,"","",null,"","",null,"",34]
["",null,null,null,null,null,"",null,"","",null,"","",null,"",34]
["",null,null,null,null,null,"",null,"","",null,"","",null,"",35]
["",null,null,null,null,null,"",null,"","",null,"","",null,"",35]
["",null,null,null,null,null,"",null,"","",null,"","",null,"",35]
["",null,null,null,null,null,"",null,"","",null,"","",null,"",35]
["",null,null,null,null,null,"",null,"","",null,"","",null,"",36]
["",null,null,null,null,null,"",null,"","",null,"","",null,"",36]
["",null,null,null,null,null,"",null,"","",null,"","",null,"",36]
["",null,null,null,null,null,"",null,"","",null,"","",null,"",36]
["",null,null,null,null,null,"",null,"","",null,"","",null,"",37]
["",null,null,null,null,null,"",null,"","",null,"","",null,"",37]
["",null,null,null,null,null,"",null,"","",null,"","",null,"",37]
["",null,null,null,null,null,"",null,"","",null,"","",null,"",37]
["",null,null,null,null,null,"",null,"","",null,"","",null,"",38]
["",null,null,null,null,null,"",null,"","",null,"","",null,"",38]
["",null,null,null,null,null,"",null,"","",null,"","",null,"",38]
["",null,null,null,null,null,"",null,"","",null,"","",null,"",38]
["",null,null,null,null,null,"",null,"","",null,"","",null,"",39]
["",null,null,null,null,null,"",null,"","",null,"","",null,"",39]
["",null,null,null,null,null,"",null,"","",null,"","",null,"",39]
["",null,null,null,null,null,"",null,"","",null,"","",null,"",39]
["",null,null,null,null,null,"",null,"","",null,"","",null,"",40]
["",null,null,null,null,null,"",null,"","",null,"","",null,"",40]
["",null,null,null,null,null,"",null,"","",null,"","",null,"",40]
["",null,null,null,null,null,"",null,"","",null,"","",null,"",40]
["",null,null,null,null,null,"",null,"","",null,"","",null,"",41]
["",null,null,null,null,null,"",null,"","",null,"","",null,"",41]
["",null,null,null,null,null,"",null,"","",null,"","",null,"",41]
["",null,null,null,null,null,"",null,"","",null,"","",null,"",41]
["",null,null,null,null,null,"",null,"","",null,"","",null,"",42]
["",null,null,null,null,null,"",null,"","",null,"","",null,"",42]
["",null,null,null,null,null,"",null,"","",null,"","",null,"",42]
["",null,null,null,null,null,"",null,"","",null,"","",null,"",42]
["",null,null,null,null,null,"",null,"","",null,"","",null,"",43]
["",null,null,null,null,null,"",null,"","",null,"","",null,"",43]
["",null,null,null,null,null,"",null,"","",null,"","",null,"",43]
["",null,null,null,null,null,"",null,"","",null,"","",null,"",43]
["",null,null,null,null,null,"",null,"","",null,"","",null,"",44]
["",null,null,null,null,null,"",null,"","",null,"","",null,"",44]
["",null,null,null,null,null,"",null,"","",null,"","",null,"",44]
["",null,null,null,null,null,"",null,"","",null,"","",null,"",44]
["",null,null,null,null,null,"",null,"","",null,"","",null,"",45]
["",null,null,null,null,null,"",null,"","",null,"","",null,"",45]
["",null,null,null,null,null,"",null,"","",null,"","",null,"",45]
["",null,null,null,null,null,"",null,"","",null,"","",null,"",45]
["",null,null,null,null,null,"",null,"","",null,"","",null,"",46]
["",null,null,null,null,null,"",null,"","",null,"","",null,"",46]
["",null,null,null,null,null,"",null,"","",null,"","",null,"",46]
["",null,null,null,null,null,"",null,"","",null,"","",null,"",46]
["",null,null,null,null,null,"",null,"","",null,"","",null,"",47]
["",null,null,null,null,null,"",null,"","",null,"","",null,"",47]
["",null,null,null,null,null,"",null,"","",null,"","",null,"",47]
["",null,null,null,null,null,"",null,"","",null,"","",null,"",47]
["",null,null,null,null,null,"",null,"","",null,"","",null,"",48]
["",null,null,null,null,null,"",null,"","",null,"","",null,"",48]
["",null,null,null,null,null,"",null,"","",null,"","",null,"",48]
["",null,null,null,null,null,"",null,"","",null,"","",null,"",48]
["",null,null,null,null,null,{"$f":"IF(F199=\"\",\"\",RANK(F199,F$7:F$326,0))","v":""},null,"",{"$f":"IF(I199=\"\",\"\",RANK(I199,I$7:I$326,0))","v":""},null,"",{"$f":"IF(L199=\"\",\"\",RANK(L199,L$7:L$326,0))","v":""},null,"",49]
["",null,null,null,null,null,"",null,"","",null,"","",null,"",49]
[{"$f":"DBCS(IF(O201=\"\",\"\",RANK(O201,O$7:O$326,0)))","v":""},null,null,null,null,null,"",null,{"$f":"IF(H201=\"\",\"\",F201+H201)","v":""},"",null,{"$f":"IF(K201=\"\",\"\",K201+I201)","v":""},"",null,{"$f":"IF(AND(F201=\"\",H201=\"\",K201=\"\",N201=\"\"),\"\",F201+H201+K201+N201)","v":""},49]
["",null,null,null,null,null,"",null,"","",null,"","",null,"",49]
["",null,null,null,null,null,"",null,"","",null,"","",null,"",50]
["",null,null,null,null,null,"",null,"","",null,"","",null,"",50]
["",null,null,null,null,null,"",null,"","",null,"","",null,"",50]
["",null,null,null,null,null,"",null,"","",null,"","",null,"",50]
["",null,null,null,null,null,"",null,"","",null,"","",null,"",51]
["",null,null,null,null,null,"",null,"","",null,"","",null,"",51]
["",null,null,null,null,null,"",null,"","",null,"","",null,"",51]
["",null,null,null,null,null,"",null,"","",null,"","",null,"",51]
["",null,null,null,null,null,"",null,"","",null,"","",null,"",52]
["",null,null,null,null,null,"",null,"","",null,"","",null,"",52]
["",null,null,null,null,null,"",null,"","",null,"","",null,"",52]
["",null,null,null,null,null,"",null,"","",null,"","",null,"",52]
["",null,null,null,null,null,"",null,"","",null,"","",null,"",53]
["",null,null,null,null,null,"",null,"","",null,"","",null,"",53]
["",null,null,null,null,null,"",null,"","",null,"","",null,"",53]
["",null,null,null,null,null,"",null,"","",null,"","",null,"",53]
["",null,null,null,null,null,"",null,"","",null,"","",null,"",54]
["",null,null,null,null,null,"",null,"","",null,"","",null,"",54]
["",null,null,null,null,null,"",null,"","",null,"","",null,"",54]
["",null,null,null,null,null,"",null,"","",null,"","",null,"",54]
["",null,null,null,null,null,"",null,"","",null,"","",null,"",55]
["",null,null,null,null,null,"",null,"","",null,"","",null,"",55]
["",null,null,null,null,null,"",null,"","",null,"","",null,"",55]
["",null,null,null,null,null,"",null,"","",null,"","",null,"",55]
["",null,null,null,null,null,"",null,"","",null,"","",null,"",56]
["",null,null,null,null,null,"",null,"","",null,"","",null,"",56]
["",null,null,null,null,null,"",null,"","",null,"","",null,"",56]
["",null,null,null,null,null,"",null,"","",null,"","",null,"",56]
["",null,null,null,null,null,"",null,"","",null,"","",null,"",57]
["",null,null,null,null,null,"",null,"","",null,"","",null,"",57]
["",null,null,null,null,null,"",null,"","",null,"","",null,"",57]
["",null,null,null,null,null,"",null,"","",null,"","",null,"",57]
["",null,null,null,null,null,"",null,"","",null,"","",null,"",58]
["",null,null,null,null,null,"",null,"","",null,"","",null,"",58]
["",null,null,null,null,null,"",null,"","",null,"","",null,"",58]
["",null,null,null,null,null,"",null,"","",null,"","",null,"",58]
["",null,null,null,null,null,"",null,"","",null,"","",null,"",59]
["",null,null,null,null,null,"",null,"","",null,"","",null,"",59]
["",null,null,null,null,null,"",null,"","",null,"","",null,"",59]
["",null,null,null,null,null,"",null,"","",null,"","",null,"",59]
["",null,null,null,null,null,"",null,"","",null,"","",null,"",60]
["",null,null,null,null,null,"",null,"","",null,"","",null,"",60]
["",null,null,null,null,null,"",null,"","",null,"","",null,"",60]
["",null,null,null,null,null,"",null,"","",null,"","",null,"",60]
["",null,null,null,null,null,"",null,"","",null,"","",null,"",61]
["",null,null,null,null,null,"",null,"","",null,"","",null,"",61]
["",null,null,null,null,null,"",null,"","",null,"","",null,"",61]
["",null,null,null,null,null,"",null,"","",null,"","",null,"",61]
["",null,null,null,null,null,"",null,"","",null,"","",null,"",62]
["",null,null,null,null,null,"",null,"","",null,"","",null,"",62]
["",null,null,null,null,null,"",null,"","",null,"","",null,"",62]
["",null,null,null,null,null,"",null,"","",null,"","",null,"",62]
["",null,null,null,null,null,"",null,"","",null,"","",null,"",63]
["",null,null,null,null,null,"",null,"","",null,"","",null,"",63]
["",null,null,null,null,null,"",null,"","",null,"","",null,"",63]
["",null,null,null,null,null,"",null,"","",null,"","",null,"",63]
["",null,null,null,null,null,"",null,"","",null,"","",null,"",64]
["",null,null,null,null,null,"",null,"","",null,"","",null,"",64]
["",null,null,null,null,null,"",null,"","",null,"","",null,"",64]
["",null,null,null,null,null,"",null,"","",null,"","",null,"",64]
["",null,null,null,null,null,{"$f":"IF(F263=\"\",\"\",RANK(F263,F$7:F$326,0))","v":""},null,"",{"$f":"IF(I263=\"\",\"\",RANK(I263,I$7:I$326,0))","v":""},null,"",{"$f":"IF(L263=\"\",\"\",RANK(L263,L$7:L$326,0))","v":""},null,"",65]
["",null,null,null,null,null,"",null,"","",null,"","",null,"",65]
[{"$f":"DBCS(IF(O265=\"\",\"\",RANK(O265,O$7:O$326,0)))","v":""},null,null,null,null,null,"",null,{"$f":"IF(H265=\"\",\"\",F265+H265)","v":""},"",null,{"$f":"IF(K265=\"\",\"\",K265+I265)","v":""},"",null,{"$f":"IF(AND(F265=\"\",H265=\"\",K265=\"\",N265=\"\"),\"\",F265+H265+K265+N265)","v":""},65]
["",null,null,null,null,null,"",null,"","",null,"","",null,"",65]
["",null,null,null,null,null,"",null,"","",null,"","",null,"",66]
["",null,null,null,null,null,"",null,"","",null,"","",null,"",66]
["",null,null,null,null,null,"",null,"","",null,"","",null,"",66]
["",null,null,null,null,null,"",null,"","",null,"","",null,"",66]
["",null,null,null,null,null,"",null,"","",null,"","",null,"",67]
["",null,null,null,null,null,"",null,"","",null,"","",null,"",67]
["",null,null,null,null,null,"",null,"","",null,"","",null,"",67]
["",null,null,null,null,null,"",null,"","",null,"","",null,"",67]
["",null,null,null,null,null,"",null,"","",null,"","",null,"",68]
["",null,null,null,null,null,"",null,"","",null,"","",null,"",68]
["",null,null,null,null,null,"",null,"","",null,"","",null,"",68]
["",null,null,null,null,null,"",null,"","",null,"","",null,"",68]
["",null,null,null,null,null,"",null,"","",null,"","",null,"",69]
["",null,null,null,null,null,"",null,"","",null,"","",null,"",69]
["",null,null,null,null,null,"",null,"","",null,"","",null,"",69]
["",null,null,null,null,null,"",null,"","",null,"","",null,"",69]
["",null,null,null,null,null,"",null,"","",null,"","",null,"",70]
["",null,null,null,null,null,"",null,"","",null,"","",null,"",70]
["",null,null,null,null,null,"",null,"","",null,"","",null,"",70]
["",null,null,null,null,null,"",null,"","",null,"","",null,"",70]
["",null,null,null,null,null,"",null,"","",null,"","",null,"",71]
["",null,null,null,null,null,"",null,"","",null,"","",null,"",71]
["",null,null,null,null,null,"",null,"","",null,"","",null,"",71]
["",null,null,null,null,null,"",null,"","",null,"","",null,"",71]
["",null,null,null,null,null,"",null,"","",null,"","",null,"",72]
["",null,null,null,null,null,"",null,"","",null,"","",null,"",72]
["",null,null,null,null,null,"",null,"","",null,"","",null,"",72]
["",null,null,null,null,null,"",null,"","",null,"","",null,"",72]
["",null,null,null,null,null,"",null,"","",null,"","",null,"",73]
["",null,null,null,null,null,"",null,"","",null,"","",null,"",73]
["",null,null,null,null,null,"",null,"","",null,"","",null,"",73]
["",null,null,null,null,null,"",null,"","",null,"","",null,"",73]
["",null,null,null,null,null,"",null,"","",null,"","",null,"",74]
["",null,null,null,null,null,"",null,"","",null,"","",null,"",74]
["",null,null,null,null,null,"",null,"","",null,"","",null,"",74]
["",null,null,null,null,null,"",null,"","",null,"","",null,"",74]
["",null,null,null,null,null,"",null,"","",null,"","",null,"",75]
["",null,null,null,null,null,"",null,"","",null,"","",null,"",75]
["",null,null,null,null,null,"",null,"","",null,"","",null,"",75]
["",null,null,null,null,null,"",null,"","",null,"","",null,"",75]
["",null,null,null,null,null,"",null,"","",null,"","",null,"",76]
["",null,null,null,null,null,"",null,"","",null,"","",null,"",76]
["",null,null,null,null,null,"",null,"","",null,"","",null,"",76]
["",null,null,null,null,null,"",null,"","",null,"","",null,"",76]
["",null,null,null,null,null,"",null,"","",null,"","",null,"",77]
["",null,null,null,null,null,"",null,"","",null,"","",null,"",77]
["",null,null,null,null,null,"",null,"","",null,"","",null,"",77]
["",null,null,null,null,null,"",null,"","",null,"","",null,"",77]
["",null,null,null,null,null,"",null,"","",null,"","",null,"",78]
["",null,null,null,null,null,"",null,"","",null,"","",null,"",78]
["",null,null,null,null,null,"",null,"","",null,"","",null,"",78]
["",null,null,null,null,null,"",null,"","",null,"","",null,"",78]
["",null,null,null,null,null,"",null,"","",null,"","",null,"",79]
["",null,null,null,null,null,"",null,"","",null,"","",null,"",79]
["",null,null,null,null,null,"",null,"","",null,"","",null,"",79]
["",null,null,null,null,null,"",null,"","",null,"","",null,"",79]
["",null,null,null,null,null,"",null,"","",null,"","",null,"",80]
["",null,null,null,null,null,"",null,"","",null,"","",null,"",80]
["",null,null,null,null,null,"",null,"","",null,"","",null,"",80]
["",null,null,null,null,null,"",null,"","",null,"","",null,"",80]
[null,null,null,null,null,{"$f":"SUM(F7:F326)","v":0},null,{"$f":"SUM(H7:H326)","v":0},null,null,{"$f":"SUM(K7:K326)","v":0},null,null,{"$f":"SUM(N7:N326)","v":0},{"$f":"SUM(O7:O326)","v":0}]
[null,null,null,null,null,{"$f":"MOD(COUNT(F7:F326), 4)","v":0},null,{"$f":"MOD(COUNT(H7:H326), 4)","v":0},null,null,{"$f":"MOD(COUNT(K7:K326), 4)","v":0},null,null,{"$f":"MOD(COUNT(N7:N326), 4)","v":0}]

{"sheet":"100","index":1,"n_rows":88,"n_cols":16,"rows_kept":88,"cut":false,"hidden":false,"merged":[[4,0,4,2],[4,3,4,11],[4,12,4,14]]}
[]
[null,"卓",9]
[null,"回",1,null,null,{"$f":"F87","v":0},null,{"$f":"H87","v":0},null,null,{"$f":"K87","v":0},null,null,{"$f":"N87","v":0},null,"←1回戦ごとの合計が表示される。"]
[null,null,"↓編集中","↓編集中",null,"↓編集中",null,"↓編集中",null,null,"↓編集中",null,null,"↓編集中",null,"←全てのデータが入力完了した/データを再修正したい時はここをダブルクリック"]
[{"$f":"WINDOM!A5","v":"2017-06-21"},null,null,{"$f":"WINDOM!D5","v":"(大会タイトル）"},null,null,null,null,null,null,null,null,{"$f":"WINDOM!M5","v":"（会場名）"}]
["順位","№","氏　　　名","段位","卓番","１回戦","Ｒ","２回戦","小計","Ｒ","３回戦","小計","Ｒ","４回戦","合計"]
[{"$f":"DBCS(IF(O7=\"\",\"\",RANK(O7,O$7:O$86,0)))","v":""},"101",null,null,{"$f":"$C$3","v":1},null,{"$f":"IF(F7=\"\",\"\",RANK(F7,F$7:F$86,0))","v":""},null,{"$f":"IF(H7=\"\",\"\",F7+H7)","v":""},{"$f":"IF(I7=\"\",\"\",RANK(I7,I$7:I$86,0))","v":""},null,{"$f":"IF(K7=\"\",\"\",K7+I7)","v":""},{"$f":"IF(L7=\"\",\"\",RANK(L7,L$7:L$86,0))","v":""},null,{"$f":"IF(AND(F7=\"\",H7=\"\",K7=\"\",N7=\"\"),\"\",F7+H7+K7+N7)","v":""},1]
["","102",null,null,{"$f":"IF($C$3=1,1,IF($C$3=2,3,IF($C$3=3,5,IF($C$3=4,7))))","v":1},null,"",null,"","",null,"","",null,"",1]
["","103",null,null,{"$f":"IF($C$3=1,1,IF($C$3=2,4,IF($C$3=3,7,IF($C$3=4,2))))","v":1},null,"",null,"","",null,"","",null,"",1]
["","104",null,null,{"$f":"IF($C$3=1,1,IF($C$3=2,5,IF($C$3=3,9,IF($C$3=4,6))))","v":1},null,"",null,"","",null,"","",null,"",1]
["",null,null,null,{"$f":"IF(C11=\"\",\"\",IF(ISNUMBER(E7),IF(E7<$C$2,E7+1,E7+1-$C$2),1))","v":""},null,"",null,"","",null,"","",null,"",2]
["",null,null,null,"",null,"",null,"","",null,"","",null,"",2]
["",null,null,null,"",null,"",null,"","",null,"","",null,"",2]
["",null,null,null,"",null,"",null,"","",null,"","",null,"",2]
["",null,null,null,"",null,"",null,"","",null,"","",null,"",3]
["",null,null,null,"",null,"",null,"","",null,"","",null,"",3]
["",null,null,null,"",null,"",null,"","",null,"","",null,"",3]
["",null,null,null,"",null,"",null,"","",null,"","",null,"",3]
["",null,null,null,"",null,"",null,"","",null,"","",null,"",4]
["",null,null,null,"",null,"",null,"","",null,"","",null,"",4]
["",null,null,null,"",null,"",null,"","",null,"","",null,"",4]
["",null,null,null,"",null,"",null,"","",null,"","",null,"",4]
["",null,null,null,"",null,"",null,"","",null,"","",null,"",5]
["",null,null,null,"",null,"",null,"","",null,"","",null,"",5]
["",null,null,null,"",null,"",null,"","",null,"","",null,"",5]
["",null,null,null,"",null,"",null,"","",null,"","",null,"",5]
["",null,null,null,"",null,"",null,"","",null,"","",null,"",6]
["",null,null,null,"",null,"",null,"","",null,"","",null,"",6]
["",null,null,null,"",null,"",null,"","",null,"","",null,"",6]
["",null,null,null,"",null,"",null,"","",null,"","",null,"",6]
["",null,null,null,"",null,"",null,"","",null,"","",null,"",7]
["",null,null,null,"",null,"",null,"","",null,"","",null,"",7]
["",null,null,null,"",null,"",null,"","",null,"","",null,"",7]
["",null,null,null,"",null,"",null,"","",null,"","",null,"",7]
["",null,null,null,"",null,"",null,"","",null,"","",null,"",8]
["",null,null,null,"",null,"",null,"","",null,"","",null,"",8]
["",null,null,null,"",null,"",null,"","",null,"","",null,"",8]
["",null,null,null,"",null,"",null,"","",null,"","",null,"",8]
[{"$f":"DBCS(IF(O39=\"\",\"\",RANK(O39,O$7:O$86,0)))","v":""},null,null,null,"",null,"",null,"","",null,"","",null,"",9]
["",null,null,null,"",null,"",null,"","",null,"","",null,"",9]
["",null,null,null,"",null,"",null,"","",null,"","",null,"",9]
["",null,null,null,"",null,"",null,"","",null,"","",null,"",9]
["",null,null,null,{"$f":"IF(C43=\"\",\"\",IF(ISNUMBER(E39),IF(E39<$C$2,E39+1,E39+1-$C$2),1))","v":""},null,{"$f":"IF(F43=\"\",\"\",RANK(F43,F$7:F$86,0))","v":""},null,{"$f":"IF(H43=\"\",\"\",F43+H43)","v":""},{"$f":"IF(I43=\"\",\"\",RANK(I43,I$7:I$86,0))","v":""},null,{"$f":"IF(K43=\"\",\"\",K43+I43)","v":""},{"$f":"IF(L43=\"\",\"\",RANK(L43,L$7:L$86,0))","v":""},null,{"$f":"IF(AND(F43=\"\",H43=\"\",K43=\"\",N43=\"\"),\"\",F43+H43+K43+N43)","v":""},10]
["",null,null,null,"",null,"",null,"","",null,"","",null,"",10]
["",null,null,null,"",null,"",null,"","",null,"","",null,"",10]
["",null,null,null,"",null,"",null,"","",null,"","",null,"",10]
["",null,null,null,"",null,"",null,"","",null,"","",null,"",11]
["",null,null,null,"",null,"",null,"","",null,"","",null,"",11]
["",null,null,null,"",null,"",null,"","",null,"","",null,"",11]
["",null,null,null,"",null,"",null,"","",null,"","",null,"",11]
["",null,null,null,"",null,"",null,"","",null,"","",null,"",12]
["",null,null,null,"",null,"",null,{"$f":"IF(H52=\"\",\"\",F52+H52)","v":""},"",null,{"$f":"IF(K52=\"\",\"\",K52+I52)","v":""},"",null,{"$f":"IF(AND(F52=\"\",H52=\"\",K52=\"\",N52=\"\"),\"\",F52+H52+K52+N52)","v":""},12]
["",null,null,null,"",null,"",null,"","",null,"","",null,"",12]
["",null,null,null,"",null,"",null,"","",null,"","",null,"",12]
["",null,null,null,"",null,"",null,"","",null,"","",null,"",13]
["",null,null,null,"",null,"",null,"","",null,"","",null,"",13]
["",null,null,null,"",null,"",null,"","",null,"","",null,"",13]
["",null,null,null,"",null,"",null,"","",null,"","",null,"",13]
["",null,null,null,"",null,"",null,"","",null,"","",null,"",14]
["",null,null,null,"",null,"",null,"","",null,"","",null,"",14]
["",null,null,null,"",null,"",null,"","",null,"","",null,"",14]
["",null,null,null,"",null,"",null,"","",null,"","",null,"",14]
["",null,null,null,"",null,"",null,"","",null,"","",null,"",15]
["",null,null,null,"",null,"",null,"","",null,"","",null,"",15]
["",null,null,null,"",null,"",null,"","",null,"","",null,"",15]
["",null,null,null,"",null,"",null,"","",null,"","",null,"",15]
["",null,null,null,"",null,"",null,"","",null,"","",null,"",16]
["",null,null,null,"",null,"",null,"","",null,"","",null,"",16]
["",null,null,null,"",null,"",null,"","",null,"","",null,"",16]
["",null,null,null,"",null,"",null,"","",null,"","",null,"",16]
[{"$f":"DBCS(IF(O71=\"\",\"\",RANK(O71,O$7:O$86,0)))","v":""},null,null,null,{"$f":"IF(C71=\"\",\"\",IF(ISNUMBER(E67),IF(E67<$C$2,E67+1,E67+1-$C$2),1))","v":""},null,{"$f":"IF(F71=\"\",\"\",RANK(F71,F$7:F$86,0))","v":""},null,"",{"$f":"IF(I71=\"\",\"\",RANK(I71,I$7:I$86,0))","v":""},null,"",{"$f":"IF(L71=\"\",\"\",RANK(L71,L$7:L$86,0))","v":""},null,"",17]
["",null,null,null,"",null,"",null,"","",null,"","",null,"",17]
["",null,null,null,"",null,"",null,"","",null,"","",null,"",17]
["",null,null,null,"",null,"",null,"","",null,"","",null,"",17]
["",null,null,null,"",null,"",null,"","",null,"","",null,"",18]
["",null,null,null,"",null,"",null,"","",null,"","",null,"",18]
["",null,null,null,"",null,"",null,"","",null,"","",null,"",18]
["",null,null,null,"",null,"",null,"","",null,"","",null,"",18]
["",null,null,null,"",null,"",null,"","",null,"","",null,"",19]
["",null,null,null,"",null,"",null,"","",null,"","",null,"",19]
["",null,null,null,"",null,"",null,"","",null,"","",null,"",19]
["",null,null,null,"",null,"",null,"","",null,"","",null,"",19]
["",null,null,null,"",null,"",null,"","",null,"","",null,"",20]
["",null,null,null,"",null,"",null,"","",null,"","",null,"",20]
["",null,null,null,"",null,"",null,"","",null,"","",null,"",20]
["",null,null,null,"",null,"",null,"","",null,"","",null,"",20]
[null,null,null,null,null,{"$f":"SUM(F7:F86)","v":0},null,{"$f":"SUM(H7:H86)","v":0},null,null,{"$f":"SUM(K7:K86)","v":0},null,null,{"$f":"SUM(N7:N86)","v":0},{"$f":"SUM(O7:O86)","v":0}]
[null,null,null,null,null,{"$f":"MOD(COUNT(F7:F86), 4)","v":0},null,{"$f":"MOD(COUNT(H7:H86), 4)","v":0},null,null,{"$f":"MOD(COUNT(K7:K86), 4)","v":0},null,null,{"$f":"MOD(COUNT(N7:N86), 4)","v":0}]

{"sheet":"200","index":2,"n_rows":88,"n_cols":16,"rows_kept":88,"cut":false,"hidden":false,"merged":[[4,0,4,2],[4,3,4,11],[4,12,4,14]]}
[]
[null,"卓",9]
[null,"回",1,null,null,{"$f":"F87","v":0},null,{"$f":"H87","v":0},null,null,{"$f":"K87","v":0},null,null,{"$f":"N87","v":0},null,"←1回戦ごとの合計が表示される。"]
[null,null,"↓編集中","↓編集中",null,"↓編集中",null,"↓編集中",null,null,"↓編集中",null,null,"↓編集中",null,"←全てのデータが入力完了した/データを再修正したい時はここをダブルクリック"]
[{"$f":"WINDOM!A5","v":"2017-06-21"},null,null,{"$f":"WINDOM!D5","v":"(大会タイトル）"},null,null,null,null,null,null,null,null,{"$f":"WINDOM!M5","v":"（会場名）"}]
["順位","№","氏　　　名","段位","卓番","１回戦","Ｒ","２回戦","小計","Ｒ","３回戦","小計","Ｒ","４回戦","合計"]
[{"$f":"DBCS(IF(O7=\"\",\"\",RANK(O7,O$7:O$86,0)))","v":""},null,null,null,{"$f":"$C$3","v":1},null,{"$f":"IF(F7=\"\",\"\",RANK(F7,F$7:F$86,0))","v":""},null,{"$f":"IF(H7=\"\",\"\",F7+H7)","v":""},{"$f":"IF(I7=\"\",\"\",RANK(I7,I$7:I$86,0))","v":""},null,{"$f":"IF(K7=\"\",\"\",K7+I7)","v":""},{"$f":"IF(L7=\"\",\"\",RANK(L7,L$7:L$86,0))","v":""},null,{"$f":"IF(AND(F7=\"\",H7=\"\",K7=\"\",N7=\"\"),\"\",F7+H7+K7+N7)","v":""},1]
["",null,null,null,{"$f":"IF($C$3=1,1,IF($C$3=2,3,IF($C$3=3,5,IF($C$3=4,7))))","v":1},null,"",null,"","",null,"","",null,"",1]
["",null,null,null,{"$f":"IF($C$3=1,1,IF($C$3=2,4,IF($C$3=3,7,IF($C$3=4,2))))","v":1},null,"",null,"","",null,"","",null,"",1]
["",null,null,null,{"$f":"IF($C$3=1,1,IF($C$3=2,5,IF($C$3=3,9,IF($C$3=4,6))))","v":1},null,"",null,"","",null,"","",null,"",1]
["",null,null,null,{"$f":"IF(C11=\"\",\"\",IF(ISNUMBER(E7),IF(E7<$C$2,E7+1,E7+1-$C$2),1))","v":""},null,"",null,"","",null,"","",null,"",2]
["",null,null,null,"",null,"",null,"","",null,"","",null,"",2]
["",null,null,null,"",null,"",null,"","",null,"","",null,"",2]
["",null,null,null,"",null,"",null,"","",null,"","",null,"",2]
["",null,null,null,"",null,"",null,"","",null,"","",null,"",3]
["",null,null,null,"",null,"",null,"","",null,"","",null,"",3]
["",null,null,null,"",null,"",null,"","",null,"","",null,"",3]
["",null,null,null,"",null,"",null,"","",null,"","",null,"",3]
["",null,null,null,"",null,"",null,"","",null,"","",null,"",4]
["",null,null,null,"",null,"",null,"","",null,"","",null,"",4]
["",null,null,null,"",null,"",null,"","",null,"","",null,"",4]
["",null,null,null,"",null,"",null,"","",null,"","",null,"",4]
["",null,null,null,"",null,"",null,"","",null,"","",null,"",5]
["",null,null,null,"",null,"",null,"","",null,"","",null,"",5]
["",null,null,null,"",null,"",null,"","",null,"","",null,"",5]
["",null,null,null,"",null,"",null,"","",null,"","",null,"",5]
["",null,null,null,"",null,"",null,"","",null,"","",null,"",6]
["",null,null,null,"",null,"",null,"","",null,"","",null,"",6]
["",null,null,null,"",null,"",null,"","",null,"","",null,"",6]
["",null,null,null,"",null,"",null,"","",null,"","",null,"",6]
["",null,null,null,"",null,"",null,"","",null,"","",null,"",7]
["",null,null,null,"",null,"",null,"","",null,"","",null,"",7]
["",null,null,null,"",null,"",null,"","",null,"","",null,"",7]
["",null,null,null,"",null,"",null,"","",null,"","",null,"",7]
["",null,null,null,"",null,"",null,"","",null,"","",null,"",8]
["",null,null,null,"",null,"",null,"","",null,"","",null,"",8]
["",null,null,null,"",null,"",null,"","",null,"","",null,"",8]
["",null,null,null,"",null,"",null,"","",null,"","",null,"",8]
[{"$f":"DBCS(IF(O39=\"\",\"\",RANK(O39,O$7:O$86,0)))","v":""},null,null,null,"",null,"",null,"","",null,"","",null,"",9]
["",null,null,null,"",null,"",null,"","",null,"","",null,"",9]
["",null,null,null,"",null,"",null,"","",null,"","",null,"",9]
["",null,null,null,"",null,"",null,"","",null,"","",null,"",9]
["",null,null,null,{"$f":"IF(C43=\"\",\"\",IF(ISNUMBER(E39),IF(E39<$C$2,E39+1,E39+1-$C$2),1))","v":""},null,{"$f":"IF(F43=\"\",\"\",RANK(F43,F$7:F$86,0))","v":""},null,{"$f":"IF(H43=\"\",\"\",F43+H43)","v":""},{"$f":"IF(I43=\"\",\"\",RANK(I43,I$7:I$86,0))","v":""},null,{"$f":"IF(K43=\"\",\"\",K43+I43)","v":""},{"$f":"IF(L43=\"\",\"\",RANK(L43,L$7:L$86,0))","v":""},null,{"$f":"IF(AND(F43=\"\",H43=\"\",K43=\"\",N43=\"\"),\"\",F43+H43+K43+N43)","v":""},10]
["",null,null,null,"",null,"",null,"","",null,"","",null,"",10]
["",null,null,null,"",null,"",null,"","",null,"","",null,"",10]
["",null,null,null,"",null,"",null,"","",null,"","",null,"",10]
["",null,null,null,"",null,"",null,"","",null,"","",null,"",11]
["",null,null,null,"",null,"",null,"","",null,"","",null,"",11]
["",null,null,null,"",null,"",null,"","",null,"","",null,"",11]
["",null,null,null,"",null,"",null,"","",null,"","",null,"",11]
["",null,null,null,"",null,"",null,"","",null,"","",null,"",12]
["",null,null,null,"",null,"",null,"","",null,"","",null,"",12]
["",null,null,null,"",null,"",null,"","",null,"","",null,"",12]
["",null,null,null,"",null,"",null,"","",null,"","",null,"",12]
["",null,null,null,"",null,"",null,{"$f":"IF(H55=\"\",\"\",F55+H55)","v":""},"",null,{"$f":"IF(K55=\"\",\"\",K55+I55)","v":""},"",null,{"$f":"IF(AND(F55=\"\",H55=\"\",K55=\"\",N55=\"\"),\"\",F55+H55+K55+N55)","v":""},13]
["",null,null,null,"",null,"",null,"","",null,"","",null,"",13]
["",null,null,null,"",null,"",null,"","",null,"","",null,"",13]
["",null,null,null,"",null,"",null,"","",null,"","",null,"",13]
["",null,null,null,"",null,"",null,"","",null,"","",null,"",14]
["",null,null,null,"",null,"",null,"","",null,"","",null,"",14]
["",null,null,null,"",null,"",null,"","",null,"","",null,"",14]
["",null,null,null,"",null,"",null,"","",null,"","",null,"",14]
["",null,null,null,"",null,"",null,"","",null,"","",null,"",15]
["",null,null,null,"",null,"",null,"","",null,"","",null,"",15]
["",null,null,null,"",null,"",null,"","",null,"","",null,"",15]
["",null,null,null,"",null,"",null,"","",null,"","",null,"",15]
["",null,null,null,"",null,"",null,"","",null,"","",null,"",16]
["",null,null,null,"",null,"",null,"","",null,"","",null,"",16]
["",null,null,null,"",null,"",null,"","",null,"","",null,"",16]
["",null,null,null,"",null,"",null,"","",null,"","",null,"",16]
[{"$f":"DBCS(IF(O71=\"\",\"\",RANK(O71,O$7:O$86,0)))","v":""},null,null,null,{"$f":"IF(C71=\"\",\"\",IF(ISNUMBER(E67),IF(E67<$C$2,E67+1,E67+1-$C$2),1))","v":""},null,{"$f":"IF(F71=\"\",\"\",RANK(F71,F$7:F$86,0))","v":""},null,"",{"$f":"IF(I71=\"\",\"\",RANK(I71,I$7:I$86,0))","v":""},null,"",{"$f":"IF(L71=\"\",\"\",RANK(L71,L$7:L$86,0))","v":""},null,"",17]
["",null,null,null,"",null,"",null,"","",null,"","",null,"",17]
["",null,null,null,"",null,"",null,"","",null,"","",null,"",17]
["",null,null,null,"",null,"",null,"","",null,"","",null,"",17]
["",null,null,null,"",null,"",null,"","",null,"","",null,"",18]
["",null,null,null,"",null,"",null,"","",null,"","",null,"",18]
["",null,null,null,"",null,"",null,"","",null,"","",null,"",18]
["",null,null,null,"",null,"",null,"","",null,"","",null,"",18]
["",null,null,null,"",null,"",null,"","",null,"","",null,"",19]
["",null,null,null,"",null,"",null,"","",null,"","",null,"",19]
["",null,null,null,"",null,"",null,"","",null,"","",null,"",19]
["",null,null,null,"",null,"",null,"","",null,"","",null,"",19]
["",null,null,null,"",null,"",null,"","",null,"","",null,"",20]
["",null,null,null,"",null,"",null,"","",null,"","",null,"",20]
["",null,null,null,"",null,"",null,"","",null,"","",null,"",20]
["",null,null,null,"",null,"",null,"","",null,"","",null,"",20]
[null,null,null,null,null,{"$f":"SUM(F7:F86)","v":0},null,{"$f":"SUM(H7:H86)","v":0},null,null,{"$f":"SUM(K7:K86)","v":0},null,null,{"$f":"SUM(N7:N86)","v":0},{"$f":"SUM(O7:O86)","v":0}]
[null,null,null,null,null,{"$f":"MOD(COUNT(F7:F86), 4)","v":0},null,{"$f":"MOD(COUNT(H7:H86), 4)","v":0},null,null,{"$f":"MOD(COUNT(K7:K86), 4)","v":0},null,null,{"$f":"MOD(COUNT(N7:N86), 4)","v":0}]

{"sheet":"300","index":3,"n_rows":88,"n_cols":16,"rows_kept":88,"cut":false,"hidden":false,"merged":[[4,0,4,2],[4,3,4,11],[4,12,4,14]]}
[]
[null,"卓",7]
[null,"回",1,null,null,{"$f":"F87","v":0},null,{"$f":"H87","v":0},null,null,{"$f":"K87","v":0},null,null,{"$f":"N87","v":0},null,"←1回戦ごとの合計が表示される。"]
[null,null,"↓編集中","↓編集中",null,"↓編集中",null,"↓編集中",null,null,"↓編集中",null,null,"↓編集中",null,"←全てのデータが入力完了した/データを再修正したい時はここをダブルクリック"]
[{"$f":"WINDOM!A5","v":"2017-06-21"},null,null,{"$f":"WINDOM!D5","v":"(大会タイトル）"},null,null,null,null,null,null,null,null,{"$f":"WINDOM!M5","v":"（会場名）"}]
["順位","№","氏　　　名","段位","卓番","１回戦","Ｒ","２回戦","小計","Ｒ","３回戦","小計","Ｒ","４回戦","合計"]
[{"$f":"DBCS(IF(O7=\"\",\"\",RANK(O7,O$7:O$86,0)))","v":""},null,null,null,-10.9,null,{"$f":"IF(F7=\"\",\"\",RANK(F7,F$7:F$86,0))","v":""},null,{"$f":"IF(H7=\"\",\"\",F7+H7)","v":""},{"$f":"IF(I7=\"\",\"\",RANK(I7,I$7:I$86,0))","v":""},null,{"$f":"IF(K7=\"\",\"\",K7+I7)","v":""},{"$f":"IF(L7=\"\",\"\",RANK(L7,L$7:L$86,0))","v":""},null,{"$f":"IF(AND(F7=\"\",H7=\"\",K7=\"\",N7=\"\"),\"\",F7+H7+K7+N7)","v":""},1]
["",null,null,null,21.3,null,"",null,"","",null,"","",null,"",1]
["",null,null,null,5.5,null,"",null,"","",null,"","",null,"",1]
["",null,null,null,-15.9,null,"",null,"","",null,"","",null,"",1]
["",null,null,null,-26.9,null,"",null,"","",null,"","",null,"",2]
["",null,null,null,-9,null,"",null,"","",null,"","",null,"",2]
["",null,null,null,20.8,null,"",null,"","",null,"","",null,"",2]
["",null,null,null,15.1,null,"",null,"","",null,"","",null,"",2]
["",null,null,null,-18.100000000000001,null,"",null,"","",null,"","",null,"",3]
["",null,null,null,17,null,"",null,"","",null,"","",null,"",3]
["",null,null,null,6.9,null,"",null,"","",null,"","",null,"",3]
["",null,null,null,-5.8,null,"",null,"","",null,"","",null,"",3]
["",null,null,null,-7.5,null,"",null,"","",null,"","",null,"",4]
["",null,null,null,-20.2,null,"",null,"","",null,"","",null,"",4]
["",null,null,null,-2.5,null,"",null,"","",null,"","",null,"",4]
["",null,null,null,30.2,null,"",null,"","",null,"","",null,"",4]
["",null,null,null,-9,null,"",null,"","",null,"","",null,"",5]
["",null,null,null,7.6,null,"",null,"","",null,"","",null,"",5]
["",null,null,null,19.399999999999999,null,"",null,"","",null,"","",null,"",5]
["",null,null,null,-18,null,"",null,"","",null,"","",null,"",5]
["",null,null,null,-24.3,null,"",null,"","",null,"","",null,"",6]
["",null,null,null,-28.1,null,"",null,"","",null,"","",null,"",6]
["",null,null,null,59.5,null,"",null,"","",null,"","",null,"",6]
["",null,null,null,-7.1,null,"",null,"","",null,"","",null,"",6]
["",null,null,null,-5.9,null,"",null,"","",null,"","",null,"",7]
["",null,null,null,6.9,null,"",null,"","",null,"","",null,"",7]
["",null,null,null,11.4,null,"",null,"","",null,"","",null,"",7]
["",null,null,null,-12.4,null,"",null,"","",null,"","",null,"",7]
["",null,null,null,null,null,"",null,"","",null,"","",null,"",8]
["",null,null,null,null,null,"",null,"","",null,"","",null,"",8]
["",null,null,null,null,null,"",null,"","",null,"","",null,"",8]
["",null,null,null,null,null,"",null,"","",null,"","",null,"",8]
[{"$f":"DBCS(IF(O39=\"\",\"\",RANK(O39,O$7:O$86,0)))","v":""},null,null,null,null,null,{"$f":"IF(F39=\"\",\"\",RANK(F39,F$7:F$86,0))","v":""},null,{"$f":"IF(H39=\"\",\"\",F39+H39)","v":""},{"$f":"IF(I39=\"\",\"\",RANK(I39,I$7:I$86,0))","v":""},null,{"$f":"IF(K39=\"\",\"\",K39+I39)","v":""},{"$f":"IF(L39=\"\",\"\",RANK(L39,L$7:L$86,0))","v":""},null,{"$f":"IF(AND(F39=\"\",H39=\"\",K39=\"\",N39=\"\"),\"\",F39+H39+K39+N39)","v":""},9]
["",null,null,null,null,null,"",null,"","",null,"","",null,"",9]
["",null,null,null,null,null,"",null,"","",null,"","",null,"",9]
["",null,null,null,null,null,"",null,"","",null,"","",null,"",9]
["",null,null,null,null,null,"",null,"","",null,"","",null,"",10]
["",null,null,null,null,null,"",null,"","",null,"","",null,"",10]
["",null,null,null,null,null,"",null,"","",null,"","",null,"",10]
["",null,null,null,null,null,"",null,"","",null,"","",null,"",10]
["",null,null,null,null,null,"",null,"","",null,"","",null,"",11]
["",null,null,null,{"$f":"IF(C48=\"\",\"\",IF(ISNUMBER(E44),IF(E44<$C$2,E44+1,E44+1-$C$2),1))","v":""},null,"",null,"","",null,"","",null,"",11]
["",null,null,null,"",null,"",null,"","",null,"","",null,"",11]
["",null,null,null,"",null,"",null,"","",null,"","",null,"",11]
["",null,null,null,"",null,"",null,"","",null,"","",null,"",12]
["",null,null,null,"",null,"",null,"","",null,"","",null,"",12]
["",null,null,null,"",null,"",null,"","",null,"","",null,"",12]
["",null,null,null,"",null,"",null,"","",null,"","",null,"",12]
["",null,null,null,"",null,"",null,"","",null,"","",null,"",13]
["",null,null,null,"",null,"",null,"","",null,"","",null,"",13]
["",null,null,null,"",null,"",null,"","",null,"","",null,"",13]
["",null,null,null,"",null,"",null,"","",null,"","",null,"",13]
["",null,null,null,"",null,"",null,"","",null,"","",null,"",14]
["",null,null,null,"",null,"",null,"","",null,"","",null,"",14]
["",null,null,null,"",null,"",null,"","",null,"","",null,"",14]
["",null,null,null,"",null,"",null,"","",null,"","",null,"",14]
["",null,null,null,"",null,"",null,"","",null,"","",null,"",15]
["",null,null,null,"",null,"",null,"","",null,"","",null,"",15]
["",null,null,null,"",null,"",null,"","",null,"","",null,"",15]
["",null,null,null,"",null,"",null,"","",null,"","",null,"",15]
["",null,null,null,"",null,"",null,"","",null,"","",null,"",16]
["",null,null,null,"",null,"",null,"","",null,"","",null,"",16]
["",null,null,null,"",null,"",null,"","",null,"","",null,"",16]
["",null,null,null,"",null,"",null,"","",null,"","",null,"",16]
[{"$f":"DBCS(IF(O71=\"\",\"\",RANK(O71,O$7:O$86,0)))","v":""},null,null,null,"",null,{"$f":"IF(F71=\"\",\"\",RANK(F71,F$7:F$86,0))","v":""},null,{"$f":"IF(H71=\"\",\"\",F71+H71)","v":""},{"$f":"IF(I71=\"\",\"\",RANK(I71,I$7:I$86,0))","v":""},null,{"$f":"IF(K71=\"\",\"\",K71+I71)","v":""},{"$f":"IF(L71=\"\",\"\",RANK(L71,L$7:L$86,0))","v":""},null,{"$f":"IF(AND(F71=\"\",H71=\"\",K71=\"\",N71=\"\"),\"\",F71+H71+K71+N71)","v":""},17]
["",null,null,null,"",null,"",null,"","",null,"","",null,"",17]
["",null,null,null,"",null,"",null,"","",null,"","",null,"",17]
["",null,null,null,"",null,"",null,"","",null,"","",null,"",17]
["",null,null,null,"",null,"",null,"","",null,"","",null,"",18]
["",null,null,null,"",null,"",null,"","",null,"","",null,"",18]
["",null,null,null,"",null,"",null,"","",null,"","",null,"",18]
["",null,null,null,"",null,"",null,"","",null,"","",null,"",18]
["",null,null,null,"",null,"",null,"","",null,"","",null,"",19]
["",null,null,null,"",null,"",null,"","",null,"","",null,"",19]
["",null,null,null,"",null,"",null,"","",null,"","",null,"",19]
["",null,null,null,"",null,"",null,"","",null,"","",null,"",19]
["",null,null,null,"",null,"",null,"","",null,"","",null,"",20]
["",null,null,null,"",null,"",null,"","",null,"","",null,"",20]
["",null,null,null,"",null,"",null,"","",null,"","",null,"",20]
["",null,null,null,"",null,"",null,"","",null,"","",null,"",20]
[null,null,null,null,null,{"$f":"SUM(F7:F86)","v":0},null,{"$f":"SUM(H7:H86)","v":0},null,null,{"$f":"SUM(K7:K86)","v":0},null,null,{"$f":"SUM(N7:N86)","v":0},{"$f":"SUM(O7:O86)","v":0}]
[null,null,null,null,null,{"$f":"MOD(COUNT(F7:F86), 4)","v":0},null,{"$f":"MOD(COUNT(H7:H86), 4)","v":0},null,null,{"$f":"MOD(COUNT(K7:K86), 4)","v":0},null,null,{"$f":"MOD(COUNT(N7:N86), 4)","v":0}]

{"sheet":"400","index":4,"n_rows":88,"n_cols":16,"rows_kept":88,"cut":false,"hidden":false,"merged":[[4,0,4,2],[4,3,4,11],[4,12,4,14]]}
[]
[null,"卓",7]
[null,"回",1,null,null,{"$f":"F87","v":0},null,{"$f":"H87","v":0},null,null,{"$f":"K87","v":0},null,null,{"$f":"N87","v":0},null,"←1回戦ごとの合計が表示される。"]
[null,null,"↓編集中","↓編集中",null,"↓編集中",null,"↓編集中",null,null,"↓編集中",null,null,"↓編集中",null,"←全てのデータが入力完了した/データを再修正したい時はここをダブルクリック"]
[{"$f":"WINDOM!A5","v":"2017-06-21"},null,null,{"$f":"WINDOM!D5","v":"(大会タイトル）"},null,null,null,null,null,null,null,null,{"$f":"WINDOM!M5","v":"（会場名）"}]
["順位","№","氏　　　名","段位","卓番","１回戦","Ｒ","２回戦","小計","Ｒ","３回戦","小計","Ｒ","４回戦","合計"]
[{"$f":"DBCS(IF(O7=\"\",\"\",RANK(O7,O$7:O$86,0)))","v":""},null,null,null,-10.9,null,{"$f":"IF(F7=\"\",\"\",RANK(F7,F$7:F$86,0))","v":""},null,{"$f":"IF(H7=\"\",\"\",F7+H7)","v":""},{"$f":"IF(I7=\"\",\"\",RANK(I7,I$7:I$86,0))","v":""},null,{"$f":"IF(K7=\"\",\"\",K7+I7)","v":""},{"$f":"IF(L7=\"\",\"\",RANK(L7,L$7:L$86,0))","v":""},null,{"$f":"IF(AND(F7=\"\",H7=\"\",K7=\"\",N7=\"\"),\"\",F7+H7+K7+N7)","v":""},1]
["",null,null,null,21.3,null,"",null,"","",null,"","",null,"",1]
["",null,null,null,5.5,null,"",null,"","",null,"","",null,"",1]
["",null,null,null,-15.9,null,"",null,"","",null,"","",null,"",1]
["",null,null,null,-26.9,null,"",null,"","",null,"","",null,"",2]
["",null,null,null,-9,null,"",null,"","",null,"","",null,"",2]
["",null,null,null,20.8,null,"",null,"","",null,"","",null,"",2]
["",null,null,null,15.1,null,"",null,"","",null,"","",null,"",2]
["",null,null,null,-18.100000000000001,null,"",null,"","",null,"","",null,"",3]
["",null,null,null,17,null,"",null,"","",null,"","",null,"",3]
["",null,null,null,6.9,null,"",null,"","",null,"","",null,"",3]
["",null,null,null,-5.8,null,"",null,"","",null,"","",null,"",3]
["",null,null,null,-7.5,null,"",null,"","",null,"","",null,"",4]
["",null,null,null,-20.2,null,"",null,"","",null,"","",null,"",4]
["",null,null,null,-2.5,null,"",null,"","",null,"","",null,"",4]
["",null,null,null,30.2,null,"",null,"","",null,"","",null,"",4]
["",null,null,null,-9,null,"",null,"","",null,"","",null,"",5]
["",null,null,null,7.6,null,"",null,"","",null,"","",null,"",5]
["",null,null,null,19.399999999999999,null,"",null,"","",null,"","",null,"",5]
["",null,null,null,-18,null,"",null,"","",null,"","",null,"",5]
["",null,null,null,-24.3,null,"",null,"","",null,"","",null,"",6]
["",null,null,null,-28.1,null,"",null,"","",null,"","",null,"",6]
["",null,null,null,59.5,null,"",null,"","",null,"","",null,"",6]
["",null,null,null,-7.1,null,"",null,"","",null,"","",null,"",6]
["",null,null,null,-5.9,null,"",null,"","",null,"","",null,"",7]
["",null,null,null,6.9,null,"",null,"","",null,"","",null,"",7]
["",null,null,null,11.4,null,"",null,"","",null,"","",null,"",7]
["",null,null,null,-12.4,null,"",null,"","",null,"","",null,"",7]
["",null,null,null,null,null,"",null,"","",null,"","",null,"",8]
["",null,null,null,null,null,"",null,"","",null,"","",null,"",8]
["",null,null,null,null,null,"",null,"","",null,"","",null,"",8]
["",null,null,null,null,null,"",null,"","",null,"","",null,"",8]
[{"$f":"DBCS(IF(O39=\"\",\"\",RANK(O39,O$7:O$86,0)))","v":""},null,null,null,null,null,{"$f":"IF(F39=\"\",\"\",RANK(F39,F$7:F$86,0))","v":""},null,{"$f":"IF(H39=\"\",\"\",F39+H39)","v":""},{"$f":"IF(I39=\"\",\"\",RANK(I39,I$7:I$86,0))","v":""},null,{"$f":"IF(K39=\"\",\"\",K39+I39)","v":""},{"$f":"IF(L39=\"\",\"\",RANK(L39,L$7:L$86,0))","v":""},null,{"$f":"IF(AND(F39=\"\",H39=\"\",K39=\"\",N39=\"\"),\"\",F39+H39+K39+N39)","v":""},9]
["",null,null,null,null,null,"",null,"","",null,"","",null,"",9]
["",null,null,null,null,null,"",null,"","",null,"","",null,"",9]
["",null,null,null,null,null,"",null,"","",null,"","",null,"",9]
["",null,null,null,null,null,"",null,"","",null,"","",null,"",10]
["",null,null,null,null,null,"",null,"","",null,"","",null,"",10]
["",null,null,null,null,null,"",null,"","",null,"","",null,"",10]
["",null,null,null,null,null,"",null,"","",null,"","",null,"",10]
["",null,null,null,null,null,"",null,"","",null,"","",null,"",11]
["",null,null,null,{"$f":"IF(C48=\"\",\"\",IF(ISNUMBER(E44),IF(E44<$C$2,E44+1,E44+1-$C$2),1))","v":""},null,"",null,"","",null,"","",null,"",11]
["",null,null,null,"",null,"",null,"","",null,"","",null,"",11]
["",null,null,null,"",null,"",null,"","",null,"","",null,"",11]
["",null,null,null,"",null,"",null,"","",null,"","",null,"",12]
["",null,null,null,"",null,"",null,"","",null,"","",null,"",12]
["",null,null,null,"",null,"",null,"","",null,"","",null,"",12]
["",null,null,null,"",null,"",null,"","",null,"","",null,"",12]
["",null,null,null,"",null,"",null,"","",null,"","",null,"",13]
["",null,null,null,"",null,"",null,"","",null,"","",null,"",13]
["",null,null,null,"",null,"",null,"","",null,"","",null,"",13]
["",null,null,null,"",null,"",null,"","",null,"","",null,"",13]
["",null,null,null,"",null,"",null,"","",null,"","",null,"",14]
["",null,null,null,"",null,"",null,"","",null,"","",null,"",14]
["",null,null,null,"",null,"",null,"","",null,"","",null,"",14]
["",null,null,null,"",null,"",null,"","",null,"","",null,"",14]
["",null,null,null,"",null,"",null,"","",null,"","",null,"",15]
["",null,null,null,"",null,"",null,"","",null,"","",null,"",15]
["",null,null,null,"",null,"",null,"","",null,"","",null,"",15]
["",null,null,null,"",null,"",null,"","",null,"","",null,"",15]
["",null,null,null,"",null,"",null,"","",null,"","",null,"",16]
["",null,null,null,"",null,"",null,"","",null,"","",null,"",16]
["",null,null,null,"",null,"",null,"","",null,"","",null,"",16]
["",null,null,null,"",null,"",null,"","",null,"","",null,"",16]
[{"$f":"DBCS(IF(O71=\"\",\"\",RANK(O71,O$7:O$86,0)))","v":""},null,null,null,"",null,{"$f":"IF(F71=\"\",\"\",RANK(F71,F$7:F$86,0))","v":""},null,{"$f":"IF(H71=\"\",\"\",F71+H71)","v":""},{"$f":"IF(I71=\"\",\"\",RANK(I71,I$7:I$86,0))","v":""},null,{"$f":"IF(K71=\"\",\"\",K71+I71)","v":""},{"$f":"IF(L71=\"\",\"\",RANK(L71,L$7:L$86,0))","v":""},null,{"$f":"IF(AND(F71=\"\",H71=\"\",K71=\"\",N71=\"\"),\"\",F71+H71+K71+N71)","v":""},17]
["",null,null,null,"",null,"",null,"","",null,"","",null,"",17]
["",null,null,null,"",null,"",null,"","",null,"","",null,"",17]
["",null,null,null,"",null,"",null,"","",null,"","",null,"",17]
["",null,null,null,"",null,"",null,"","",null,"","",null,"",18]
["",null,null,null,"",null,"",null,"","",null,"","",null,"",18]
["",null,null,null,"",null,"",null,"","",null,"","",null,"",18]
["",null,null,null,"",null,"",null,"","",null,"","",null,"",18]
["",null,null,null,"",null,"",null,"","",null,"","",null,"",19]
["",null,null,null,"",null,"",null,"","",null,"","",null,"",19]
["",null,null,null,"",null,"",null,"","",null,"","",null,"",19]
["",null,null,null,"",null,"",null,"","",null,"","",null,"",19]
["",null,null,null,"",null,"",null,"","",null,"","",null,"",20]
["",null,null,null,"",null,"",null,"","",null,"","",null,"",20]
["",null,null,null,"",null,"",null,"","",null,"","",null,"",20]
["",null,null,null,"",null,"",null,"","",null,"","",null,"",20]
[null,null,null,null,null,{"$f":"SUM(F7:F86)","v":0},null,{"$f":"SUM(H7:H86)","v":0},null,null,{"$f":"SUM(K7:K86)","v":0},null,null,{"$f":"SUM(N7:N86)","v":0},{"$f":"SUM(O7:O86)","v":0}]
[null,null,null,null,null,{"$f":"MOD(COUNT(F7:F86), 4)","v":0},null,{"$f":"MOD(COUNT(H7:H86), 4)","v":0},null,null,{"$f":"MOD(COUNT(K7:K86), 4)","v":0},null,null,{"$f":"MOD(COUNT(N7:N86), 4)","v":0}]