{"text_format":"1","workbook":"xlsx","n_sheets":3,"sheets":["WINDOM","100","200"],"not_rendered":{"charts":0,"images":14,"macros":1,"external_links":0,"defined_names":30,"comments":0,"pivot_tables":0},"unopened":[],"bounds":{"document_bytes":16777216,"sheet_cells":100000,"rows_first":2000,"rows_last":500,"rows_between":2000,"halvings":0,"cell_chars":16384,"cell_head_chars":4096},"cells_cut":0,"cells_raw":0,"read":"whole","date_system":"1900"}

{"sheet":"WINDOM","index":0,"n_rows":208,"n_cols":16,"rows_kept":208,"cut":false,"hidden":false,"merged":[[4,0,4,2],[4,3,4,11],[4,12,4,14]]}
[]
[null,"卓",14]
[null,"回",2,null,null,{"$f":"F207","v":0},null,{"$f":"H207","v":0},null,null,{"$f":"K207","v":0},null,null,{"$f":"N207","v":0},null,"←1回戦ごとの合計が表示される。"]
[null,null,"↓編集中","↓編集中",null,"↓編集中",null,"↓編集中",null,null,"↓編集中",null,null,"↓編集中",null,"←全てのデータが入力完了した/データを再修正したい時はここをダブルクリック"]
["月　　日"]
["順位","№","氏　　　名","段位","卓番","１回戦","Ｒ","２回戦","小計","Ｒ","３回戦","小計","Ｒ","４回戦","合計"]
[{"$f":"DBCS(IF(O7=\"\",\"\",RANK(O7,O$7:O$206,0)))","v":""},null,null,null,null,null,{"$f":"IF(F7=\"\",\"\",RANK(F7,F$7:F$206,0))","v":""},null,{"$f":"IF(H7=\"\",\"\",F7+H7)","v":""},{"$f":"IF(I7=\"\",\"\",RANK(I7,I$7:I$206,0))","v":""},null,{"$f":"IF(K7=\"\",\"\",K7+I7)","v":""},{"$f":"IF(L7=\"\",\"\",RANK(L7,L$7:L$206,0))","v":""},null,{"$f":"IF(AND(F7=\"\",H7=\"\",K7=\"\",N7=\"\"),\"\",F7+H7+K7+N7)","v":""},1]
["",null,null,null,null,null,"",null,"","",null,"","",null,"",1]
["",null,null,null,null,null,"",null,"","",null,"","",null,"",1]
["",null,null,null,null,null,"",null,"","",null,"","",null,"",1]
["",null,null,null,null,null,"",null,"","",null,"","",null,"",2]
["",null,null,null,null,null,"",null,"","",null,"","",null,"",2]
["",null,null,null,null,null,"",null,"","",null,"","",null,"",2]
["",null,null,null,null,null,"",null,"","",null,"","",null,"",2]
["",null,null,null,null,null,"",null,"","",null,"","",null,"",3]
["",null,null,null,null,null,"",null,"","",null,"","",null,"",3]
["",null,null,null,null,null,"",null,"","",null,"","",null,"",3]
["",null,null,null,null,null,"",null,"","",null,"","",null,"",3]
["",null,null,null,null,null,"",null,"","",null,"","",null,"",4]
["",null,null,null,null,null,"",null,"","",null,"","",null,"",4]
["",null,null,null,null,null,"",null,"","",null,"","",null,"",4]
["",null,null,null,null,null,"",null,"","",null,"","",null,"",4]
["",null,null,null,null,null,"",null,"","",null,"","",null,"",5]
["",null,null,null,null,null,"",null,"","",null,"","",null,"",5]
["",null,null,null,null,null,"",null,"","",null,"","",null,"",5]
["",null,null,null,null,null,"",null,"","",null,"","",null,"",5]
["",null,null,null,null,null,"",null,"","",null,"","",null,"",6]
["",null,null,null,null,null,"",null,"","",null,"","",null,"",6]
["",null,null,null,null,null,"",null,"","",null,"","",null,"",6]
["",null,null,null,null,null,"",null,"","",null,"","",null,"",6]
["",null,null,null,null,null,"",null,"","",null,"","",null,"",7]
["",null,null,null,null,null,"",null,"","",null,"","",null,"",7]
["",null,null,null,null,null,"",null,"","",null,"","",null,"",7]
["",null,null,null,null,null,"",null,"","",null,"","",null,"",7]
[{"$f":"DBCS(IF(O35=\"\",\"\",RANK(O35,O$7:O$206,0)))","v":""},null,null,null,null,null,"",null,"","",null,"","",null,"",8]
[{"$f":"DBCS(IF(O36=\"\",\"\",RANK(O36,O$7:O$206,0)))","v":""},null,null,null,null,null,"",null,"","",null,"","",null,"",8]
[{"$f":"DBCS(IF(O37=\"\",\"\",RANK(O37,O$7:O$206,0)))","v":""},null,null,null,null,null,"",null,"","",null,"","",null,"",8]
[{"$f":"DBCS(IF(O38=\"\",\"\",RANK(O38,O$7:O$206,0)))","v":""},null,null,null,null,null,"",null,"","",null,"","",null,"",8]
["",null,null,null,null,null,{"$f":"IF(F39=\"\",\"\",RANK(F39,F$7:F$206,0))","v":""},null,{"$f":"IF(H39=\"\",\"\",F39+H39)","v":""},{"$f":"IF(I39=\"\",\"\",RANK(I39,I$7:I$206,0))","v":""},null,{"$f":"IF(K39=\"\",\"\",K39+I39)","v":""},{"$f":"IF(L39=\"\",\"\",RANK(L39,L$7:L$206,0))","v":""},null,{"$f":"IF(AND(F39=\"\",H39=\"\",K39=\"\",N39=\"\"),\"\",F39+H39+K39+N39)","v":""},9]
["",null,null,null,null,null,"",null,"","",null,"","",null,"",9]
["",null,null,null,null,null,"",null,"","",null,"","",null,"",9]
["",null,null,null,null,null,"",null,"","",null,"","",null,"",9]
["",null,null,null,null,null,"",null,"","",null,"","",null,"",10]
["",null,null,null,null,null,"",null,"","",null,"","",null,"",10]
["",null,null,null,null,null,"",null,"","",null,"","",null,"",10]
["",null,null,null,null,null,"",null,"","",null,"","",null,"",10]
["",null,null,null,null,null,"",null,"","",null,"","",null,"",11]
["",null,null,null,null,null,"",null,"","",null,"","",null,"",11]
["",null,null,null,null,null,"",null,"","",null,"","",null,"",11]
["",null,null,null,null,null,"",null,"","",null,"","",null,"",11]
["",null,null,null,null,null,"",null,"","",null,"","",null,"",12]
["",null,null,null,null,null,"",null,"","",null,"","",null,"",12]
["",null,null,null,null,null,"",null,"","",null,"","",null,"",12]
["",null,null,null,null,null,"",null,"","",null,"","",null,"",12]
["",null,null,null,null,null,"",null,"","",null,"","",null,"",13]
["",null,null,null,null,null,"",null,"","",null,"","",null,"",13]
["",null,null,null,null,null,"",null,"","",null,"","",null,"",13]
["",null,null,null,null,null,"",null,"","",null,"","",null,"",13]
["",null,null,null,null,null,"",null,"","",null,"","",null,"",14]
["",null,null,null,null,null,"",null,"","",null,"","",null,"",14]
["",null,null,null,null,null,"",null,"","",null,"","",null,"",14]
["",null,null,null,null,null,"",null,"","",null,"","",null,"",14]
["",null,null,null,null,null,{"$f":"IF(F63=\"\",\"\",RANK(F63,F$7:F$206,0))","v":""},null,{"$f":"IF(H63=\"\",\"\",F63+H63)","v":""},{"$f":"IF(I63=\"\",\"\",RANK(I63,I$7:I$206,0))","v":""},null,{"$f":"IF(K63=\"\",\"\",K63+I63)","v":""},{"$f":"IF(L63=\"\",\"\",RANK(L63,L$7:L$206,0))","v":""},null,{"$f":"IF(AND(F63=\"\",H63=\"\",K63=\"\",N63=\"\"),\"\",F63+H63+K63+N63)","v":""},15]
["",null,null,null,null,null,"",null,"","",null,"","",null,"",15]
["",null,null,null,null,null,"",null,"","",null,"","",null,"",15]
["",null,null,null,null,null,"",null,"","",null,"","",null,"",15]
["",null,null,null,null,null,{"$f":"IF(F67=\"\",\"\",RANK(F67,F$7:F$206,0))","v":""},null,{"$f":"IF(H67=\"\",\"\",F67+H67)","v":""},{"$f":"IF(I67=\"\",\"\",RANK(I67,I$7:I$206,0))","v":""},null,{"$f":"IF(K67=\"\",\"\",K67+I67)","v":""},{"$f":"IF(L67=\"\",\"\",RANK(L67,L$7:L$206,0))","v":""},null,{"$f":"IF(AND(F67=\"\",H67=\"\",K67=\"\",N67=\"\"),\"\",F67+H67+K67+N67)","v":""},16]
["",null,null,null,null,null,"",null,"","",null,"","",null,"",16]
["",null,null,null,null,null,"",null,"","",null,"","",null,"",16]
["",null,null,null,null,null,"",null,"","",null,"","",null,"",16]
[{"$f":"DBCS(IF(O71=\"\",\"\",RANK(O71,O$7:O$206,0)))","v":""},null,null,null,null,null,{"$f":"IF(F71=\"\",\"\",RANK(F71,F$7:F$206,0))","v":""},null,{"$f":"IF(H71=\"\",\"\",F71+H71)","v":""},{"$f":"IF(I71=\"\",\"\",RANK(I71,I$7:I$206,0))","v":""},null,{"$f":"IF(K71=\"\",\"\",K71+I71)","v":""},{"$f":"IF(L71=\"\",\"\",RANK(L71,L$7:L$206,0))","v":""},null,{"$f":"IF(AND(F71=\"\",H71=\"\",K71=\"\",N71=\"\"),\"\",F71+H71+K71+N71)","v":""},17]
["",null,null,null,null,null,"",null,"","",null,"","",null,"",17]
["",null,null,null,null,null,"",null,"","",null,"","",null,"",17]
["",null,null,null,null,null,"",null,"","",null,"","",null,"",17]
["",null,null,null,null,null,"",null,"","",null,"","",null,"",18]
["",null,null,null,null,null,"",null,"","",null,"","",null,"",18]
["",null,null,null,null,null,"",null,"","",null,"","",null,"",18]
["",null,null,null,null,null,"",null,"","",null,"","",null,"",18]
["",null,null,null,null,null,"",null,"","",null,"","",null,"",19]
["",null,null,null,null,null,"",null,"",null,null,"","",null,"",19]
["",null,null,null,null,null,"",null,"",{"$f":"IF(I81=\"\",\"\",RANK(I81,I$7:I$206,0))","v":""},null,"","",null,"",19]
["",null,null,null,null,null,"",null,"","",null,"","",null,"",19]
["",null,null,null,null,null,"",null,"","",null,"","",null,"",20]
["",null,null,null,null,null,"",null,"","",null,"","",null,"",20]
["",null,null,null,null,null,"",null,"","",null,"","",null,"",20]
["",null,null,null,null,null,"",null,"","",null,"","",null,"",20]
[{"$f":"DBCS(IF(O87=\"\",\"\",RANK(O87,O$7:O$206,0)))","v":""},null,null,null,null,null,{"$f":"IF(F87=\"\",\"\",RANK(F87,F$7:F$206,0))","v":""},null,{"$f":"IF(H87=\"\",\"\",F87+H87)","v":""},{"$f":"IF(I87=\"\",\"\",RANK(I87,I$7:I$206,0))","v":""},null,{"$f":"IF(K87=\"\",\"\",K87+I87)","v":""},{"$f":"IF(L87=\"\",\"\",RANK(L87,L$7:L$206,0))","v":""},null,{"$f":"IF(AND(F87=\"\",H87=\"\",K87=\"\",N87=\"\"),\"\",F87+H87+K87+N87)","v":""},21]
["",null,null,null,null,null,"",null,"","",null,"","",null,"",21]
["",null,null,null,null,null,"",null,"","",null,"","",null,"",21]
["",null,null,null,null,null,"",null,"","",null,"","",null,"",21]
["",null,null,null,null,null,"",null,"","",null,"","",null,"",22]
["",null,null,null,null,null,"",null,"","",null,"","",null,"",22]
["",null,null,null,null,null,"",null,"","",null,"","",null,"",22]
["",null,null,null,null,null,"",null,"","",null,"","",null,"",22]
["",null,null,null,null,null,"",null,"","",null,"","",null,"",23]
["",null,null,null,null,null,"",null,"","",null,"","",null,"",23]
["",null,null,null,null,null,"",null,"","",null,"","",null,"",23]
["",null,null,null,null,null,"",null,"","",null,"","",null,"",23]
["",null,null,null,null,null,"",null,"","",null,"","",null,"",24]
["",null,null,null,null,null,"",null,"","",null,"","",null,"",24]
["",null,null,null,null,null,"",null,"","",null,"","",null,"",24]
["",null,null,null,null,null,"",null,"","",null,"","",null,"",24]
["",null,null,null,null,null,"",null,"","",null,"","",null,"",25]
["",null,null,null,null,null,"",null,"","",null,"","",null,"",25]
["",null,null,null,null,null,"",null,"","",null,"","",null,"",25]
["",null,null,null,null,null,"",null,"","",null,"","",null,"",25]
["",null,null,null,null,null,"",null,"","",null,"","",null,"",26]
["",null,null,null,null,null,"",null,"","",null,"","",null,"",26]
["",null,null,null,null,null,"",null,"","",null,"","",null,"",26]
["",null,null,null,null,null,"",null,"","",null,"","",null,"",26]
["",null,null,null,null,null,"",null,"","",null,"","",null,"",27]
["",null,null,null,null,null,"",null,"","",null,"","",null,"",27]
["",null,null,null,null,null,"",null,"","",null,"","",null,"",27]
["",null,null,null,null,null,"",null,"","",null,"","",null,"",27]
["",null,null,null,null,null,"",null,"","",null,"","",null,"",28]
["",null,null,null,null,null,"",null,"","",null,"","",null,"",28]
["",null,null,null,null,null,"",null,"","",null,"","",null,"",28]
["",null,null,null,null,null,"",null,"","",null,"","",null,"",28]
["",null,null,null,null,null,"",null,"","",null,"","",null,"",29]
["",null,null,null,null,null,"",null,"","",null,"","",null,"",29]
["",null,null,null,null,null,"",null,"","",null,"","",null,"",29]
["",null,null,null,null,null,"",null,"","",null,"","",null,"",29]
["",null,null,null,null,null,"",null,"","",null,"","",null,"",30]
["",null,null,null,null,null,"",null,"","",null,"","",null,"",30]
["",null,null,null,null,null,"",null,"","",null,"","",null,"",30]
["",null,null,null,null,null,"",null,"","",null,"","",null,"",30]
["",null,null,null,null,null,"",null,"","",null,"","",null,"",31]
["",null,null,null,null,null,"",null,"","",null,"","",null,"",31]
["",null,null,null,null,null,"",null,"","",null,"","",null,"",31]
["",null,null,null,null,null,"",null,"","",null,"","",null,"",31]
["",null,null,null,null,null,"",null,"","",null,"","",null,"",32]
["",null,null,null,null,null,"",null,"","",null,"","",null,"",32]
["",null,null,null,null,null,"",null,"","",null,"","",null,"",32]
["",null,null,null,null,null,"",null,"","",null,"","",null,"",32]
["",null,null,null,null,null,"",null,"","",null,"","",null,"",33]
["",null,null,null,null,null,"",null,"","",null,"","",null,"",33]
["",null,null,null,null,null,"",null,"","",null,"","",null,"",33]
["",null,null,null,null,null,"",null,"","",null,"","",null,"",33]
["",null,null,null,null,null,"",null,"","",null,"","",null,"",34]
["",null,null,null,null,null,"",null,"","",null,"","",null,"",34]
["",null,null,null,null,null,"",null,"","",null,"","",null,"",34]
["",null,null,null,null,null,"",null,"","",null,"","",null,"",34]
["",null,null,null,null,null,"",null,"","",null,"","",null,"",35]
["",null,null,null,null,null,"",null,"","",null,"","",null,"",35]
["",null,null,null,null,null,"",null,"","",null,"","",null,"",35]
["",null,null,null,null,null,"",null,"","",null,"","",null,"",35]
["",null,null,null,null,null,"",null,"","",null,"","",null,"",36]
["",null,null,null,null,null,"",null,"","",null,"","",null,"",36]
["",null,null,null,null,null,"",null,"","",null,"","",null,"",36]
["",null,null,null,null,null,"",null,"","",null,"","",null,"",36]
[{"$f":"DBCS(IF(O151=\"\",\"\",RANK(O151,O$7:O$206,0)))","v":""},null,null,null,null,null,{"$f":"IF(F151=\"\",\"\",RANK(F151,F$7:F$206,0))","v":""},null,{"$f":"IF(H151=\"\",\"\",F151+H151)","v":""},{"$f":"IF(I151=\"\",\"\",RANK(I151,I$7:I$206,0))","v":""},null,{"$f":"IF(K151=\"\",\"\",K151+I151)","v":""},{"$f":"IF(L151=\"\",\"\",RANK(L151,L$7:L$206,0))","v":""},null,{"$f":"IF(AND(F151=\"\",H151=\"\",K151=\"\",N151=\"\"),\"\",F151+H151+K151+N151)","v":""},37]
["",null,null,null,null,null,"",null,"","",null,"","",null,"",37]
["",null,null,null,null,null,"",null,"","",null,"","",null,"",37]
["",null,null,null,null,null,"",null,"","",null,"","",null,"",37]
["",null,null,null,null,null,"",null,"","",null,"","",null,"",38]
["",null,null,null,null,null,"",null,"","",null,"","",null,"",38]
["",null,null,null,null,null,"",null,"","",null,"","",null,"",38]
["",null,null,null,null,null,"",null,"","",null,"","",null,"",38]
["",null,null,null,null,null,"",null,"","",null,"","",null,"",39]
["",null,null,null,null,null,"",null,"","",null,"","",null,"",39]
["",null,null,null,null,null,"",null,"","",null,"","",null,"",39]
["",null,null,null,null,null,"",null,"","",null,"","",null,"",39]
["",null,null,null,null,null,"",null,"","",null,"","",null,"",40]
["",null,null,null,null,null,"",null,"","",null,"","",null,"",40]
["",null,null,null,null,null,"",null,"","",null,"","",null,"",40]
["",null,null,null,null,null,"",null,"","",null,"","",null,"",40]
["",null,null,null,null,null,"",null,"","",null,"","",null,"",41]
["",null,null,null,null,null,"",null,"","",null,"","",null,"",41]
["",null,null,null,null,null,"",null,"","",null,"","",null,"",41]
["",null,null,null,null,null,"",null,"","",null,"","",null,"",41]
["",null,null,null,null,null,"",null,"","",null,"","",null,"",42]
["",null,null,null,null,null,"",null,"","",null,"","",null,"",42]
["",null,null,null,null,null,"",null,"","",null,"","",null,"",42]
["",null,null,null,null,null,"",null,"","",null,"","",null,"",42]
["",null,null,null,null,null,"",null,"","",null,"","",null,"",43]
["",null,null,null,null,null,"",null,"","",null,"","",null,"",43]
["",null,null,null,null,null,"",null,"","",null,"","",null,"",43]
["",null,null,null,null,null,"",null,"","",null,"","",null,"",43]
["",null,null,null,null,null,"",null,"","",null,"","",null,"",44]
["",null,null,null,null,null,"",null,"","",null,"","",null,"",44]
["",null,null,null,null,null,"",null,"","",null,"","",null,"",44]
["",null,null,null,null,null,"",null,"","",null,"","",null,"",44]
["",null,null,null,null,null,"",null,"","",null,"","",null,"",45]
["",null,null,null,null,null,"",null,"","",null,"","",null,"",45]
["",null,null,null,null,null,"",null,"","",null,"","",null,"",45]
["",null,null,null,null,null,"",null,"","",null,"","",null,"",45]
["",null,null,null,null,null,"",null,"","",null,"","",null,"",46]
["",null,null,null,null,null,"",null,"","",null,"","",null,"",46]
["",null,null,null,null,null,"",null,"","",null,"","",null,"",46]
["",null,null,null,null,null,"",null,"","",null,"","",null,"",46]
["",null,null,null,null,null,"",null,"","",null,"","",null,"",47]
["",null,null,null,null,null,"",null,"","",null,"","",null,"",47]
["",null,null,null,null,null,"",null,"","",null,"","",null,"",47]
["",null,null,null,null,null,"",null,"","",null,"","",null,"",47]
["",null,null,null,null,null,"",null,"","",null,"","",null,"",48]
["",null,null,null,null,null,"",null,"","",null,"","",null,"",48]
["",null,null,null,null,null,"",null,"","",null,"","",null,"",48]
["",null,null,null,null,null,"",null,"","",null,"","",null,"",48]
["",null,null,null,null,null,"",null,"","",null,"","",null,"",49]
["",null,null,null,null,null,"",null,"","",null,"","",null,"",49]
["",null,null,null,null,null,"",null,"","",null,"","",null,"",49]
["",null,null,null,null,null,"",null,"","",null,"","",null,"",49]
["",null,null,null,null,null,"",null,"","",null,"","",null,"",50]
["",null,null,null,null,null,"",null,"","",null,"","",null,"",50]
["",null,null,null,null,null,"",null,"","",null,"","",null,"",50]
["",null,null,null,null,null,"",null,"","",null,"","",null,"",50]
[null,null,null,null,null,{"$f":"SUM(F7:F206)","v":0},null,{"$f":"SUM(H7:H206)","v":0},null,null,{"$f":"SUM(K7:K206)","v":0},null,null,{"$f":"SUM(N7:N206)","v":0},{"$f":"SUM(O7:O206)","v":0}]
[null,null,null,null,null,{"$f":"MOD(COUNT(F7:F206), 4)","v":0},null,{"$f":"MOD(COUNT(H7:H206), 4)","v":0},null,null,{"$f":"MOD(COUNT(K7:K206), 4)","v":0},null,null,{"$f":"MOD(COUNT(N7:N206), 4)","v":0}]

{"sheet":"100","index":1,"n_rows":208,"n_cols":16,"rows_kept":208,"cut":false,"hidden":false,"merged":[[4,0,4,2],[4,3,4,11],[4,12,4,14]]}
[]
[null,"卓",7]
[null,"回",4,null,null,{"$f":"F207","v":0},null,{"$f":"H207","v":0},null,null,{"$f":"K207","v":0},null,null,{"$f":"N207","v":0},null,"←1回戦ごとの合計が表示される。"]
[null,null,"↓編集中","↓編集中",null,"↓編集中",null,"↓編集中",null,null,"↓編集中",null,null,"↓編集中",null,"←全てのデータが入力完了した/データを再修正したい時はここをダブルクリック"]
[{"$f":"WINDOM!A5","v":"月　　日"},null,null,{"$f":"WINDOM!D5","v":0},null,null,null,null,null,null,null,null,{"$f":"WINDOM!M5","v":0}]
["順位","№","氏　　　名","段位","卓番","１回戦","Ｒ","２回戦","小計","Ｒ","３回戦","小計","Ｒ","４回戦","合計"]
[{"$f":"DBCS(IF(O7=\"\",\"\",RANK(O7,O$7:O$206,0)))","v":""},101,null,null,{"$f":"$C$3","v":4},null,{"$f":"IF(F7=\"\",\"\",RANK(F7,F$7:F$206,0))","v":""},null,{"$f":"IF(H7=\"\",\"\",F7+H7)","v":""},{"$f":"IF(I7=\"\",\"\",RANK(I7,I$7:I$206,0))","v":""},null,{"$f":"IF(K7=\"\",\"\",K7+I7)","v":""},{"$f":"IF(L7=\"\",\"\",RANK(L7,L$7:L$206,0))","v":""},null,{"$f":"IF(AND(F7=\"\",H7=\"\",K7=\"\",N7=\"\"),\"\",F7+H7+K7+N7)","v":""},1]
["",102,null,null,{"$f":"IF($C$3=1,1,IF($C$3=2,3,IF($C$3=3,5,IF($C$3=4,7))))","v":7},null,"",null,"","",null,"","",null,"",1]
["",103,null,null,{"$f":"IF($C$3=1,1,IF($C$3=2,4,IF($C$3=3,7,IF($C$3=4,3))))","v":3},null,"",null,"","",null,"","",null,"",1]
["",104,null,null,{"$f":"IF($C$3=1,1,IF($C$3=2,5,IF($C$3=3,2,IF($C$3=4,6))))","v":6},null,"",null,"","",null,"","",null,"",1]
["",105,null,null,{"$f":"IF(C11=\"\",\"\",IF(ISNUMBER(E7),IF(E7<$C$2,E7+1,E7+1-$C$2),1))","v":""},null,"",null,"","",null,"","",null,"",2]
["",106,null,null,"",null,"",null,"","",null,"","",null,"",2]
["",107,null,null,"",null,"",null,"","",null,"","",null,"",2]
["",108,null,null,"",null,"",null,"","",null,"","",null,"",2]
["",109,null,null,"",null,"",null,"","",null,"","",null,"",3]
["",110,null,null,"",null,"",null,"","",null,"","",null,"",3]
["",111,null,null,"",null,"",null,"","",null,"","",null,"",3]
["",112,null,null,"",null,"",null,"","",null,"","",null,"",3]
["",113,null,null,"",null,"",null,"","",null,"","",null,"",4]
["",114,null,null,"",null,"",null,"","",null,"","",null,"",4]
["",115,null,null,"",null,"",null,"","",null,"","",null,"",4]
["",116,null,null,"",null,"",null,"","",null,"","",null,"",4]
["",117,null,null,"",null,"",null,"","",null,"","",null,"",5]
["",118,null,null,"",null,"",null,"","",null,"","",null,"",5]
["",119,null,null,"",null,"",null,"","",null,"","",null,"",5]
["",120,null,null,"",null,"",null,"","",null,"","",null,"",5]
["",121,null,null,"",null,"",null,"","",null,"","",null,"",6]
["",122,null,null,"",null,"",null,"","",null,"","",null,"",6]
["",123,null,null,"",null,"",null,"","",null,"","",null,"",6]
["",124,null,null,"",null,"",null,"","",null,"","",null,"",6]
["","125",null,null,"",null,"",null,"","",null,"","",null,"",7]
["","126",null,null,"",null,"",null,"","",null,"","",null,"",7]
["","127",null,null,"",null,"",null,"","",null,"","",null,"",7]
["","128",null,null,"",null,"",null,"","",null,"","",null,"",7]
["",null,null,null,{"$f":"IF(C35=\"\",\"\",IF(ISNUMBER(E31),IF(E31<$C$2,E31+1,E31+1-$C$2),1))","v":""},null,{"$f":"IF(F35=\"\",\"\",RANK(F35,F$7:F$206,0))","v":""},null,{"$f":"IF(H35=\"\",\"\",F35+H35)","v":""},{"$f":"IF(I35=\"\",\"\",RANK(I35,I$7:I$206,0))","v":""},null,{"$f":"IF(K35=\"\",\"\",K35+I35)","v":""},{"$f":"IF(L35=\"\",\"\",RANK(L35,L$7:L$206,0))","v":""},null,{"$f":"IF(AND(F35=\"\",H35=\"\",K35=\"\",N35=\"\"),\"\",F35+H35+K35+N35)","v":""},8]
["",null,null,null,"",null,"",null,"","",null,"","",null,"",8]
["",null,null,null,"",null,"",null,"","",null,"","",null,"",8]
["",null,null,null,"",null,"",null,"","",null,"","",null,"",8]
[{"$f":"DBCS(IF(O39=\"\",\"\",RANK(O39,O$7:O$206,0)))","v":""},null,null,null,{"$f":"IF(C39=\"\",\"\",IF(ISNUMBER(E35),IF(E35<$C$2,E35+1,E35+1-$C$2),1))","v":""},null,{"$f":"IF(F39=\"\",\"\",RANK(F39,F$7:F$206,0))","v":""},null,{"$f":"IF(H39=\"\",\"\",F39+H39)","v":""},{"$f":"IF(I39=\"\",\"\",RANK(I39,I$7:I$206,0))","v":""},null,{"$f":"IF(K39=\"\",\"\",K39+I39)","v":""},{"$f":"IF(L39=\"\",\"\",RANK(L39,L$7:L$206,0))","v":""},null,{"$f":"IF(AND(F39=\"\",H39=\"\",K39=\"\",N39=\"\"),\"\",F39+H39+K39+N39)","v":""},9]
["",null,null,null,"",null,"",null,"","",null,"","",null,"",9]
["",null,null,null,"",null,"",null,"","",null,"","",null,"",9]
["",null,null,null,"",null,"",null,"","",null,"","",null,"",9]
["",null,null,null,"",null,"",null,"","",null,"","",null,"",10]
["",null,null,null,"",null,"",null,"","",null,"","",null,"",10]
["",null,null,null,"",null,"",null,"","",null,"","",null,"",10]
["",null,null,null,"",null,"",null,"","",null,"","",null,"",10]
["",null,null,null,"",null,"",null,"","",null,"","",null,"",11]
["",null,null,null,"",null,"",null,"","",null,"","",null,"",11]
["",null,null,null,"",null,"",null,"","",null,"","",null,"",11]
["",null,null,null,"",null,"",null,"","",null,"","",null,"",11]
["",null,null,null,"",null,"",null,"","",null,"","",null,"",12]
[{"$f":"DBCS(IF(O52=\"\",\"\",RANK(O52,O$7:O$206,0)))","v":""},null,null,null,"",null,"",null,{"$f":"IF(H52=\"\",\"\",F52+H52)","v":""},"",null,{"$f":"IF(K52=\"\",\"\",K52+I52)","v":""},"",null,{"$f":"IF(AND(F52=\"\",H52=\"\",K52=\"\",N52=\"\"),\"\",F52+H52+K52+N52)","v":""},12]
["",null,null,null,"",null,"",null,"","",null,"","",null,"",12]
["",null,null,null,"",null,"",null,"","",null,"","",null,"",12]
["",null,null,null,"",null,"",null,"","",null,"","",null,"",13]
["",null,null,null,"",null,"",null,"","",null,"","",null,"",13]
["",null,null,null,"",null,"",null,"","",null,"","",null,"",13]
["",null,null,null,"",null,"",null,"","",null,"","",null,"",13]
["",null,null,null,"",null,"",null,"","",null,"","",null,"",14]
["",null,null,null,"",null,"",null,"","",null,"","",null,"",14]
["",null,null,null,"",null,"",null,"","",null,"","",null,"",14]
["",null,null,null,"",null,"",null,"","",null,"","",null,"",14]
["",null,null,null,"",null,"",null,"","",null,"","",null,"",15]
["",null,null,null,"",null,"",null,"","",null,"","",null,"",15]
["",null,null,null,"",null,"",null,"","",null,"","",null,"",15]
["",null,null,null,"",null,"",null,"","",null,"","",null,"",15]
["",null,null,null,"",null,"",null,"","",null,"","",null,"",16]
["",null,null,null,"",null,"",null,"","",null,"","",null,"",16]
["",null,null,null,"",null,"",null,"","",null,"","",null,"",16]
["",null,null,null,"",null,"",null,"","",null,"","",null,"",16]
["",null,null,null,{"$f":"IF(C71=\"\",\"\",IF(ISNUMBER(E67),IF(E67<$C$2,E67+1,E67+1-$C$2),1))","v":""},null,"",null,"","",null,"","",null,"",17]
["",null,null,null,"",null,"",null,"","",null,"","",null,"",17]
["",null,null,null,"",null,"",null,"","",null,"","",null,"",17]
["",null,null,null,"",null,"",null,"","",null,"","",null,"",17]
["",null,null,null,"",null,"",null,"","",null,"","",null,"",18]
["",null,null,null,"",null,"",null,"","",null,"","",null,"",18]
["",null,null,null,"",null,"",null,"","",null,"","",null,"",18]
["",null,null,null,"",null,"",null,"","",null,"","",null,"",18]
["",null,null,null,"",null,"",null,"","",null,"","",null,"",19]
["",null,null,null,"",null,"",null,"","",null,"","",null,"",19]
["",null,null,null,"",null,"",null,"","",null,"","",null,"",19]
["",null,null,null,"",null,"",null,"","",null,"","",null,"",19]
["",null,null,null,"",null,"",null,"","",null,"","",null,"",20]
["",null,null,null,"",null,"",null,"","",null,"","",null,"",20]
["",null,null,null,"",null,"",null,"","",null,"","",null,"",20]
["",null,null,null,"",null,"",null,"","",null,"","",null,"",20]
["",null,null,null,"",null,"",null,"","",null,"","",null,"",21]
["",null,null,null,"",null,"",null,"","",null,"","",null,"",21]
["",null,null,null,"",null,"",null,"","",null,"","",null,"",21]
["",null,null,null,"",null,"",null,"","",null,"","",null,"",21]
["",null,null,null,"",null,"",null,"","",null,"","",null,"",22]
["",null,null,null,"",null,"",null,"","",null,"","",null,"",22]
["",null,null,null,"",null,"",null,"","",null,"","",null,"",22]
["",null,null,null,"",null,"",null,"","",null,"","",null,"",22]
["",null,null,null,"",null,"",null,"","",null,"","",null,"",23]
["",null,null,null,"",null,"",null,"","",null,"","",null,"",23]
["",null,null,null,"",null,"",null,"","",null,"","",null,"",23]
["",null,null,null,"",null,"",null,"","",null,"","",null,"",23]
["",null,null,null,"",null,"",null,"","",null,"","",null,"",24]
["",null,null,null,"",null,"",null,"","",null,"","",null,"",24]
["",null,null,null,"",null,"",null,"","",null,"","",null,"",24]
["",null,null,null,"",null,"",null,"","",null,"","",null,"",24]
["",null,null,null,{"$f":"IF(C103=\"\",\"\",IF(ISNUMBER(E99),IF(E99<$C$2,E99+1,E99+1-$C$2),1))","v":""},null,{"$f":"IF(F103=\"\",\"\",RANK(F103,F$7:F$206,0))","v":""},null,"",{"$f":"IF(I103=\"\",\"\",RANK(I103,I$7:I$206,0))","v":""},null,"",{"$f":"IF(L103=\"\",\"\",RANK(L103,L$7:L$206,0))","v":""},null,"",25]
["",null,null,null,"",null,"",null,"","",null,"","",null,"",25]
["",null,null,null,"",null,"",null,"","",null,"","",null,"",25]
["",null,null,null,"",null,"",null,"","",null,"","",null,"",25]
["",null,null,null,"",null,"",null,"","",null,"","",null,"",26]
["",null,null,null,"",null,"",null,"","",null,"","",null,"",26]
["",null,null,null,"",null,"",null,"","",null,"","",null,"",26]
["",null,null,null,"",null,"",null,"","",null,"","",null,"",26]
["",null,null,null,"",null,"",null,"","",null,"","",null,"",27]
["",null,null,null,"",null,"",null,"","",null,"","",null,"",27]
["",null,null,null,"",null,"",null,"","",null,"","",null,"",27]
["",null,null,null,"",null,"",null,"","",null,"","",null,"",27]
["",null,null,null,"",null,"",null,"","",null,"","",null,"",28]
[{"$f":"DBCS(IF(O116=\"\",\"\",RANK(O116,O$7:O$206,0)))","v":""},null,null,null,"",null,"",null,{"$f":"IF(H116=\"\",\"\",F116+H116)","v":""},"",null,{"$f":"IF(K116=\"\",\"\",K116+I116)","v":""},"",null,{"$f":"IF(AND(F116=\"\",H116=\"\",K116=\"\",N116=\"\"),\"\",F116+H116+K116+N116)","v":""},28]
["",null,null,null,"",null,"",null,"","",null,"","",null,"",28]
["",null,null,null,"",null,"",null,"","",null,"","",null,"",28]
["",null,null,null,"",null,"",null,"","",null,"","",null,"",29]
["",null,null,null,"",null,"",null,"","",null,"","",null,"",29]
["",null,null,null,"",null,"",null,"","",null,"","",null,"",29]
["",null,null,null,"",null,"",null,"","",null,"","",null,"",29]
["",null,null,null,"",null,"",null,"","",null,"","",null,"",30]
["",null,null,null,"",null,"",null,"","",null,"","",null,"",30]
["",null,null,null,"",null,"",null,"","",null,"","",null,"",30]
["",null,null,null,"",null,"",null,"","",null,"","",null,"",30]
["",null,null,null,"",null,"",null,"","",null,"","",null,"",31]
["",null,null,null,"",null,"",null,"","",null,"","",null,"",31]
["",null,null,null,"",null,"",null,"","",null,"","",null,"",31]
["",null,null,null,"",null,"",null,"","",null,"","",null,"",31]
["",null,null,null,"",null,"",null,"","",null,"","",null,"",32]
["",null,null,null,"",null,"",null,"","",null,"","",null,"",32]
["",null,null,null,"",null,"",null,"","",null,"","",null,"",32]
["",null,null,null,"",null,"",null,"","",null,"","",null,"",32]
["",null,null,null,{"$f":"IF(C135=\"\",\"\",IF(ISNUMBER(E131),IF(E131<$C$2,E131+1,E131+1-$C$2),1))","v":""},null,"",null,"","",null,"","",null,"",33]
["",null,null,null,"",null,"",null,"","",null,"","",null,"",33]
["",null,null,null,"",null,"",null,"","",null,"","",null,"",33]
["",null,null,null,"",null,"",null,"","",null,"","",null,"",33]
["",null,null,null,"",null,"",null,"","",null,"","",null,"",34]
["",null,null,null,"",null,"",null,"","",null,"","",null,"",34]
["",null,null,null,"",null,"",null,"","",null,"","",null,"",34]
["",null,null,null,"",null,"",null,"","",null,"","",null,"",34]
["",null,null,null,"",null,"",null,"","",null,"","",null,"",35]
["",null,null,null,"",null,"",null,"","",null,"","",null,"",35]
["",null,null,null,"",null,"",null,"","",null,"","",null,"",35]
["",null,null,null,"",null,"",null,"","",null,"","",null,"",35]
["",null,null,null,"",null,"",null,"","",null,"","",null,"",36]
["",null,null,null,"",null,"",null,"","",null,"","",null,"",36]
["",null,null,null,"",null,"",null,"","",null,"","",null,"",36]
["",null,null,null,"",null,"",null,"","",null,"","",null,"",36]
["",null,null,null,"",null,"",null,"","",null,"","",null,"",37]
["",null,null,null,"",null,"",null,"","",null,"","",null,"",37]
["",null,null,null,"",null,"",null,"","",null,"","",null,"",37]
["",null,null,null,"",null,"",null,"","",null,"","",null,"",37]
["",null,null,null,"",null,"",null,"","",null,"","",null,"",38]
["",null,null,null,"",null,"",null,"","",null,"","",null,"",38]
["",null,null,null,"",null,"",null,"","",null,"","",null,"",38]
["",null,null,null,"",null,"",null,"","",null,"","",null,"",38]
["",null,null,null,"",null,"",null,"","",null,"","",null,"",39]
["",null,null,null,"",null,"",null,"","",null,"","",null,"",39]
["",null,null,null,"",null,"",null,"","",null,"","",null,"",39]
["",null,null,null,"",null,"",null,"","",null,"","",null,"",39]
["",null,null,null,"",null,"",null,"","",null,"","",null,"",40]
["",null,null,null,"",null,"",null,"","",null,"","",null,"",40]
["",null,null,null,"",null,"",null,"","",null,"","",null,"",40]
["",null,null,null,"",null,"",null,"","",null,"","",null,"",40]
["",null,null,null,{"$f":"IF(C167=\"\",\"\",IF(ISNUMBER(E163),IF(E163<$C$2,E163+1,E163+1-$C$2),1))","v":""},null,{"$f":"IF(F167=\"\",\"\",RANK(F167,F$7:F$206,0))","v":""},null,"",{"$f":"IF(I167=\"\",\"\",RANK(I167,I$7:I$206,0))","v":""},null,"",{"$f":"IF(L167=\"\",\"\",RANK(L167,L$7:L$206,0))","v":""},null,"",41]
["",null,null,null,"",null,"",null,"","",null,"","",null,"",41]
["",null,null,null,"",null,"",null,"","",null,"","",null,"",41]
["",null,null,null,"",null,"",null,"","",null,"","",null,"",41]
["",null,null,null,"",null,"",null,"","",null,"","",null,"",42]
["",null,null,null,"",null,"",null,"","",null,"","",null,"",42]
["",null,null,null,"",null,"",null,"","",null,"","",null,"",42]
["",null,null,null,"",null,"",null,"","",null,"","",null,"",42]
["",null,null,null,"",null,"",null,"","",null,"","",null,"",43]
["",null,null,null,"",null,"",null,"","",null,"","",null,"",43]
["",null,null,null,"",null,"",null,"","",null,"","",null,"",43]
["",null,null,null,"",null,"",null,"","",null,"","",null,"",43]
["",null,null,null,"",null,"",null,"","",null,"","",null,"",44]
[{"$f":"DBCS(IF(O180=\"\",\"\",RANK(O180,O$7:O$206,0)))","v":""},null,null,null,"",null,"",null,{"$f":"IF(H180=\"\",\"\",F180+H180)","v":""},"",null,{"$f":"IF(K180=\"\",\"\",K180+I180)","v":""},"",null,{"$f":"IF(AND(F180=\"\",H180=\"\",K180=\"\",N180=\"\"),\"\",F180+H180+K180+N180)","v":""},44]
["",null,null,null,"",null,"",null,"","",null,"","",null,"",44]
["",null,null,null,"",null,"",null,"","",null,"","",null,"",44]
["",null,null,null,"",null,"",null,"","",null,"","",null,"",45]
["",null,null,null,"",null,"",null,"","",null,"","",null,"",45]
["",null,null,null,"",null,"",null,"","",null,"","",null,"",45]
["",null,null,null,"",null,"",null,"","",null,"","",null,"",45]
["",null,null,null,"",null,"",null,"","",null,"","",null,"",46]
["",null,null,null,"",null,"",null,"","",null,"","",null,"",46]
["",null,null,null,"",null,"",null,"","",null,"","",null,"",46]
["",null,null,null,"",null,"",null,"","",null,"","",null,"",46]
["",null,null,null,"",null,"",null,"","",null,"","",null,"",47]
["",null,null,null,"",null,"",null,"","",null,"","",null,"",47]
["",null,null,null,"",null,"",null,"","",null,"","",null,"",47]
["",null,null,null,"",null,"",null,"","",null,"","",null,"",47]
["",null,null,null,"",null,"",null,"","",null,"","",null,"",48]
["",null,null,null,"",null,"",null,"","",null,"","",null,"",48]
["",null,null,null,"",null,"",null,"","",null,"","",null,"",48]
["",null,null,null,"",null,"",null,"","",null,"","",null,"",48]
["",null,null,null,{"$f":"IF(C199=\"\",\"\",IF(ISNUMBER(E195),IF(E195<$C$2,E195+1,E195+1-$C$2),1))","v":""},null,"",null,"","",null,"","",null,"",49]
["",null,null,null,"",null,"",null,"","",null,"","",null,"",49]
["",null,null,null,"",null,"",null,"","",null,"","",null,"",49]
["",null,null,null,"",null,"",null,"","",null,"","",null,"",49]
["",null,null,null,"",null,"",null,"","",null,"","",null,"",50]
["",null,null,null,"",null,"",null,"","",null,"","",null,"",50]
["",null,null,null,"",null,"",null,"","",null,"","",null,"",50]
["",null,null,null,"",null,"",null,"","",null,"","",null,"",50]
[null,null,null,null,null,{"$f":"SUM(F7:F206)","v":0},null,{"$f":"SUM(H7:H206)","v":0},null,null,{"$f":"SUM(K7:K206)","v":0},null,null,{"$f":"SUM(N7:N206)","v":0},{"$f":"SUM(O7:O206)","v":0}]
[null,null,null,null,null,{"$f":"MOD(COUNT(F7:F206), 4)","v":0},null,{"$f":"MOD(COUNT(H7:H206), 4)","v":0},null,null,{"$f":"MOD(COUNT(K7:K206), 4)","v":0},null,null,{"$f":"MOD(COUNT(N7:N206), 4)","v":0}]

{"sheet":"200","index":2,"n_rows":208,"n_cols":16,"rows_kept":208,"cut":false,"hidden":false,"merged":[[4,0,4,2],[4,3,4,11],[4,12,4,14]]}
[]
[null,"卓",7]
[null,"回",4,null,null,{"$f":"F207","v":0},null,{"$f":"H207","v":0},null,null,{"$f":"K207","v":0},null,null,{"$f":"N207","v":0},null,"←1回戦ごとの合計が表示される。"]
[null,null,"↓編集中","↓編集中",null,"↓編集中",null,"↓編集中",null,null,"↓編集中",null,null,"↓編集中",null,"←全てのデータが入力完了した/データを再修正したい時はここをダブルクリック"]
[{"$f":"WINDOM!A5","v":"月　　日"},null,null,{"$f":"WINDOM!D5","v":0},null,null,null,null,null,null,null,null,{"$f":"WINDOM!M5","v":0}]
["順位","№","氏　　　名","段位","卓番","１回戦","Ｒ","２回戦","小計","Ｒ","３回戦","小計","Ｒ","４回戦","合計"]
[{"$f":"DBCS(IF(O7=\"\",\"\",RANK(O7,O$7:O$206,0)))","v":""},129,null,null,{"$f":"$C$3","v":4},null,{"$f":"IF(F7=\"\",\"\",RANK(F7,F$7:F$206,0))","v":""},null,{"$f":"IF(H7=\"\",\"\",F7+H7)","v":""},{"$f":"IF(I7=\"\",\"\",RANK(I7,I$7:I$206,0))","v":""},null,{"$f":"IF(K7=\"\",\"\",K7+I7)","v":""},{"$f":"IF(L7=\"\",\"\",RANK(L7,L$7:L$206,0))","v":""},null,{"$f":"IF(AND(F7=\"\",H7=\"\",K7=\"\",N7=\"\"),\"\",F7+H7+K7+N7)","v":""},{"$f":"'100'!$C$2+1","v":8}]
["",130,null,null,{"$f":"IF($C$3=1,1,IF($C$3=2,3,IF($C$3=3,5,IF($C$3=4,7))))","v":7},null,"",null,"","",null,"","",null,"",{"$f":"'100'!$C$2+1","v":8}]
["",131,null,null,{"$f":"IF($C$3=1,1,IF($C$3=2,4,IF($C$3=3,7,IF($C$3=4,3))))","v":3},null,"",null,"","",null,"","",null,"",{"$f":"'100'!$C$2+1","v":8}]
["",132,null,null,{"$f":"IF($C$3=1,1,IF($C$3=2,5,IF($C$3=3,2,IF($C$3=4,6))))","v":6},null,"",null,"","",null,"","",null,"",{"$f":"'100'!$C$2+1","v":8}]
["",133,null,null,{"$f":"IF(C11=\"\",\"\",IF(ISNUMBER(E7),IF(E7<$C$2,E7+1,E7+1-$C$2),1))","v":""},null,"",null,"","",null,"","",null,"",{"$f":"'100'!$C$2+2","v":9}]
["",134,null,null,"",null,"",null,"","",null,"","",null,"",{"$f":"'100'!$C$2+2","v":9}]
["",135,null,null,"",null,"",null,"","",null,"","",null,"",{"$f":"'100'!$C$2+2","v":9}]
["",136,null,null,"",null,"",null,"","",null,"","",null,"",{"$f":"'100'!$C$2+2","v":9}]
["",137,null,null,"",null,"",null,"","",null,"","",null,"",{"$f":"'100'!$C$2+3","v":10}]
["",138,null,null,"",null,"",null,"","",null,"","",null,"",{"$f":"'100'!$C$2+3","v":10}]
["",139,null,null,"",null,"",null,"","",null,"","",null,"",{"$f":"'100'!$C$2+3","v":10}]
["",140,null,null,"",null,"",null,"","",null,"","",null,"",{"$f":"'100'!$C$2+3","v":10}]
["",141,null,null,"",null,"",null,"","",null,"","",null,"",{"$f":"'100'!$C$2+4","v":11}]
["",142,null,null,"",null,"",null,"","",null,"","",null,"",{"$f":"'100'!$C$2+4","v":11}]
["",143,null,null,"",null,"",null,"","",null,"","",null,"",{"$f":"'100'!$C$2+4","v":11}]
["",144,null,null,"",null,"",null,"","",null,"","",null,"",{"$f":"'100'!$C$2+4","v":11}]
["",145,null,null,"",null,"",null,"","",null,"","",null,"",{"$f":"'100'!$C$2+5","v":12}]
["",146,null,null,"",null,"",null,"","",null,"","",null,"",{"$f":"'100'!$C$2+5","v":12}]
["",147,null,null,"",null,"",null,"","",null,"","",null,"",{"$f":"'100'!$C$2+5","v":12}]
["",148,null,null,"",null,"",null,"","",null,"","",null,"",{"$f":"'100'!$C$2+5","v":12}]
["",149,null,null,"",null,"",null,"","",null,"","",null,"",{"$f":"'100'!$C$2+6","v":13}]
["",150,null,null,"",null,"",null,"","",null,"","",null,"",{"$f":"'100'!$C$2+6","v":13}]
["",151,null,null,"",null,"",null,"","",null,"","",null,"",{"$f":"'100'!$C$2+6","v":13}]
["",152,null,null,"",null,"",null,"","",null,"","",null,"",{"$f":"'100'!$C$2+6","v":13}]
["",153,null,null,"",null,"",null,"","",null,"","",null,"",{"$f":"'100'!$C$2+7","v":14}]
["",154,null,null,"",null,"",null,"","",null,"","",null,"",{"$f":"'100'!$C$2+7","v":14}]
["",155,null,null,"",null,"",null,"","",null,"","",null,"",{"$f":"'100'!$C$2+7","v":14}]
["",156,null,null,"",null,"",null,"","",null,"","",null,"",{"$f":"'100'!$C$2+7","v":14}]
["",null,null,null,{"$f":"IF(C35=\"\",\"\",IF(ISNUMBER(E31),IF(E31<$C$2,E31+1,E31+1-$C$2),1))","v":""},null,{"$f":"IF(F35=\"\",\"\",RANK(F35,F$7:F$206,0))","v":""},null,{"$f":"IF(H35=\"\",\"\",F35+H35)","v":""},{"$f":"IF(I35=\"\",\"\",RANK(I35,I$7:I$206,0))","v":""},null,{"$f":"IF(K35=\"\",\"\",K35+I35)","v":""},{"$f":"IF(L35=\"\",\"\",RANK(L35,L$7:L$206,0))","v":""},null,{"$f":"IF(AND(F35=\"\",H35=\"\",K35=\"\",N35=\"\"),\"\",F35+H35+K35+N35)","v":""},{"$f":"'100'!$C$2+8","v":15}]
["",null,null,null,"",null,"",null,"","",null,"","",null,"",{"$f":"'100'!$C$2+8","v":15}]
["",null,null,null,"",null,"",null,"","",null,"","",null,"",{"$f":"'100'!$C$2+8","v":15}]
["",null,null,null,"",null,"",null,"","",null,"","",null,"",{"$f":"'100'!$C$2+8","v":15}]
[{"$f":"DBCS(IF(O39=\"\",\"\",RANK(O39,O$7:O$206,0)))","v":""},null,null,null,{"$f":"IF(C39=\"\",\"\",IF(ISNUMBER(E35),IF(E35<$C$2,E35+1,E35+1-$C$2),1))","v":""},null,{"$f":"IF(F39=\"\",\"\",RANK(F39,F$7:F$206,0))","v":""},null,{"$f":"IF(H39=\"\",\"\",F39+H39)","v":""},{"$f":"IF(I39=\"\",\"\",RANK(I39,I$7:I$206,0))","v":""},null,{"$f":"IF(K39=\"\",\"\",K39+I39)","v":""},{"$f":"IF(L39=\"\",\"\",RANK(L39,L$7:L$206,0))","v":""},null,{"$f":"IF(AND(F39=\"\",H39=\"\",K39=\"\",N39=\"\"),\"\",F39+H39+K39+N39)","v":""},{"$f":"'100'!$C$2+9","v":16}]
["",null,null,null,"",null,"",null,"","",null,"","",null,"",{"$f":"'100'!$C$2+9","v":16}]
["",null,null,null,"",null,"",null,"","",null,"","",null,"",{"$f":"'100'!$C$2+9","v":16}]
["",null,null,null,"",null,"",null,"","",null,"","",null,"",{"$f":"'100'!$C$2+9","v":16}]
["",null,null,null,"",null,"",null,"","",null,"","",null,"",{"$f":"'100'!$C$2+10","v":17}]
["",null,null,null,"",null,"",null,"","",null,"","",null,"",{"$f":"'100'!$C$2+10","v":17}]
["",null,null,null,"",null,"",null,"","",null,"","",null,"",{"$f":"'100'!$C$2+10","v":17}]
["",null,null,null,"",null,"",null,"","",null,"","",null,"",{"$f":"'100'!$C$2+10","v":17}]
["",null,null,null,"",null,"",null,"","",null,"","",null,"",{"$f":"'100'!$C$2+11","v":18}]
["",null,null,null,"",null,"",null,"","",null,"","",null,"",{"$f":"'100'!$C$2+11","v":18}]
["",null,null,null,"",null,"",null,"","",null,"","",null,"",{"$f":"'100'!$C$2+11","v":18}]
["",null,null,null,"",null,"",null,"","",null,"","",null,"",{"$f":"'100'!$C$2+11","v":18}]
["",null,null,null,"",null,"",null,"","",null,"","",null,"",{"$f":"'100'!$C$2+12","v":19}]
["",null,null,null,"",null,"",null,"","",null,"","",null,"",{"$f":"'100'!$C$2+12","v":19}]
["",null,null,null,"",null,"",null,"","",null,"","",null,"",{"$f":"'100'!$C$2+12","v":19}]
["",null,null,null,"",null,"",null,"","",null,"","",null,"",{"$f":"'100'!$C$2+12","v":19}]
[{"$f":"DBCS(IF(O55=\"\",\"\",RANK(O55,O$7:O$206,0)))","v":""},null,null,null,"",null,"",null,{"$f":"IF(H55=\"\",\"\",F55+H55)","v":""},"",null,{"$f":"IF(K55=\"\",\"\",K55+I55)","v":""},"",null,{"$f":"IF(AND(F55=\"\",H55=\"\",K55=\"\",N55=\"\"),\"\",F55+H55+K55+N55)","v":""},{"$f":"'100'!$C$2+13","v":20}]
["",null,null,null,"",null,"",null,"","",null,"","",null,"",{"$f":"'100'!$C$2+13","v":20}]
["",null,null,null,"",null,"",null,"","",null,"","",null,"",{"$f":"'100'!$C$2+13","v":20}]
["",null,null,null,"",null,"",null,"","",null,"","",null,"",{"$f":"'100'!$C$2+13","v":20}]
["",null,null,null,"",null,"",null,"","",null,"","",null,"",{"$f":"'100'!$C$2+14","v":21}]
["",null,null,null,"",null,"",null,"","",null,"","",null,"",{"$f":"'100'!$C$2+14","v":21}]
["",null,null,null,"",null,"",null,"","",null,"","",null,"",{"$f":"'100'!$C$2+14","v":21}]
["",null,null,null,"",null,"",null,"","",null,"","",null,"",{"$f":"'100'!$C$2+14","v":21}]
["",null,null,null,"",null,"",null,"","",null,"","",null,"",{"$f":"'100'!$C$2+15","v":22}]
["",null,null,null,"",null,"",null,"","",null,"","",null,"",{"$f":"'100'!$C$2+15","v":22}]
["",null,null,null,"",null,"",null,"","",null,"","",null,"",{"$f":"'100'!$C$2+15","v":22}]
["",null,null,null,"",null,"",null,"","",null,"","",null,"",{"$f":"'100'!$C$2+15","v":22}]
["",null,null,null,"",null,"",null,"","",null,"","",null,"",{"$f":"'100'!$C$2+16","v":23}]
["",null,null,null,"",null,"",null,"","",null,"","",null,"",{"$f":"'100'!$C$2+16","v":23}]
["",null,null,null,"",null,"",null,"","",null,"","",null,"",{"$f":"'100'!$C$2+16","v":23}]
["",null,null,null,"",null,"",null,"","",null,"","",null,"",{"$f":"'100'!$C$2+16","v":23}]
["",null,null,null,{"$f":"IF(C71=\"\",\"\",IF(ISNUMBER(E67),IF(E67<$C$2,E67+1,E67+1-$C$2),1))","v":""},null,"",null,"","",null,"","",null,"",{"$f":"'100'!$C$2+17","v":24}]
["",null,null,null,"",null,"",null,"","",null,"","",null,"",{"$f":"'100'!$C$2+17","v":24}]
["",null,null,null,"",null,"",null,"","",null,"","",null,"",{"$f":"'100'!$C$2+17","v":24}]
["",null,null,null,"",null,"",null,"","",null,"","",null,"",{"$f":"'100'!$C$2+17","v":24}]
["",null,null,null,"",null,"",null,"","",null,"","",null,"",{"$f":"'100'!$C$2+18","v":25}]
["",null,null,null,"",null,"",null,"","",null,"","",null,"",{"$f":"'100'!$C$2+18","v":25}]
["",null,null,null,"",null,"",null,"","",null,"","",null,"",{"$f":"'100'!$C$2+18","v":25}]
["",null,null,null,"",null,"",null,"","",null,"","",null,"",{"$f":"'100'!$C$2+18","v":25}]
["",null,null,null,"",null,"",null,"","",null,"","",null,"",{"$f":"'100'!$C$2+19","v":26}]
["",null,null,null,"",null,"",null,"","",null,"","",null,"",{"$f":"'100'!$C$2+19","v":26}]
["",null,null,null,"",null,"",null,"","",null,"","",null,"",{"$f":"'100'!$C$2+19","v":26}]
["",null,null,null,"",null,"",null,"","",null,"","",null,"",{"$f":"'100'!$C$2+19","v":26}]
["",null,null,null,"",null,"",null,"","",null,"","",null,"",{"$f":"'100'!$C$2+20","v":27}]
["",null,null,null,"",null,"",null,"","",null,"","",null,"",{"$f":"'100'!$C$2+20","v":27}]
["",null,null,null,"",null,"",null,"","",null,"","",null,"",{"$f":"'100'!$C$2+20","v":27}]
["",null,null,null,"",null,"",null,"","",null,"","",null,"",{"$f":"'100'!$C$2+20","v":27}]
["",null,null,null,"",null,"",null,"","",null,"","",null,"",{"$f":"'100'!$C$2+21","v":28}]
["",null,null,null,"",null,"",null,"","",null,"","",null,"",{"$f":"'100'!$C$2+21","v":28}]
["",null,null,null,"",null,"",null,"","",null,"","",null,"",{"$f":"'100'!$C$2+21","v":28}]
["",null,null,null,"",null,"",null,"","",null,"","",null,"",{"$f":"'100'!$C$2+21","v":28}]
["",null,null,null,"",null,"",null,"","",null,"","",null,"",{"$f":"'100'!$C$2+22","v":29}]
["",null,null,null,"",null,"",null,"","",null,"","",null,"",{"$f":"'100'!$C$2+22","v":29}]
["",null,null,null,"",null,"",null,"","",null,"","",null,"",{"$f":"'100'!$C$2+22","v":29}]
["",null,null,null,"",null,"",null,"","",null,"","",null,"",{"$f":"'100'!$C$2+22","v":29}]
["",null,null,null,"",null,"",null,"","",null,"","",null,"",{"$f":"'100'!$C$2+23","v":30}]
["",null,null,null,"",null,"",null,"","",null,"","",null,"",{"$f":"'100'!$C$2+23","v":30}]
["",null,null,null,"",null,"",null,"","",null,"","",null,"",{"$f":"'100'!$C$2+23","v":30}]
["",null,null,null,"",null,"",null,"","",null,"","",null,"",{"$f":"'100'!$C$2+23","v":30}]
["",null,null,null,"",null,"",null,"","",null,"","",null,"",{"$f":"'100'!$C$2+24","v":31}]
["",null,null,null,"",null,"",null,"","",null,"","",null,"",{"$f":"'100'!$C$2+24","v":31}]
["",null,null,null,"",null,"",null,"","",null,"","",null,"",{"$f":"'100'!$C$2+24","v":31}]
["",null,null,null,"",null,"",null,"","",null,"","",null,"",{"$f":"'100'!$C$2+24","v":31}]
["",null,null,null,{"$f":"IF(C103=\"\",\"\",IF(ISNUMBER(E99),IF(E99<$C$2,E99+1,E99+1-$C$2),1))","v":""},null,{"$f":"IF(F103=\"\",\"\",RANK(F103,F$7:F$206,0))","v":""},null,"",{"$f":"IF(I103=\"\",\"\",RANK(I103,I$7:I$206,0))","v":""},null,"",{"$f":"IF(L103=\"\",\"\",RANK(L103,L$7:L$206,0))","v":""},null,"",{"$f":"'100'!$C$2+25","v":32}]
["",null,null,null,"",null,"",null,"","",null,"","",null,"",{"$f":"'100'!$C$2+25","v":32}]
["",null,null,null,"",null,"",null,"","",null,"","",null,"",{"$f":"'100'!$C$2+25","v":32}]
["",null,null,null,"",null,"",null,"","",null,"","",null,"",{"$f":"'100'!$C$2+25","v":32}]
["",null,null,null,"",null,"",null,"","",null,"","",null,"",{"$f":"'100'!$C$2+26","v":33}]
["",null,null,null,"",null,"",null,"","",null,"","",null,"",{"$f":"'100'!$C$2+26","v":33}]
["",null,null,null,"",null,"",null,"","",null,"","",null,"",{"$f":"'100'!$C$2+26","v":33}]
["",null,null,null,"",null,"",null,"","",null,"","",null,"",{"$f":"'100'!$C$2+26","v":33}]
["",null,null,null,"",null,"",null,"","",null,"","",null,"",{"$f":"'100'!$C$2+27","v":34}]
["",null,null,null,"",null,"",null,"","",null,"","",null,"",{"$f":"'100'!$C$2+27","v":34}]
["",null,null,null,"",null,"",null,"","",null,"","",null,"",{"$f":"'100'!$C$2+27","v":34}]
["",null,null,null,"",null,"",null,"","",null,"","",null,"",{"$f":"'100'!$C$2+27","v":34}]
["",null,null,null,"",null,"",null,"","",null,"","",null,"",{"$f":"'100'!$C$2+28","v":35}]
["",null,null,null,"",null,"",null,"","",null,"","",null,"",{"$f":"'100'!$C$2+28","v":35}]
["",null,null,null,"",null,"",null,"","",null,"","",null,"",{"$f":"'100'!$C$2+28","v":35}]
["",null,null,null,"",null,"",null,"","",null,"","",null,"",{"$f":"'100'!$C$2+28","v":35}]
[{"$f":"DBCS(IF(O119=\"\",\"\",RANK(O119,O$7:O$206,0)))","v":""},null,null,null,"",null,"",null,{"$f":"IF(H119=\"\",\"\",F119+H119)","v":""},"",null,{"$f":"IF(K119=\"\",\"\",K119+I119)","v":""},"",null,{"$f":"IF(AND(F119=\"\",H119=\"\",K119=\"\",N119=\"\"),\"\",F119+H119+K119+N119)","v":""},{"$f":"'100'!$C$2+29","v":36}]
["",null,null,null,"",null,"",null,"","",null,"","",null,"",{"$f":"'100'!$C$2+29","v":36}]
["",null,null,null,"",null,"",null,"","",null,"","",null,"",{"$f":"'100'!$C$2+29","v":36}]
["",null,null,null,"",null,"",null,"","",null,"","",null,"",{"$f":"'100'!$C$2+29","v":36}]
["",null,null,null,"",null,"",null,"","",null,"","",null,"",{"$f":"'100'!$C$2+30","v":37}]
["",null,null,null,"",null,"",null,"","",null,"","",null,"",{"$f":"'100'!$C$2+30","v":37}]
["",null,null,null,"",null,"",null,"","",null,"","",null,"",{"$f":"'100'!$C$2+30","v":37}]
["",null,null,null,"",null,"",null,"","",null,"","",null,"",{"$f":"'100'!$C$2+30","v":37}]
["",null,null,null,"",null,"",null,"","",null,"","",null,"",{"$f":"'100'!$C$2+31","v":38}]
["",null,null,null,"",null,"",null,"","",null,"","",null,"",{"$f":"'100'!$C$2+31","v":38}]
["",null,null,null,"",null,"",null,"","",null,"","",null,"",{"$f":"'100'!$C$2+31","v":38}]
["",null,null,null,"",null,"",null,"","",null,"","",null,"",{"$f":"'100'!$C$2+31","v":38}]
["",null,null,null,"",null,"",null,"","",null,"","",null,"",{"$f":"'100'!$C$2+32","v":39}]
["",null,null,null,"",null,"",null,"","",null,"","",null,"",{"$f":"'100'!$C$2+32","v":39}]
["",null,null,null,"",null,"",null,"","",null,"","",null,"",{"$f":"'100'!$C$2+32","v":39}]
["",null,null,null,"",null,"",null,"","",null,"","",null,"",{"$f":"'100'!$C$2+32","v":39}]
["",null,null,null,{"$f":"IF(C135=\"\",\"\",IF(ISNUMBER(E131),IF(E131<$C$2,E131+1,E131+1-$C$2),1))","v":""},null,"",null,"","",null,"","",null,"",{"$f":"'100'!$C$2+33","v":40}]
["",null,null,null,"",null,"",null,"","",null,"","",null,"",{"$f":"'100'!$C$2+33","v":40}]
["",null,null,null,"",null,"",null,"","",null,"","",null,"",{"$f":"'100'!$C$2+33","v":40}]
["",null,null,null,"",null,"",null,"","",null,"","",null,"",{"$f":"'100'!$C$2+33","v":40}]
["",null,null,null,"",null,"",null,"","",null,"","",null,"",{"$f":"'100'!$C$2+34","v":41}]
["",null,null,null,"",null,"",null,"","",null,"","",null,"",{"$f":"'100'!$C$2+34","v":41}]
["",null,null,null,"",null,"",null,"","",null,"","",null,"",{"$f":"'100'!$C$2+34","v":41}]
["",null,null,null,"",null,"",null,"","",null,"","",null,"",{"$f":"'100'!$C$2+34","v":41}]
["",null,null,null,"",null,"",null,"","",null,"","",null,"",{"$f":"'100'!$C$2+35","v":42}]
["",null,null,null,"",null,"",null,"","",null,"","",null,"",{"$f":"'100'!$C$2+35","v":42}]
["",null,null,null,"",null,"",null,"","",null,"","",null,"",{"$f":"'100'!$C$2+35","v":42}]
["",null,null,null,"",null,"",null,"","",null,"","",null,"",{"$f":"'100'!$C$2+35","v":42}]
["",null,null,null,"",null,"",null,"","",null,"","",null,"",{"$f":"'100'!$C$2+36","v":43}]
["",null,null,null,"",null,"",null,"","",null,"","",null,"",{"$f":"'100'!$C$2+36","v":43}]
["",null,null,null,"",null,"",null,"","",null,"","",null,"",{"$f":"'100'!$C$2+36","v":43}]
["",null,null,null,"",null,"",null,"","",null,"","",null,"",{"$f":"'100'!$C$2+36","v":43}]
["",null,null,null,"",null,"",null,"","",null,"","",null,"",{"$f":"'100'!$C$2+37","v":44}]
["",null,null,null,"",null,"",null,"","",null,"","",null,"",{"$f":"'100'!$C$2+37","v":44}]
["",null,null,null,"",null,"",null,"","",null,"","",null,"",{"$f":"'100'!$C$2+37","v":44}]
["",null,null,null,"",null,"",null,"","",null,"","",null,"",{"$f":"'100'!$C$2+37","v":44}]
["",null,null,null,"",null,"",null,"","",null,"","",null,"",{"$f":"'100'!$C$2+38","v":45}]
["",null,null,null,"",null,"",null,"","",null,"","",null,"",{"$f":"'100'!$C$2+38","v":45}]
["",null,null,null,"",null,"",null,"","",null,"","",null,"",{"$f":"'100'!$C$2+38","v":45}]
["",null,null,null,"",null,"",null,"","",null,"","",null,"",{"$f":"'100'!$C$2+38","v":45}]
["",null,null,null,"",null,"",null,"","",null,"","",null,"",{"$f":"'100'!$C$2+39","v":46}]
["",null,null,null,"",null,"",null,"","",null,"","",null,"",{"$f":"'100'!$C$2+39","v":46}]
["",null,null,null,"",null,"",null,"","",null,"","",null,"",{"$f":"'100'!$C$2+39","v":46}]
["",null,null,null,"",null,"",null,"","",null,"","",null,"",{"$f":"'100'!$C$2+39","v":46}]
["",null,null,null,"",null,"",null,"","",null,"","",null,"",{"$f":"'100'!$C$2+40","v":47}]
["",null,null,null,"",null,"",null,"","",null,"","",null,"",{"$f":"'100'!$C$2+40","v":47}]
["",null,null,null,"",null,"",null,"","",null,"","",null,"",{"$f":"'100'!$C$2+40","v":47}]
["",null,null,null,"",null,"",null,"","",null,"","",null,"",{"$f":"'100'!$C$2+40","v":47}]
["",null,null,null,{"$f":"IF(C167=\"\",\"\",IF(ISNUMBER(E163),IF(E163<$C$2,E163+1,E163+1-$C$2),1))","v":""},null,{"$f":"IF(F167=\"\",\"\",RANK(F167,F$7:F$206,0))","v":""},null,"",{"$f":"IF(I167=\"\",\"\",RANK(I167,I$7:I$206,0))","v":""},null,"",{"$f":"IF(L167=\"\",\"\",RANK(L167,L$7:L$206,0))","v":""},null,"",{"$f":"'100'!$C$2+41","v":48}]
["",null,null,null,"",null,"",null,"","",null,"","",null,"",{"$f":"'100'!$C$2+41","v":48}]
["",null,null,null,"",null,"",null,"","",null,"","",null,"",{"$f":"'100'!$C$2+41","v":48}]
["",null,null,null,"",null,"",null,"","",null,"","",null,"",{"$f":"'100'!$C$2+41","v":48}]
["",null,null,null,"",null,"",null,"","",null,"","",null,"",{"$f":"'100'!$C$2+42","v":49}]
["",null,null,null,"",null,"",null,"","",null,"","",null,"",{"$f":"'100'!$C$2+42","v":49}]
["",null,null,null,"",null,"",null,"","",null,"","",null,"",{"$f":"'100'!$C$2+42","v":49}]
["",null,null,null,"",null,"",null,"","",null,"","",null,"",{"$f":"'100'!$C$2+42","v":49}]
["",null,null,null,"",null,"",null,"","",null,"","",null,"",{"$f":"'100'!$C$2+43","v":50}]
["",null,null,null,"",null,"",null,"","",null,"","",null,"",{"$f":"'100'!$C$2+43","v":50}]
["",null,null,null,"",null,"",null,"","",null,"","",null,"",{"$f":"'100'!$C$2+43","v":50}]
["",null,null,null,"",null,"",null,"","",null,"","",null,"",{"$f":"'100'!$C$2+43","v":50}]
["",null,null,null,"",null,"",null,"","",null,"","",null,"",{"$f":"'100'!$C$2+44","v":51}]
["",null,null,null,"",null,"",null,"","",null,"","",null,"",{"$f":"'100'!$C$2+44","v":51}]
["",null,null,null,"",null,"",null,"","",null,"","",null,"",{"$f":"'100'!$C$2+44","v":51}]
["",null,null,null,"",null,"",null,"","",null,"","",null,"",{"$f":"'100'!$C$2+44","v":51}]
[{"$f":"DBCS(IF(O183=\"\",\"\",RANK(O183,O$7:O$206,0)))","v":""},null,null,null,"",null,"",null,{"$f":"IF(H183=\"\",\"\",F183+H183)","v":""},"",null,{"$f":"IF(K183=\"\",\"\",K183+I183)","v":""},"",null,{"$f":"IF(AND(F183=\"\",H183=\"\",K183=\"\",N183=\"\"),\"\",F183+H183+K183+N183)","v":""},{"$f":"'100'!$C$2+45","v":52}]
["",null,null,null,"",null,"",null,"","",null,"","",null,"",{"$f":"'100'!$C$2+45","v":52}]
["",null,null,null,"",null,"",null,"","",null,"","",null,"",{"$f":"'100'!$C$2+45","v":52}]
["",null,null,null,"",null,"",null,"","",null,"","",null,"",{"$f":"'100'!$C$2+45","v":52}]
["",null,null,null,"",null,"",null,"","",null,"","",null,"",{"$f":"'100'!$C$2+46","v":53}]
["",null,null,null,"",null,"",null,"","",null,"","",null,"",{"$f":"'100'!$C$2+46","v":53}]
["",null,null,null,"",null,"",null,"","",null,"","",null,"",{"$f":"'100'!$C$2+46","v":53}]
["",null,null,null,"",null,"",null,"","",null,"","",null,"",{"$f":"'100'!$C$2+46","v":53}]
["",null,null,null,"",null,"",null,"","",null,"","",null,"",{"$f":"'100'!$C$2+47","v":54}]
["",null,null,null,"",null,"",null,"","",null,"","",null,"",{"$f":"'100'!$C$2+47","v":54}]
["",null,null,null,"",null,"",null,"","",null,"","",null,"",{"$f":"'100'!$C$2+47","v":54}]
["",null,null,null,"",null,"",null,"","",null,"","",null,"",{"$f":"'100'!$C$2+47","v":54}]
["",null,null,null,"",null,"",null,"","",null,"","",null,"",{"$f":"'100'!$C$2+48","v":55}]
["",null,null,null,"",null,"",null,"","",null,"","",null,"",{"$f":"'100'!$C$2+48","v":55}]
["",null,null,null,"",null,"",null,"","",null,"","",null,"",{"$f":"'100'!$C$2+48","v":55}]
["",null,null,null,"",null,"",null,"","",null,"","",null,"",{"$f":"'100'!$C$2+48","v":55}]
["",null,null,null,{"$f":"IF(C199=\"\",\"\",IF(ISNUMBER(E195),IF(E195<$C$2,E195+1,E195+1-$C$2),1))","v":""},null,"",null,"","",null,"","",null,"",{"$f":"'100'!$C$2+49","v":56}]
["",null,null,null,"",null,"",null,"","",null,"","",null,"",{"$f":"'100'!$C$2+49","v":56}]
["",null,null,null,"",null,"",null,"","",null,"","",null,"",{"$f":"'100'!$C$2+49","v":56}]
["",null,null,null,"",null,"",null,"","",null,"","",null,"",{"$f":"'100'!$C$2+49","v":56}]
["",null,null,null,"",null,"",null,"","",null,"","",null,"",{"$f":"'100'!$C$2+50","v":57}]
["",null,null,null,"",null,"",null,"","",null,"","",null,"",{"$f":"'100'!$C$2+50","v":57}]
["",null,null,null,"",null,"",null,"","",null,"","",null,"",{"$f":"'100'!$C$2+50","v":57}]
["",null,null,null,"",null,"",null,"","",null,"","",null,"",{"$f":"'100'!$C$2+50","v":57}]
[null,null,null,null,null,{"$f":"SUM(F7:F206)","v":0},null,{"$f":"SUM(H7:H206)","v":0},null,null,{"$f":"SUM(K7:K206)","v":0},null,null,{"$f":"SUM(N7:N206)","v":0},{"$f":"SUM(O7:O206)","v":0}]
[null,null,null,null,null,{"$f":"MOD(COUNT(F7:F206), 4)","v":0},null,{"$f":"MOD(COUNT(H7:H206), 4)","v":0},null,null,{"$f":"MOD(COUNT(K7:K206), 4)","v":0},null,null,{"$f":"MOD(COUNT(N7:N206), 4)","v":0}]